BEGIN:VCALENDAR
VERSION:2.0
PRODID:-//Harmony Centre Owen Sound - ECPv6.11.0.1//NONSGML v1.0//EN
CALSCALE:GREGORIAN
METHOD:PUBLISH
X-ORIGINAL-URL:https://harmonycentre.ca
X-WR-CALDESC:Events for Harmony Centre Owen Sound
REFRESH-INTERVAL;VALUE=DURATION:PT1H
X-Robots-Tag:noindex
X-PUBLISHED-TTL:PT1H
BEGIN:VTIMEZONE
TZID:America/Toronto
BEGIN:DAYLIGHT
TZOFFSETFROM:-0500
TZOFFSETTO:-0400
TZNAME:EDT
DTSTART:20260308T070000
END:DAYLIGHT
BEGIN:STANDARD
TZOFFSETFROM:-0400
TZOFFSETTO:-0500
TZNAME:EST
DTSTART:20261101T060000
END:STANDARD
END:VTIMEZONE
BEGIN:VEVENT
DTSTART;TZID=America/Toronto:20260517T103000
DTEND;TZID=America/Toronto:20260517T120000
DTSTAMP:20260425T065517
CREATED:20250930T184143Z
LAST-MODIFIED:20250930T184143Z
UID:10007472-1779013800-1779019200@harmonycentre.ca
SUMMARY:Solidarity Sundays
DESCRIPTION:All ages\, community building hang-out with crafts\, games\, music\, tea and coffee. Please bring a snack to share and a small cash donation! Happening Sundays at the Harmony Centre from October 19th 2025 through to April 26th\, 2026!
URL:https://harmonycentre.ca/event/solidarity-sundays-2/2026-05-17
CATEGORIES:Groups,Music,Things to do
ATTACH;FMTTYPE=image/png:https://harmonycentre.ca/wp-content/uploads/2025/09/SolSun-2025-2026-Poster-09a2d255d528a422c17130b90882717f.png
END:VEVENT
BEGIN:VEVENT
DTSTART;TZID=America/Toronto:20260517T183000
DTEND;TZID=America/Toronto:20260517T200000
DTSTAMP:20260425T065517
CREATED:20250827T150016Z
LAST-MODIFIED:20250917T152149Z
UID:10006355-1779042600-1779048000@harmonycentre.ca
SUMMARY:Rock the Sound Choir
DESCRIPTION:Holly Sled’s Rock the Sound Choir is back – sign up for a welcoming singing experience with rock’n’roll repertoire – early bird pricing is up until August 20! \nRegister here.
URL:https://harmonycentre.ca/event/rock-the-sound-choir-2/2026-05-17
CATEGORIES:Music,Sing,Things to do
ATTACH;FMTTYPE=image/jpeg:https://harmonycentre.ca/wp-content/uploads/2025/08/image-4.jpeg
END:VEVENT
BEGIN:VEVENT
DTSTART;TZID=America/Toronto:20260519T090000
DTEND;TZID=America/Toronto:20260519T210000
DTSTAMP:20260425T065517
CREATED:20250904T190401Z
LAST-MODIFIED:20250904T194905Z
UID:10007068-1779181200-1779224400@harmonycentre.ca
SUMMARY:Guitar Lessons & Workshops
DESCRIPTION:Call or text Gary for info on lessons and workshops at 365 889 4784 \nGary will arrange classes and workshops with interested students at a mutually available time and date when they call or text him for info. \nTuesdays are currently the preferred day for September startup.
URL:https://harmonycentre.ca/event/lessons-workshops/2026-05-19
CATEGORIES:Classes,Music,Things to do
ATTACH;FMTTYPE=image/jpeg:https://harmonycentre.ca/wp-content/uploads/2025/09/image-1.jpeg
END:VEVENT
BEGIN:VEVENT
DTSTART;TZID=America/Toronto:20260523T193000
DTEND;TZID=America/Toronto:20260523T213000
DTSTAMP:20260425T065517
CREATED:20260331T160505Z
LAST-MODIFIED:20260331T163534Z
UID:10008128-1779564600-1779571800@harmonycentre.ca
SUMMARY:Earth Song Collective Concert
DESCRIPTION:Earth Song Collective\nEarth Song Collective is a curated concert that weaves together live music and evocative imagery in celebration of our planet. It’s an uplifting evening dedicated to inspiration\, reverence\, and a shared love for the Earth. This is a community Fundraiser for The Sustainability Project. \nFeaturing Randy Martin\, Jesse Corrigan\, david sereda\, Heather Saumer\, Mark Mariash\, Lydia Dyck\, Ian Harper\, and Isaiah Walters. \n\n\nDate: Saturday\, May 23 \n\n\nDoors: 7:00 PM | Concert: 7:30 PM \n\nTickets: $25 via Eventbrite and at the door | Children 12 & under FREE\n\nBenefiting: The Sustainability Project | thesustainabilityproject.ca
URL:https://harmonycentre.ca/event/earth-song-collective-concert
CATEGORIES:Music,Performances
ATTACH;FMTTYPE=image/png:https://harmonycentre.ca/wp-content/uploads/2026/03/Earth-Song-Collective_Poster-For-MAGAZINE_ADS.png
END:VEVENT
BEGIN:VEVENT
DTSTART;TZID=America/Toronto:20260524T103000
DTEND;TZID=America/Toronto:20260524T120000
DTSTAMP:20260425T065517
CREATED:20250930T184143Z
LAST-MODIFIED:20250930T184143Z
UID:10007473-1779618600-1779624000@harmonycentre.ca
SUMMARY:Solidarity Sundays
DESCRIPTION:All ages\, community building hang-out with crafts\, games\, music\, tea and coffee. Please bring a snack to share and a small cash donation! Happening Sundays at the Harmony Centre from October 19th 2025 through to April 26th\, 2026!
URL:https://harmonycentre.ca/event/solidarity-sundays-2/2026-05-24
CATEGORIES:Groups,Music,Things to do
ATTACH;FMTTYPE=image/png:https://harmonycentre.ca/wp-content/uploads/2025/09/SolSun-2025-2026-Poster-09a2d255d528a422c17130b90882717f.png
END:VEVENT
BEGIN:VEVENT
DTSTART;TZID=America/Toronto:20260524T153000
DTEND;TZID=America/Toronto:20260524T180000
DTSTAMP:20260425T065517
CREATED:20260216T161228Z
LAST-MODIFIED:20260226T142228Z
UID:10007793-1779636600-1779645600@harmonycentre.ca
SUMMARY:Jamming Workshops
DESCRIPTION:A Creative Lab for Musical Experimentation\nWith the Psyche Street JamBand\nJoin our diverse diverse group for a fun jam workshop! \nJamming builds community\, sharpens your ear\, and keeps music exciting. It thrives on listening\, flexibility\, and the freedom to take risks beyond structured rehearsals—unlocking fresh\, unexpected ideas. Exploring multiple genres turns every session into a spontaneous creative conversation. Come play\, experiment\, and have fun! 🎶 \n— \nThe workshops will cover everything from setting up strategies to jamming in various scenarios. \nBring your voice and an instrument\, or two. (Preferably acoustic or lightly amplified ) \nEvery other Sunday in the Studio 1. \n$10 or pay what you can. \nFor more information\, email tonyqbeach@gmail.com.
URL:https://harmonycentre.ca/event/jamming-and-small-gig-workshop-2/2026-05-24
CATEGORIES:Groups,Music
ATTACH;FMTTYPE=image/jpeg:https://harmonycentre.ca/wp-content/uploads/2026/02/image0-1.jpeg
END:VEVENT
BEGIN:VEVENT
DTSTART;TZID=America/Toronto:20260524T183000
DTEND;TZID=America/Toronto:20260524T200000
DTSTAMP:20260425T065517
CREATED:20250827T150016Z
LAST-MODIFIED:20250917T152149Z
UID:10006356-1779647400-1779652800@harmonycentre.ca
SUMMARY:Rock the Sound Choir
DESCRIPTION:Holly Sled’s Rock the Sound Choir is back – sign up for a welcoming singing experience with rock’n’roll repertoire – early bird pricing is up until August 20! \nRegister here.
URL:https://harmonycentre.ca/event/rock-the-sound-choir-2/2026-05-24
CATEGORIES:Music,Sing,Things to do
ATTACH;FMTTYPE=image/jpeg:https://harmonycentre.ca/wp-content/uploads/2025/08/image-4.jpeg
END:VEVENT
BEGIN:VEVENT
DTSTART;TZID=America/Toronto:20260526T090000
DTEND;TZID=America/Toronto:20260526T210000
DTSTAMP:20260425T065517
CREATED:20250904T190401Z
LAST-MODIFIED:20250904T194905Z
UID:10007069-1779786000-1779829200@harmonycentre.ca
SUMMARY:Guitar Lessons & Workshops
DESCRIPTION:Call or text Gary for info on lessons and workshops at 365 889 4784 \nGary will arrange classes and workshops with interested students at a mutually available time and date when they call or text him for info. \nTuesdays are currently the preferred day for September startup.
URL:https://harmonycentre.ca/event/lessons-workshops/2026-05-26
CATEGORIES:Classes,Music,Things to do
ATTACH;FMTTYPE=image/jpeg:https://harmonycentre.ca/wp-content/uploads/2025/09/image-1.jpeg
END:VEVENT
BEGIN:VEVENT
DTSTART;TZID=America/Toronto:20260530T173000
DTEND;TZID=America/Toronto:20260530T213000
DTSTAMP:20260425T065517
CREATED:20260408T181339Z
LAST-MODIFIED:20260408T181339Z
UID:10008130-1780162200-1780176600@harmonycentre.ca
SUMMARY:Murder in the Commons Dinner Theatre
DESCRIPTION:Step into a shadowy world of intrigue\, laughter\, and delicious food as Murder in the Commons comes to Harmony Centre Owen Sound.\n\n\nOn Saturday\, May 30\, 2026\, Harmony Centre is transformed into a live crime scene for an immersive dinner-theatre experience where nothing is quite what it seems. Guests will enjoy a sumptuous three-course dinner while a cast of suspicious characters\, unexpected encounters\, and hilarious plot twists unfold all around them. \nThe evening begins with a reception at 5:30 pm\, followed by the murder at 6:30 pm. As clues emerge and alliances shift\, audience members are invited to play detective — or simply sit back and enjoy the show. One thing’s certain: you’ll die laughing. \nEvening Experience & Menu: Begin your evening at 5:30 pm with a reception in The Commons and live jazzy ’40s–’50s music featuring Karen May\, a cash bar\, and a selection of hors d’oeuvres including spring rolls\, spanakopita\, Thai meatballs\, and mushroom croustades. \nDinner follows in the Greaves Auditorium\, with a plated three-course meal crafted from seasonal\, locally sourced ingredients: a mixed greens salad with maple mustard vinaigrette\, followed by herb- and Parmesan-stuffed chicken with roasted garlic mashed potatoes and seasonal vegetables. Finish with lemon buttercream cake\, served with coffee and tea. Vegan and gluten-free options available. \nOptional but Encouraged: Dress like your favourite ’40s/’50s film noir character character — fedoras\, dinner jackets\, evening gowns… nothing elaborate is required — something as simple as a white shirt and suspenders will add a touch of atmosphere! \n \nThe Venue: The recent replacement of pews in the Greaves Auditorium with movable seating allows us to transform this majestic\, soaring space into an ideal setting for dinner theatre. With its remarkable acoustics and renewed flexibility\, it provides a stunning backdrop for Murder in the Commons. We look forward to showcasing this beautifully reimagined multi-purpose venue! \nEntertainment: A professional Toronto-based ensemble leads the evening’s intrigue\, joined by local personalities and special guests. \nTickets are limited and selling fast.  Get your’s now.
URL:https://harmonycentre.ca/event/murder-in-the-commons-dinner-theatre
CATEGORIES:Music,Performances,Things to do
ATTACH;FMTTYPE=image/jpeg:https://harmonycentre.ca/wp-content/uploads/2026/04/image.jpeg
END:VEVENT
BEGIN:VEVENT
DTSTART;TZID=America/Toronto:20260531T103000
DTEND;TZID=America/Toronto:20260531T120000
DTSTAMP:20260425T065517
CREATED:20250930T184143Z
LAST-MODIFIED:20250930T184143Z
UID:10007474-1780223400-1780228800@harmonycentre.ca
SUMMARY:Solidarity Sundays
DESCRIPTION:All ages\, community building hang-out with crafts\, games\, music\, tea and coffee. Please bring a snack to share and a small cash donation! Happening Sundays at the Harmony Centre from October 19th 2025 through to April 26th\, 2026!
URL:https://harmonycentre.ca/event/solidarity-sundays-2/2026-05-31
CATEGORIES:Groups,Music,Things to do
ATTACH;FMTTYPE=image/png:https://harmonycentre.ca/wp-content/uploads/2025/09/SolSun-2025-2026-Poster-09a2d255d528a422c17130b90882717f.png
END:VEVENT
BEGIN:VEVENT
DTSTART;TZID=America/Toronto:20260531T183000
DTEND;TZID=America/Toronto:20260531T200000
DTSTAMP:20260425T065517
CREATED:20250827T150016Z
LAST-MODIFIED:20250917T152149Z
UID:10006357-1780252200-1780257600@harmonycentre.ca
SUMMARY:Rock the Sound Choir
DESCRIPTION:Holly Sled’s Rock the Sound Choir is back – sign up for a welcoming singing experience with rock’n’roll repertoire – early bird pricing is up until August 20! \nRegister here.
URL:https://harmonycentre.ca/event/rock-the-sound-choir-2/2026-05-31
CATEGORIES:Music,Sing,Things to do
ATTACH;FMTTYPE=image/jpeg:https://harmonycentre.ca/wp-content/uploads/2025/08/image-4.jpeg
END:VEVENT
BEGIN:VEVENT
DTSTART;TZID=America/Toronto:20260602T090000
DTEND;TZID=America/Toronto:20260602T210000
DTSTAMP:20260425T065517
CREATED:20250904T190401Z
LAST-MODIFIED:20250904T194905Z
UID:10007070-1780390800-1780434000@harmonycentre.ca
SUMMARY:Guitar Lessons & Workshops
DESCRIPTION:Call or text Gary for info on lessons and workshops at 365 889 4784 \nGary will arrange classes and workshops with interested students at a mutually available time and date when they call or text him for info. \nTuesdays are currently the preferred day for September startup.
URL:https://harmonycentre.ca/event/lessons-workshops/2026-06-02
CATEGORIES:Classes,Music,Things to do
ATTACH;FMTTYPE=image/jpeg:https://harmonycentre.ca/wp-content/uploads/2025/09/image-1.jpeg
END:VEVENT
BEGIN:VEVENT
DTSTART;TZID=America/Toronto:20260607T103000
DTEND;TZID=America/Toronto:20260607T120000
DTSTAMP:20260425T065517
CREATED:20250930T184143Z
LAST-MODIFIED:20250930T184143Z
UID:10007475-1780828200-1780833600@harmonycentre.ca
SUMMARY:Solidarity Sundays
DESCRIPTION:All ages\, community building hang-out with crafts\, games\, music\, tea and coffee. Please bring a snack to share and a small cash donation! Happening Sundays at the Harmony Centre from October 19th 2025 through to April 26th\, 2026!
URL:https://harmonycentre.ca/event/solidarity-sundays-2/2026-06-07
CATEGORIES:Groups,Music,Things to do
ATTACH;FMTTYPE=image/png:https://harmonycentre.ca/wp-content/uploads/2025/09/SolSun-2025-2026-Poster-09a2d255d528a422c17130b90882717f.png
END:VEVENT
BEGIN:VEVENT
DTSTART;TZID=America/Toronto:20260607T130000
DTEND;TZID=America/Toronto:20260607T150000
DTSTAMP:20260425T065517
CREATED:20250930T183108Z
LAST-MODIFIED:20250930T183440Z
UID:10007390-1780837200-1780844400@harmonycentre.ca
SUMMARY:Get Yer CELTIC on!
DESCRIPTION:Do you… Love the sound of Celtic music? \nAre you… Unable to stop your feet moving to the sound of a lively Jig or Reel? \nCan you… Play a scale on a Fiddle? Banjo? Mandolin? Guitar? Pennywhistle? Flute? Harmonica? Accordion? Concertina? Harp? Piano? Your great Aunt Lavinia’s false teeth? \nIf you answered yes… then you have all it takes to Get yer CELTIC on! Come join our informal group of celt(ish) folks who meet to talk and learn and play tunes together on Sunday afternoons. \nTunes are taught the old way\, by ear\, phrase-by-phrase – together in community. You just need a basic playing ability on your instrument – we’ll come alongside you wherever you are on your musical journey and get you up to speed… faster than a Kerry polka. It’s good craie! \nJoin us and check it out – first and third Sundays of the month 1:00 pm to 3:00 pm in the Harmony Centre Boardroom – all you need is your instrument and $3 per person. \nContact: iain@sandon.ca
URL:https://harmonycentre.ca/event/get-yer-celtic-on-3-2-2/2026-06-07
CATEGORIES:Classes,Music,Things to do
ATTACH;FMTTYPE=image/jpeg:https://harmonycentre.ca/wp-content/uploads/2024/05/Get-yer-Celtic-on.jpg
END:VEVENT
BEGIN:VEVENT
DTSTART;TZID=America/Toronto:20260607T153000
DTEND;TZID=America/Toronto:20260607T180000
DTSTAMP:20260425T065517
CREATED:20260216T161228Z
LAST-MODIFIED:20260226T142228Z
UID:10007794-1780846200-1780855200@harmonycentre.ca
SUMMARY:Jamming Workshops
DESCRIPTION:A Creative Lab for Musical Experimentation\nWith the Psyche Street JamBand\nJoin our diverse diverse group for a fun jam workshop! \nJamming builds community\, sharpens your ear\, and keeps music exciting. It thrives on listening\, flexibility\, and the freedom to take risks beyond structured rehearsals—unlocking fresh\, unexpected ideas. Exploring multiple genres turns every session into a spontaneous creative conversation. Come play\, experiment\, and have fun! 🎶 \n— \nThe workshops will cover everything from setting up strategies to jamming in various scenarios. \nBring your voice and an instrument\, or two. (Preferably acoustic or lightly amplified ) \nEvery other Sunday in the Studio 1. \n$10 or pay what you can. \nFor more information\, email tonyqbeach@gmail.com.
URL:https://harmonycentre.ca/event/jamming-and-small-gig-workshop-2/2026-06-07
CATEGORIES:Groups,Music
ATTACH;FMTTYPE=image/jpeg:https://harmonycentre.ca/wp-content/uploads/2026/02/image0-1.jpeg
END:VEVENT
BEGIN:VEVENT
DTSTART;TZID=America/Toronto:20260607T183000
DTEND;TZID=America/Toronto:20260607T200000
DTSTAMP:20260425T065517
CREATED:20250827T150016Z
LAST-MODIFIED:20250917T152149Z
UID:10006358-1780857000-1780862400@harmonycentre.ca
SUMMARY:Rock the Sound Choir
DESCRIPTION:Holly Sled’s Rock the Sound Choir is back – sign up for a welcoming singing experience with rock’n’roll repertoire – early bird pricing is up until August 20! \nRegister here.
URL:https://harmonycentre.ca/event/rock-the-sound-choir-2/2026-06-07
CATEGORIES:Music,Sing,Things to do
ATTACH;FMTTYPE=image/jpeg:https://harmonycentre.ca/wp-content/uploads/2025/08/image-4.jpeg
END:VEVENT
BEGIN:VEVENT
DTSTART;TZID=America/Toronto:20260609T090000
DTEND;TZID=America/Toronto:20260609T210000
DTSTAMP:20260425T065517
CREATED:20250904T190401Z
LAST-MODIFIED:20250904T194905Z
UID:10007071-1780995600-1781038800@harmonycentre.ca
SUMMARY:Guitar Lessons & Workshops
DESCRIPTION:Call or text Gary for info on lessons and workshops at 365 889 4784 \nGary will arrange classes and workshops with interested students at a mutually available time and date when they call or text him for info. \nTuesdays are currently the preferred day for September startup.
URL:https://harmonycentre.ca/event/lessons-workshops/2026-06-09
CATEGORIES:Classes,Music,Things to do
ATTACH;FMTTYPE=image/jpeg:https://harmonycentre.ca/wp-content/uploads/2025/09/image-1.jpeg
END:VEVENT
BEGIN:VEVENT
DTSTART;TZID=America/Toronto:20260614T103000
DTEND;TZID=America/Toronto:20260614T120000
DTSTAMP:20260425T065517
CREATED:20250930T184143Z
LAST-MODIFIED:20250930T184143Z
UID:10007476-1781433000-1781438400@harmonycentre.ca
SUMMARY:Solidarity Sundays
DESCRIPTION:All ages\, community building hang-out with crafts\, games\, music\, tea and coffee. Please bring a snack to share and a small cash donation! Happening Sundays at the Harmony Centre from October 19th 2025 through to April 26th\, 2026!
URL:https://harmonycentre.ca/event/solidarity-sundays-2/2026-06-14
CATEGORIES:Groups,Music,Things to do
ATTACH;FMTTYPE=image/png:https://harmonycentre.ca/wp-content/uploads/2025/09/SolSun-2025-2026-Poster-09a2d255d528a422c17130b90882717f.png
END:VEVENT
BEGIN:VEVENT
DTSTART;TZID=America/Toronto:20260614T110000
DTEND;TZID=America/Toronto:20260614T123000
DTSTAMP:20260425T065517
CREATED:20260405T180908Z
LAST-MODIFIED:20260416T170002Z
UID:10008131-1781434800-1781440200@harmonycentre.ca
SUMMARY:The Cat Came Back: Songs and Stories of Fred Penner
DESCRIPTION:The Cat Came Back: Songs and Stories of Fred Penner is a fun\, interactive family concert celebrating the music and stories generations have grown up with. \n⭐ Starring Thom Danger Speck and his band\, performing the songs kids (and parents) love. \n🎤 Classic songs like The Cat Came Back\, Sandwiches and more. \n👨‍👩‍👧‍👦 Fun for children\, parents\, and grandparents \nJoin us at the Harmony Centre in Owen Sound for a fun morning of music\, laughter\, and family memories. \nApprox. 60–75 minutes\, no intermission. \nPerfect for ages 3+ (fun for the whole family). \nLimited seating — tickets are expected to go quickly.
URL:https://harmonycentre.ca/event/the-cat-came-back-songs-and-stories-of-fred-penner
CATEGORIES:Kids,Music,Performances
ATTACH;FMTTYPE=image/png:https://harmonycentre.ca/wp-content/uploads/2026/04/owen-sound-penner-927-x-1200-px-a85a0b2dfdc16d75d31e3a545978f660.png
END:VEVENT
BEGIN:VEVENT
DTSTART;TZID=America/Toronto:20260614T183000
DTEND;TZID=America/Toronto:20260614T200000
DTSTAMP:20260425T065517
CREATED:20250827T150016Z
LAST-MODIFIED:20250917T152149Z
UID:10006359-1781461800-1781467200@harmonycentre.ca
SUMMARY:Rock the Sound Choir
DESCRIPTION:Holly Sled’s Rock the Sound Choir is back – sign up for a welcoming singing experience with rock’n’roll repertoire – early bird pricing is up until August 20! \nRegister here.
URL:https://harmonycentre.ca/event/rock-the-sound-choir-2/2026-06-14
CATEGORIES:Music,Sing,Things to do
ATTACH;FMTTYPE=image/jpeg:https://harmonycentre.ca/wp-content/uploads/2025/08/image-4.jpeg
END:VEVENT
BEGIN:VEVENT
DTSTART;TZID=America/Toronto:20260616T090000
DTEND;TZID=America/Toronto:20260616T210000
DTSTAMP:20260425T065517
CREATED:20250904T190401Z
LAST-MODIFIED:20250904T194905Z
UID:10007072-1781600400-1781643600@harmonycentre.ca
SUMMARY:Guitar Lessons & Workshops
DESCRIPTION:Call or text Gary for info on lessons and workshops at 365 889 4784 \nGary will arrange classes and workshops with interested students at a mutually available time and date when they call or text him for info. \nTuesdays are currently the preferred day for September startup.
URL:https://harmonycentre.ca/event/lessons-workshops/2026-06-16
CATEGORIES:Classes,Music,Things to do
ATTACH;FMTTYPE=image/jpeg:https://harmonycentre.ca/wp-content/uploads/2025/09/image-1.jpeg
END:VEVENT
BEGIN:VEVENT
DTSTART;TZID=America/Toronto:20260621T103000
DTEND;TZID=America/Toronto:20260621T120000
DTSTAMP:20260425T065517
CREATED:20250930T184143Z
LAST-MODIFIED:20250930T184143Z
UID:10007477-1782037800-1782043200@harmonycentre.ca
SUMMARY:Solidarity Sundays
DESCRIPTION:All ages\, community building hang-out with crafts\, games\, music\, tea and coffee. Please bring a snack to share and a small cash donation! Happening Sundays at the Harmony Centre from October 19th 2025 through to April 26th\, 2026!
URL:https://harmonycentre.ca/event/solidarity-sundays-2/2026-06-21
CATEGORIES:Groups,Music,Things to do
ATTACH;FMTTYPE=image/png:https://harmonycentre.ca/wp-content/uploads/2025/09/SolSun-2025-2026-Poster-09a2d255d528a422c17130b90882717f.png
END:VEVENT
BEGIN:VEVENT
DTSTART;TZID=America/Toronto:20260621T153000
DTEND;TZID=America/Toronto:20260621T180000
DTSTAMP:20260425T065517
CREATED:20260216T161228Z
LAST-MODIFIED:20260226T142228Z
UID:10007795-1782055800-1782064800@harmonycentre.ca
SUMMARY:Jamming Workshops
DESCRIPTION:A Creative Lab for Musical Experimentation\nWith the Psyche Street JamBand\nJoin our diverse diverse group for a fun jam workshop! \nJamming builds community\, sharpens your ear\, and keeps music exciting. It thrives on listening\, flexibility\, and the freedom to take risks beyond structured rehearsals—unlocking fresh\, unexpected ideas. Exploring multiple genres turns every session into a spontaneous creative conversation. Come play\, experiment\, and have fun! 🎶 \n— \nThe workshops will cover everything from setting up strategies to jamming in various scenarios. \nBring your voice and an instrument\, or two. (Preferably acoustic or lightly amplified ) \nEvery other Sunday in the Studio 1. \n$10 or pay what you can. \nFor more information\, email tonyqbeach@gmail.com.
URL:https://harmonycentre.ca/event/jamming-and-small-gig-workshop-2/2026-06-21
CATEGORIES:Groups,Music
ATTACH;FMTTYPE=image/jpeg:https://harmonycentre.ca/wp-content/uploads/2026/02/image0-1.jpeg
END:VEVENT
BEGIN:VEVENT
DTSTART;TZID=America/Toronto:20260621T183000
DTEND;TZID=America/Toronto:20260621T200000
DTSTAMP:20260425T065517
CREATED:20250827T150016Z
LAST-MODIFIED:20250917T152149Z
UID:10006360-1782066600-1782072000@harmonycentre.ca
SUMMARY:Rock the Sound Choir
DESCRIPTION:Holly Sled’s Rock the Sound Choir is back – sign up for a welcoming singing experience with rock’n’roll repertoire – early bird pricing is up until August 20! \nRegister here.
URL:https://harmonycentre.ca/event/rock-the-sound-choir-2/2026-06-21
CATEGORIES:Music,Sing,Things to do
ATTACH;FMTTYPE=image/jpeg:https://harmonycentre.ca/wp-content/uploads/2025/08/image-4.jpeg
END:VEVENT
BEGIN:VEVENT
DTSTART;TZID=America/Toronto:20260623T090000
DTEND;TZID=America/Toronto:20260623T210000
DTSTAMP:20260425T065517
CREATED:20250904T190401Z
LAST-MODIFIED:20250904T194905Z
UID:10007073-1782205200-1782248400@harmonycentre.ca
SUMMARY:Guitar Lessons & Workshops
DESCRIPTION:Call or text Gary for info on lessons and workshops at 365 889 4784 \nGary will arrange classes and workshops with interested students at a mutually available time and date when they call or text him for info. \nTuesdays are currently the preferred day for September startup.
URL:https://harmonycentre.ca/event/lessons-workshops/2026-06-23
CATEGORIES:Classes,Music,Things to do
ATTACH;FMTTYPE=image/jpeg:https://harmonycentre.ca/wp-content/uploads/2025/09/image-1.jpeg
END:VEVENT
BEGIN:VEVENT
DTSTART;TZID=America/Toronto:20260628T103000
DTEND;TZID=America/Toronto:20260628T120000
DTSTAMP:20260425T065517
CREATED:20250930T184143Z
LAST-MODIFIED:20250930T184143Z
UID:10007478-1782642600-1782648000@harmonycentre.ca
SUMMARY:Solidarity Sundays
DESCRIPTION:All ages\, community building hang-out with crafts\, games\, music\, tea and coffee. Please bring a snack to share and a small cash donation! Happening Sundays at the Harmony Centre from October 19th 2025 through to April 26th\, 2026!
URL:https://harmonycentre.ca/event/solidarity-sundays-2/2026-06-28
CATEGORIES:Groups,Music,Things to do
ATTACH;FMTTYPE=image/png:https://harmonycentre.ca/wp-content/uploads/2025/09/SolSun-2025-2026-Poster-09a2d255d528a422c17130b90882717f.png
END:VEVENT
BEGIN:VEVENT
DTSTART;TZID=America/Toronto:20260628T183000
DTEND;TZID=America/Toronto:20260628T200000
DTSTAMP:20260425T065517
CREATED:20250827T150016Z
LAST-MODIFIED:20250917T152149Z
UID:10006361-1782671400-1782676800@harmonycentre.ca
SUMMARY:Rock the Sound Choir
DESCRIPTION:Holly Sled’s Rock the Sound Choir is back – sign up for a welcoming singing experience with rock’n’roll repertoire – early bird pricing is up until August 20! \nRegister here.
URL:https://harmonycentre.ca/event/rock-the-sound-choir-2/2026-06-28
CATEGORIES:Music,Sing,Things to do
ATTACH;FMTTYPE=image/jpeg:https://harmonycentre.ca/wp-content/uploads/2025/08/image-4.jpeg
END:VEVENT
BEGIN:VEVENT
DTSTART;TZID=America/Toronto:20260630T090000
DTEND;TZID=America/Toronto:20260630T210000
DTSTAMP:20260425T065517
CREATED:20250904T190401Z
LAST-MODIFIED:20250904T194905Z
UID:10007074-1782810000-1782853200@harmonycentre.ca
SUMMARY:Guitar Lessons & Workshops
DESCRIPTION:Call or text Gary for info on lessons and workshops at 365 889 4784 \nGary will arrange classes and workshops with interested students at a mutually available time and date when they call or text him for info. \nTuesdays are currently the preferred day for September startup.
URL:https://harmonycentre.ca/event/lessons-workshops/2026-06-30
CATEGORIES:Classes,Music,Things to do
ATTACH;FMTTYPE=image/jpeg:https://harmonycentre.ca/wp-content/uploads/2025/09/image-1.jpeg
END:VEVENT
BEGIN:VEVENT
DTSTART;TZID=America/Toronto:20260705T103000
DTEND;TZID=America/Toronto:20260705T120000
DTSTAMP:20260425T065517
CREATED:20250930T184143Z
LAST-MODIFIED:20250930T184143Z
UID:10007479-1783247400-1783252800@harmonycentre.ca
SUMMARY:Solidarity Sundays
DESCRIPTION:All ages\, community building hang-out with crafts\, games\, music\, tea and coffee. Please bring a snack to share and a small cash donation! Happening Sundays at the Harmony Centre from October 19th 2025 through to April 26th\, 2026!
URL:https://harmonycentre.ca/event/solidarity-sundays-2/2026-07-05
CATEGORIES:Groups,Music,Things to do
ATTACH;FMTTYPE=image/png:https://harmonycentre.ca/wp-content/uploads/2025/09/SolSun-2025-2026-Poster-09a2d255d528a422c17130b90882717f.png
END:VEVENT
BEGIN:VEVENT
DTSTART;TZID=America/Toronto:20260705T130000
DTEND;TZID=America/Toronto:20260705T150000
DTSTAMP:20260425T065517
CREATED:20250930T183108Z
LAST-MODIFIED:20250930T183440Z
UID:10007391-1783256400-1783263600@harmonycentre.ca
SUMMARY:Get Yer CELTIC on!
DESCRIPTION:Do you… Love the sound of Celtic music? \nAre you… Unable to stop your feet moving to the sound of a lively Jig or Reel? \nCan you… Play a scale on a Fiddle? Banjo? Mandolin? Guitar? Pennywhistle? Flute? Harmonica? Accordion? Concertina? Harp? Piano? Your great Aunt Lavinia’s false teeth? \nIf you answered yes… then you have all it takes to Get yer CELTIC on! Come join our informal group of celt(ish) folks who meet to talk and learn and play tunes together on Sunday afternoons. \nTunes are taught the old way\, by ear\, phrase-by-phrase – together in community. You just need a basic playing ability on your instrument – we’ll come alongside you wherever you are on your musical journey and get you up to speed… faster than a Kerry polka. It’s good craie! \nJoin us and check it out – first and third Sundays of the month 1:00 pm to 3:00 pm in the Harmony Centre Boardroom – all you need is your instrument and $3 per person. \nContact: iain@sandon.ca
URL:https://harmonycentre.ca/event/get-yer-celtic-on-3-2-2/2026-07-05
CATEGORIES:Classes,Music,Things to do
ATTACH;FMTTYPE=image/jpeg:https://harmonycentre.ca/wp-content/uploads/2024/05/Get-yer-Celtic-on.jpg
END:VEVENT
END:VCALENDAR