BEGIN:VCALENDAR
VERSION:2.0
PRODID:-//Harmony Centre Owen Sound - ECPv6.11.0.1//NONSGML v1.0//EN
CALSCALE:GREGORIAN
METHOD:PUBLISH
X-WR-CALNAME:Harmony Centre Owen Sound
X-ORIGINAL-URL:https://harmonycentre.ca
X-WR-CALDESC:Events for Harmony Centre Owen Sound
REFRESH-INTERVAL;VALUE=DURATION:PT1H
X-Robots-Tag:noindex
X-PUBLISHED-TTL:PT1H
BEGIN:VTIMEZONE
TZID:America/Toronto
BEGIN:DAYLIGHT
TZOFFSETFROM:-0500
TZOFFSETTO:-0400
TZNAME:EDT
DTSTART:20250309T070000
END:DAYLIGHT
BEGIN:STANDARD
TZOFFSETFROM:-0400
TZOFFSETTO:-0500
TZNAME:EST
DTSTART:20251102T060000
END:STANDARD
BEGIN:DAYLIGHT
TZOFFSETFROM:-0500
TZOFFSETTO:-0400
TZNAME:EDT
DTSTART:20260308T070000
END:DAYLIGHT
BEGIN:STANDARD
TZOFFSETFROM:-0400
TZOFFSETTO:-0500
TZNAME:EST
DTSTART:20261101T060000
END:STANDARD
END:VTIMEZONE
BEGIN:VEVENT
DTSTART;TZID=America/Toronto:20260222T183000
DTEND;TZID=America/Toronto:20260222T200000
DTSTAMP:20260421T164726
CREATED:20250827T150016Z
LAST-MODIFIED:20250917T152149Z
UID:10006344-1771785000-1771790400@harmonycentre.ca
SUMMARY:Rock the Sound Choir
DESCRIPTION:Holly Sled’s Rock the Sound Choir is back – sign up for a welcoming singing experience with rock’n’roll repertoire – early bird pricing is up until August 20! \nRegister here.
URL:https://harmonycentre.ca/event/rock-the-sound-choir-2/2026-02-22
CATEGORIES:Music,Sing,Things to do
ATTACH;FMTTYPE=image/jpeg:https://harmonycentre.ca/wp-content/uploads/2025/08/image-4.jpeg
END:VEVENT
BEGIN:VEVENT
DTSTART;TZID=America/Toronto:20260222T103000
DTEND;TZID=America/Toronto:20260222T120000
DTSTAMP:20260421T164726
CREATED:20250930T184143Z
LAST-MODIFIED:20250930T184143Z
UID:10007460-1771756200-1771761600@harmonycentre.ca
SUMMARY:Solidarity Sundays
DESCRIPTION:All ages\, community building hang-out with crafts\, games\, music\, tea and coffee. Please bring a snack to share and a small cash donation! Happening Sundays at the Harmony Centre from October 19th 2025 through to April 26th\, 2026!
URL:https://harmonycentre.ca/event/solidarity-sundays-2/2026-02-22
CATEGORIES:Groups,Music,Things to do
ATTACH;FMTTYPE=image/png:https://harmonycentre.ca/wp-content/uploads/2025/09/SolSun-2025-2026-Poster-09a2d255d528a422c17130b90882717f.png
END:VEVENT
BEGIN:VEVENT
DTSTART;TZID=America/Toronto:20260217T090000
DTEND;TZID=America/Toronto:20260217T210000
DTSTAMP:20260421T164726
CREATED:20250904T190401Z
LAST-MODIFIED:20250904T194905Z
UID:10007055-1771318800-1771362000@harmonycentre.ca
SUMMARY:Guitar Lessons & Workshops
DESCRIPTION:Call or text Gary for info on lessons and workshops at 365 889 4784 \nGary will arrange classes and workshops with interested students at a mutually available time and date when they call or text him for info. \nTuesdays are currently the preferred day for September startup.
URL:https://harmonycentre.ca/event/lessons-workshops/2026-02-17
CATEGORIES:Classes,Music,Things to do
ATTACH;FMTTYPE=image/jpeg:https://harmonycentre.ca/wp-content/uploads/2025/09/image-1.jpeg
END:VEVENT
BEGIN:VEVENT
DTSTART;TZID=America/Toronto:20260215T183000
DTEND;TZID=America/Toronto:20260215T200000
DTSTAMP:20260421T164726
CREATED:20250827T150016Z
LAST-MODIFIED:20250917T152149Z
UID:10006343-1771180200-1771185600@harmonycentre.ca
SUMMARY:Rock the Sound Choir
DESCRIPTION:Holly Sled’s Rock the Sound Choir is back – sign up for a welcoming singing experience with rock’n’roll repertoire – early bird pricing is up until August 20! \nRegister here.
URL:https://harmonycentre.ca/event/rock-the-sound-choir-2/2026-02-15
CATEGORIES:Music,Sing,Things to do
ATTACH;FMTTYPE=image/jpeg:https://harmonycentre.ca/wp-content/uploads/2025/08/image-4.jpeg
END:VEVENT
BEGIN:VEVENT
DTSTART;TZID=America/Toronto:20260215T103000
DTEND;TZID=America/Toronto:20260215T120000
DTSTAMP:20260421T164726
CREATED:20250930T184143Z
LAST-MODIFIED:20250930T184143Z
UID:10007459-1771151400-1771156800@harmonycentre.ca
SUMMARY:Solidarity Sundays
DESCRIPTION:All ages\, community building hang-out with crafts\, games\, music\, tea and coffee. Please bring a snack to share and a small cash donation! Happening Sundays at the Harmony Centre from October 19th 2025 through to April 26th\, 2026!
URL:https://harmonycentre.ca/event/solidarity-sundays-2/2026-02-15
CATEGORIES:Groups,Music,Things to do
ATTACH;FMTTYPE=image/png:https://harmonycentre.ca/wp-content/uploads/2025/09/SolSun-2025-2026-Poster-09a2d255d528a422c17130b90882717f.png
END:VEVENT
BEGIN:VEVENT
DTSTART;TZID=America/Toronto:20260210T184500
DTEND;TZID=America/Toronto:20260210T210000
DTSTAMP:20260421T164726
CREATED:20251217T155331Z
LAST-MODIFIED:20251217T155331Z
UID:10007557-1770749100-1770757200@harmonycentre.ca
SUMMARY:Jamming and Small Gig Workshop
DESCRIPTION:Jamming Workshops\nHere’s a fun opportunity for novice and experienced musicians to get together to jam and share their knowledge. \nThe workshops will cover everything from setting up strategies to jamming in various scenarios. \nBring your voice and an instrument\, or two. \n(Preferably acoustic or lightly amplified ) \nEvery other Tuesday in the Commons starting January 13. \n$15 or pay what you can. \nPlease arrive before 7pm
URL:https://harmonycentre.ca/event/jamming-and-small-gig-workshop/2026-02-10
CATEGORIES:Groups,Music
ATTACH;FMTTYPE=image/png:https://harmonycentre.ca/wp-content/uploads/2025/12/image3-1.png
END:VEVENT
BEGIN:VEVENT
DTSTART;TZID=America/Toronto:20260210T090000
DTEND;TZID=America/Toronto:20260210T210000
DTSTAMP:20260421T164726
CREATED:20250904T190401Z
LAST-MODIFIED:20250904T194905Z
UID:10007054-1770714000-1770757200@harmonycentre.ca
SUMMARY:Guitar Lessons & Workshops
DESCRIPTION:Call or text Gary for info on lessons and workshops at 365 889 4784 \nGary will arrange classes and workshops with interested students at a mutually available time and date when they call or text him for info. \nTuesdays are currently the preferred day for September startup.
URL:https://harmonycentre.ca/event/lessons-workshops/2026-02-10
CATEGORIES:Classes,Music,Things to do
ATTACH;FMTTYPE=image/jpeg:https://harmonycentre.ca/wp-content/uploads/2025/09/image-1.jpeg
END:VEVENT
BEGIN:VEVENT
DTSTART;TZID=America/Toronto:20260208T183000
DTEND;TZID=America/Toronto:20260208T200000
DTSTAMP:20260421T164726
CREATED:20250827T150016Z
LAST-MODIFIED:20250917T152149Z
UID:10006342-1770575400-1770580800@harmonycentre.ca
SUMMARY:Rock the Sound Choir
DESCRIPTION:Holly Sled’s Rock the Sound Choir is back – sign up for a welcoming singing experience with rock’n’roll repertoire – early bird pricing is up until August 20! \nRegister here.
URL:https://harmonycentre.ca/event/rock-the-sound-choir-2/2026-02-08
CATEGORIES:Music,Sing,Things to do
ATTACH;FMTTYPE=image/jpeg:https://harmonycentre.ca/wp-content/uploads/2025/08/image-4.jpeg
END:VEVENT
BEGIN:VEVENT
DTSTART;TZID=America/Toronto:20260208T103000
DTEND;TZID=America/Toronto:20260208T120000
DTSTAMP:20260421T164726
CREATED:20250930T184143Z
LAST-MODIFIED:20250930T184143Z
UID:10007458-1770546600-1770552000@harmonycentre.ca
SUMMARY:Solidarity Sundays
DESCRIPTION:All ages\, community building hang-out with crafts\, games\, music\, tea and coffee. Please bring a snack to share and a small cash donation! Happening Sundays at the Harmony Centre from October 19th 2025 through to April 26th\, 2026!
URL:https://harmonycentre.ca/event/solidarity-sundays-2/2026-02-08
CATEGORIES:Groups,Music,Things to do
ATTACH;FMTTYPE=image/png:https://harmonycentre.ca/wp-content/uploads/2025/09/SolSun-2025-2026-Poster-09a2d255d528a422c17130b90882717f.png
END:VEVENT
BEGIN:VEVENT
DTSTART;TZID=America/Toronto:20260203T090000
DTEND;TZID=America/Toronto:20260203T210000
DTSTAMP:20260421T164726
CREATED:20250904T190401Z
LAST-MODIFIED:20250904T194905Z
UID:10007053-1770109200-1770152400@harmonycentre.ca
SUMMARY:Guitar Lessons & Workshops
DESCRIPTION:Call or text Gary for info on lessons and workshops at 365 889 4784 \nGary will arrange classes and workshops with interested students at a mutually available time and date when they call or text him for info. \nTuesdays are currently the preferred day for September startup.
URL:https://harmonycentre.ca/event/lessons-workshops/2026-02-03
CATEGORIES:Classes,Music,Things to do
ATTACH;FMTTYPE=image/jpeg:https://harmonycentre.ca/wp-content/uploads/2025/09/image-1.jpeg
END:VEVENT
BEGIN:VEVENT
DTSTART;TZID=America/Toronto:20260201T130000
DTEND;TZID=America/Toronto:20260201T150000
DTSTAMP:20260421T164726
CREATED:20250930T183108Z
LAST-MODIFIED:20250930T183440Z
UID:10007386-1769950800-1769958000@harmonycentre.ca
SUMMARY:Get Yer CELTIC on!
DESCRIPTION:Do you… Love the sound of Celtic music? \nAre you… Unable to stop your feet moving to the sound of a lively Jig or Reel? \nCan you… Play a scale on a Fiddle? Banjo? Mandolin? Guitar? Pennywhistle? Flute? Harmonica? Accordion? Concertina? Harp? Piano? Your great Aunt Lavinia’s false teeth? \nIf you answered yes… then you have all it takes to Get yer CELTIC on! Come join our informal group of celt(ish) folks who meet to talk and learn and play tunes together on Sunday afternoons. \nTunes are taught the old way\, by ear\, phrase-by-phrase – together in community. You just need a basic playing ability on your instrument – we’ll come alongside you wherever you are on your musical journey and get you up to speed… faster than a Kerry polka. It’s good craie! \nJoin us and check it out – first and third Sundays of the month 1:00 pm to 3:00 pm in the Harmony Centre Boardroom – all you need is your instrument and $3 per person. \nContact: iain@sandon.ca
URL:https://harmonycentre.ca/event/get-yer-celtic-on-3-2-2/2026-02-01
CATEGORIES:Classes,Music,Things to do
ATTACH;FMTTYPE=image/jpeg:https://harmonycentre.ca/wp-content/uploads/2024/05/Get-yer-Celtic-on.jpg
END:VEVENT
BEGIN:VEVENT
DTSTART;TZID=America/Toronto:20260201T103000
DTEND;TZID=America/Toronto:20260201T120000
DTSTAMP:20260421T164726
CREATED:20250930T184143Z
LAST-MODIFIED:20250930T184143Z
UID:10007457-1769941800-1769947200@harmonycentre.ca
SUMMARY:Solidarity Sundays
DESCRIPTION:All ages\, community building hang-out with crafts\, games\, music\, tea and coffee. Please bring a snack to share and a small cash donation! Happening Sundays at the Harmony Centre from October 19th 2025 through to April 26th\, 2026!
URL:https://harmonycentre.ca/event/solidarity-sundays-2/2026-02-01
CATEGORIES:Groups,Music,Things to do
ATTACH;FMTTYPE=image/png:https://harmonycentre.ca/wp-content/uploads/2025/09/SolSun-2025-2026-Poster-09a2d255d528a422c17130b90882717f.png
END:VEVENT
BEGIN:VEVENT
DTSTART;TZID=America/Toronto:20260127T184500
DTEND;TZID=America/Toronto:20260127T210000
DTSTAMP:20260421T164726
CREATED:20251217T155331Z
LAST-MODIFIED:20251217T155331Z
UID:10007556-1769539500-1769547600@harmonycentre.ca
SUMMARY:Jamming and Small Gig Workshop
DESCRIPTION:Jamming Workshops\nHere’s a fun opportunity for novice and experienced musicians to get together to jam and share their knowledge. \nThe workshops will cover everything from setting up strategies to jamming in various scenarios. \nBring your voice and an instrument\, or two. \n(Preferably acoustic or lightly amplified ) \nEvery other Tuesday in the Commons starting January 13. \n$15 or pay what you can. \nPlease arrive before 7pm
URL:https://harmonycentre.ca/event/jamming-and-small-gig-workshop/2026-01-27
CATEGORIES:Groups,Music
ATTACH;FMTTYPE=image/png:https://harmonycentre.ca/wp-content/uploads/2025/12/image3-1.png
END:VEVENT
BEGIN:VEVENT
DTSTART;TZID=America/Toronto:20260127T090000
DTEND;TZID=America/Toronto:20260127T210000
DTSTAMP:20260421T164726
CREATED:20250904T190401Z
LAST-MODIFIED:20250904T194905Z
UID:10007052-1769504400-1769547600@harmonycentre.ca
SUMMARY:Guitar Lessons & Workshops
DESCRIPTION:Call or text Gary for info on lessons and workshops at 365 889 4784 \nGary will arrange classes and workshops with interested students at a mutually available time and date when they call or text him for info. \nTuesdays are currently the preferred day for September startup.
URL:https://harmonycentre.ca/event/lessons-workshops/2026-01-27
CATEGORIES:Classes,Music,Things to do
ATTACH;FMTTYPE=image/jpeg:https://harmonycentre.ca/wp-content/uploads/2025/09/image-1.jpeg
END:VEVENT
BEGIN:VEVENT
DTSTART;TZID=America/Toronto:20260125T183000
DTEND;TZID=America/Toronto:20260125T200000
DTSTAMP:20260421T164726
CREATED:20250827T150016Z
LAST-MODIFIED:20250917T152149Z
UID:10006341-1769365800-1769371200@harmonycentre.ca
SUMMARY:Rock the Sound Choir
DESCRIPTION:Holly Sled’s Rock the Sound Choir is back – sign up for a welcoming singing experience with rock’n’roll repertoire – early bird pricing is up until August 20! \nRegister here.
URL:https://harmonycentre.ca/event/rock-the-sound-choir-2/2026-01-25
CATEGORIES:Music,Sing,Things to do
ATTACH;FMTTYPE=image/jpeg:https://harmonycentre.ca/wp-content/uploads/2025/08/image-4.jpeg
END:VEVENT
BEGIN:VEVENT
DTSTART;TZID=America/Toronto:20260125T103000
DTEND;TZID=America/Toronto:20260125T120000
DTSTAMP:20260421T164726
CREATED:20250930T184143Z
LAST-MODIFIED:20250930T184143Z
UID:10007456-1769337000-1769342400@harmonycentre.ca
SUMMARY:Solidarity Sundays
DESCRIPTION:All ages\, community building hang-out with crafts\, games\, music\, tea and coffee. Please bring a snack to share and a small cash donation! Happening Sundays at the Harmony Centre from October 19th 2025 through to April 26th\, 2026!
URL:https://harmonycentre.ca/event/solidarity-sundays-2/2026-01-25
CATEGORIES:Groups,Music,Things to do
ATTACH;FMTTYPE=image/png:https://harmonycentre.ca/wp-content/uploads/2025/09/SolSun-2025-2026-Poster-09a2d255d528a422c17130b90882717f.png
END:VEVENT
BEGIN:VEVENT
DTSTART;TZID=America/Toronto:20260123T200000
DTEND;TZID=America/Toronto:20260123T220000
DTSTAMP:20260421T164727
CREATED:20251222T162628Z
LAST-MODIFIED:20260116T204138Z
UID:10007592-1769198400-1769205600@harmonycentre.ca
SUMMARY:TEN YEARS OF SONG WITH FRIENDS (AND ART)
DESCRIPTION:Bring in the new year with music\, art\, and fun!!!\nTEN YEARS OF SONG WITH FRIENDS (AND ART) \nPresented by Trish and Dave Hawkins \nFeaturing David Hartt and Richard Ebbs \nBackup vocals by Barry and Deb Randall and Martin Cooper \nOriginal artwork by Paul Patille and David Brown \nPay what you can at the door.\nAll proceeds go to supporting The Women’s Centre Grey Bruce
URL:https://harmonycentre.ca/event/ten-years-of-song-with-friends-and-artwork
CATEGORIES:Music,Performances
ATTACH;FMTTYPE=image/jpeg:https://harmonycentre.ca/wp-content/uploads/2025/12/DRAFTPOSTERfontchange5-1.jpeg
END:VEVENT
BEGIN:VEVENT
DTSTART;TZID=America/Toronto:20260120T090000
DTEND;TZID=America/Toronto:20260120T210000
DTSTAMP:20260421T164727
CREATED:20250904T190401Z
LAST-MODIFIED:20250904T194905Z
UID:10007051-1768899600-1768942800@harmonycentre.ca
SUMMARY:Guitar Lessons & Workshops
DESCRIPTION:Call or text Gary for info on lessons and workshops at 365 889 4784 \nGary will arrange classes and workshops with interested students at a mutually available time and date when they call or text him for info. \nTuesdays are currently the preferred day for September startup.
URL:https://harmonycentre.ca/event/lessons-workshops/2026-01-20
CATEGORIES:Classes,Music,Things to do
ATTACH;FMTTYPE=image/jpeg:https://harmonycentre.ca/wp-content/uploads/2025/09/image-1.jpeg
END:VEVENT
BEGIN:VEVENT
DTSTART;TZID=America/Toronto:20260118T183000
DTEND;TZID=America/Toronto:20260118T200000
DTSTAMP:20260421T164727
CREATED:20250827T150016Z
LAST-MODIFIED:20250917T152149Z
UID:10006340-1768761000-1768766400@harmonycentre.ca
SUMMARY:Rock the Sound Choir
DESCRIPTION:Holly Sled’s Rock the Sound Choir is back – sign up for a welcoming singing experience with rock’n’roll repertoire – early bird pricing is up until August 20! \nRegister here.
URL:https://harmonycentre.ca/event/rock-the-sound-choir-2/2026-01-18
CATEGORIES:Music,Sing,Things to do
ATTACH;FMTTYPE=image/jpeg:https://harmonycentre.ca/wp-content/uploads/2025/08/image-4.jpeg
END:VEVENT
BEGIN:VEVENT
DTSTART;TZID=America/Toronto:20260118T103000
DTEND;TZID=America/Toronto:20260118T120000
DTSTAMP:20260421T164727
CREATED:20250930T184143Z
LAST-MODIFIED:20250930T184143Z
UID:10007455-1768732200-1768737600@harmonycentre.ca
SUMMARY:Solidarity Sundays
DESCRIPTION:All ages\, community building hang-out with crafts\, games\, music\, tea and coffee. Please bring a snack to share and a small cash donation! Happening Sundays at the Harmony Centre from October 19th 2025 through to April 26th\, 2026!
URL:https://harmonycentre.ca/event/solidarity-sundays-2/2026-01-18
CATEGORIES:Groups,Music,Things to do
ATTACH;FMTTYPE=image/png:https://harmonycentre.ca/wp-content/uploads/2025/09/SolSun-2025-2026-Poster-09a2d255d528a422c17130b90882717f.png
END:VEVENT
BEGIN:VEVENT
DTSTART;TZID=America/Toronto:20260113T184500
DTEND;TZID=America/Toronto:20260113T210000
DTSTAMP:20260421T164727
CREATED:20251217T155331Z
LAST-MODIFIED:20251217T155331Z
UID:10007555-1768329900-1768338000@harmonycentre.ca
SUMMARY:Jamming and Small Gig Workshop
DESCRIPTION:Jamming Workshops\nHere’s a fun opportunity for novice and experienced musicians to get together to jam and share their knowledge. \nThe workshops will cover everything from setting up strategies to jamming in various scenarios. \nBring your voice and an instrument\, or two. \n(Preferably acoustic or lightly amplified ) \nEvery other Tuesday in the Commons starting January 13. \n$15 or pay what you can. \nPlease arrive before 7pm
URL:https://harmonycentre.ca/event/jamming-and-small-gig-workshop/2026-01-13
CATEGORIES:Groups,Music
ATTACH;FMTTYPE=image/png:https://harmonycentre.ca/wp-content/uploads/2025/12/image3-1.png
END:VEVENT
BEGIN:VEVENT
DTSTART;TZID=America/Toronto:20260113T090000
DTEND;TZID=America/Toronto:20260113T210000
DTSTAMP:20260421T164727
CREATED:20250904T190401Z
LAST-MODIFIED:20250904T194905Z
UID:10007050-1768294800-1768338000@harmonycentre.ca
SUMMARY:Guitar Lessons & Workshops
DESCRIPTION:Call or text Gary for info on lessons and workshops at 365 889 4784 \nGary will arrange classes and workshops with interested students at a mutually available time and date when they call or text him for info. \nTuesdays are currently the preferred day for September startup.
URL:https://harmonycentre.ca/event/lessons-workshops/2026-01-13
CATEGORIES:Classes,Music,Things to do
ATTACH;FMTTYPE=image/jpeg:https://harmonycentre.ca/wp-content/uploads/2025/09/image-1.jpeg
END:VEVENT
BEGIN:VEVENT
DTSTART;TZID=America/Toronto:20260111T183000
DTEND;TZID=America/Toronto:20260111T200000
DTSTAMP:20260421T164727
CREATED:20250827T150016Z
LAST-MODIFIED:20250917T152149Z
UID:10006339-1768156200-1768161600@harmonycentre.ca
SUMMARY:Rock the Sound Choir
DESCRIPTION:Holly Sled’s Rock the Sound Choir is back – sign up for a welcoming singing experience with rock’n’roll repertoire – early bird pricing is up until August 20! \nRegister here.
URL:https://harmonycentre.ca/event/rock-the-sound-choir-2/2026-01-11
CATEGORIES:Music,Sing,Things to do
ATTACH;FMTTYPE=image/jpeg:https://harmonycentre.ca/wp-content/uploads/2025/08/image-4.jpeg
END:VEVENT
BEGIN:VEVENT
DTSTART;TZID=America/Toronto:20260111T103000
DTEND;TZID=America/Toronto:20260111T120000
DTSTAMP:20260421T164727
CREATED:20250930T184143Z
LAST-MODIFIED:20250930T184143Z
UID:10007454-1768127400-1768132800@harmonycentre.ca
SUMMARY:Solidarity Sundays
DESCRIPTION:All ages\, community building hang-out with crafts\, games\, music\, tea and coffee. Please bring a snack to share and a small cash donation! Happening Sundays at the Harmony Centre from October 19th 2025 through to April 26th\, 2026!
URL:https://harmonycentre.ca/event/solidarity-sundays-2/2026-01-11
CATEGORIES:Groups,Music,Things to do
ATTACH;FMTTYPE=image/png:https://harmonycentre.ca/wp-content/uploads/2025/09/SolSun-2025-2026-Poster-09a2d255d528a422c17130b90882717f.png
END:VEVENT
BEGIN:VEVENT
DTSTART;TZID=America/Toronto:20260110T190000
DTEND;TZID=America/Toronto:20260110T220000
DTSTAMP:20260421T164727
CREATED:20251231T220710Z
LAST-MODIFIED:20260113T182102Z
UID:10007593-1768071600-1768082400@harmonycentre.ca
SUMMARY:New Years Fiddlefern Dance on January 10th
DESCRIPTION:An evening of contra dancing for the entire family – no experience or partner necessary\, children free when accompanied by an adult
URL:https://harmonycentre.ca/event/new-years-fiddlefern-dance-on-january-10th
CATEGORIES:Dance,Groups,Music
ATTACH;FMTTYPE=image/png:https://harmonycentre.ca/wp-content/uploads/2025/12/Jan-10-2026-poster-2b4248542fa87d39eaf5ec9d5ed8ba97.png
END:VEVENT
BEGIN:VEVENT
DTSTART;TZID=America/Toronto:20260106T090000
DTEND;TZID=America/Toronto:20260106T210000
DTSTAMP:20260421T164727
CREATED:20250904T190401Z
LAST-MODIFIED:20250904T194905Z
UID:10007049-1767690000-1767733200@harmonycentre.ca
SUMMARY:Guitar Lessons & Workshops
DESCRIPTION:Call or text Gary for info on lessons and workshops at 365 889 4784 \nGary will arrange classes and workshops with interested students at a mutually available time and date when they call or text him for info. \nTuesdays are currently the preferred day for September startup.
URL:https://harmonycentre.ca/event/lessons-workshops/2026-01-06
CATEGORIES:Classes,Music,Things to do
ATTACH;FMTTYPE=image/jpeg:https://harmonycentre.ca/wp-content/uploads/2025/09/image-1.jpeg
END:VEVENT
BEGIN:VEVENT
DTSTART;TZID=America/Toronto:20260104T130000
DTEND;TZID=America/Toronto:20260104T150000
DTSTAMP:20260421T164727
CREATED:20250930T183108Z
LAST-MODIFIED:20250930T183440Z
UID:10007385-1767531600-1767538800@harmonycentre.ca
SUMMARY:Get Yer CELTIC on!
DESCRIPTION:Do you… Love the sound of Celtic music? \nAre you… Unable to stop your feet moving to the sound of a lively Jig or Reel? \nCan you… Play a scale on a Fiddle? Banjo? Mandolin? Guitar? Pennywhistle? Flute? Harmonica? Accordion? Concertina? Harp? Piano? Your great Aunt Lavinia’s false teeth? \nIf you answered yes… then you have all it takes to Get yer CELTIC on! Come join our informal group of celt(ish) folks who meet to talk and learn and play tunes together on Sunday afternoons. \nTunes are taught the old way\, by ear\, phrase-by-phrase – together in community. You just need a basic playing ability on your instrument – we’ll come alongside you wherever you are on your musical journey and get you up to speed… faster than a Kerry polka. It’s good craie! \nJoin us and check it out – first and third Sundays of the month 1:00 pm to 3:00 pm in the Harmony Centre Boardroom – all you need is your instrument and $3 per person. \nContact: iain@sandon.ca
URL:https://harmonycentre.ca/event/get-yer-celtic-on-3-2-2/2026-01-04
CATEGORIES:Classes,Music,Things to do
ATTACH;FMTTYPE=image/jpeg:https://harmonycentre.ca/wp-content/uploads/2024/05/Get-yer-Celtic-on.jpg
END:VEVENT
BEGIN:VEVENT
DTSTART;TZID=America/Toronto:20260104T103000
DTEND;TZID=America/Toronto:20260104T120000
DTSTAMP:20260421T164727
CREATED:20250930T184143Z
LAST-MODIFIED:20250930T184143Z
UID:10007453-1767522600-1767528000@harmonycentre.ca
SUMMARY:Solidarity Sundays
DESCRIPTION:All ages\, community building hang-out with crafts\, games\, music\, tea and coffee. Please bring a snack to share and a small cash donation! Happening Sundays at the Harmony Centre from October 19th 2025 through to April 26th\, 2026!
URL:https://harmonycentre.ca/event/solidarity-sundays-2/2026-01-04
CATEGORIES:Groups,Music,Things to do
ATTACH;FMTTYPE=image/png:https://harmonycentre.ca/wp-content/uploads/2025/09/SolSun-2025-2026-Poster-09a2d255d528a422c17130b90882717f.png
END:VEVENT
BEGIN:VEVENT
DTSTART;TZID=America/Toronto:20251230T090000
DTEND;TZID=America/Toronto:20251230T210000
DTSTAMP:20260421T164727
CREATED:20250904T190401Z
LAST-MODIFIED:20250904T194905Z
UID:10007048-1767085200-1767128400@harmonycentre.ca
SUMMARY:Guitar Lessons & Workshops
DESCRIPTION:Call or text Gary for info on lessons and workshops at 365 889 4784 \nGary will arrange classes and workshops with interested students at a mutually available time and date when they call or text him for info. \nTuesdays are currently the preferred day for September startup.
URL:https://harmonycentre.ca/event/lessons-workshops/2025-12-30
CATEGORIES:Classes,Music,Things to do
ATTACH;FMTTYPE=image/jpeg:https://harmonycentre.ca/wp-content/uploads/2025/09/image-1.jpeg
END:VEVENT
BEGIN:VEVENT
DTSTART;TZID=America/Toronto:20251228T103000
DTEND;TZID=America/Toronto:20251228T120000
DTSTAMP:20260421T164727
CREATED:20250930T184143Z
LAST-MODIFIED:20250930T184143Z
UID:10007452-1766917800-1766923200@harmonycentre.ca
SUMMARY:Solidarity Sundays
DESCRIPTION:All ages\, community building hang-out with crafts\, games\, music\, tea and coffee. Please bring a snack to share and a small cash donation! Happening Sundays at the Harmony Centre from October 19th 2025 through to April 26th\, 2026!
URL:https://harmonycentre.ca/event/solidarity-sundays-2/2025-12-28
CATEGORIES:Groups,Music,Things to do
ATTACH;FMTTYPE=image/png:https://harmonycentre.ca/wp-content/uploads/2025/09/SolSun-2025-2026-Poster-09a2d255d528a422c17130b90882717f.png
END:VEVENT
END:VCALENDAR