BEGIN:VCALENDAR
VERSION:2.0
PRODID:-//Harmony Centre Owen Sound - ECPv6.11.0.1//NONSGML v1.0//EN
CALSCALE:GREGORIAN
METHOD:PUBLISH
X-WR-CALNAME:Harmony Centre Owen Sound
X-ORIGINAL-URL:https://harmonycentre.ca
X-WR-CALDESC:Events for Harmony Centre Owen Sound
REFRESH-INTERVAL;VALUE=DURATION:PT1H
X-Robots-Tag:noindex
X-PUBLISHED-TTL:PT1H
BEGIN:VTIMEZONE
TZID:America/Toronto
BEGIN:DAYLIGHT
TZOFFSETFROM:-0500
TZOFFSETTO:-0400
TZNAME:EDT
DTSTART:20250309T070000
END:DAYLIGHT
BEGIN:STANDARD
TZOFFSETFROM:-0400
TZOFFSETTO:-0500
TZNAME:EST
DTSTART:20251102T060000
END:STANDARD
END:VTIMEZONE
BEGIN:VEVENT
DTSTART;TZID=America/Toronto:20251223T090000
DTEND;TZID=America/Toronto:20251223T210000
DTSTAMP:20260421T201615
CREATED:20250904T190401Z
LAST-MODIFIED:20250904T194905Z
UID:10007047-1766480400-1766523600@harmonycentre.ca
SUMMARY:Guitar Lessons & Workshops
DESCRIPTION:Call or text Gary for info on lessons and workshops at 365 889 4784 \nGary will arrange classes and workshops with interested students at a mutually available time and date when they call or text him for info. \nTuesdays are currently the preferred day for September startup.
URL:https://harmonycentre.ca/event/lessons-workshops/2025-12-23
CATEGORIES:Classes,Music,Things to do
ATTACH;FMTTYPE=image/jpeg:https://harmonycentre.ca/wp-content/uploads/2025/09/image-1.jpeg
END:VEVENT
BEGIN:VEVENT
DTSTART;TZID=America/Toronto:20251221T183000
DTEND;TZID=America/Toronto:20251221T200000
DTSTAMP:20260421T201615
CREATED:20250827T150016Z
LAST-MODIFIED:20250917T152149Z
UID:10006338-1766341800-1766347200@harmonycentre.ca
SUMMARY:Rock the Sound Choir
DESCRIPTION:Holly Sled’s Rock the Sound Choir is back – sign up for a welcoming singing experience with rock’n’roll repertoire – early bird pricing is up until August 20! \nRegister here.
URL:https://harmonycentre.ca/event/rock-the-sound-choir-2/2025-12-21
CATEGORIES:Music,Sing,Things to do
ATTACH;FMTTYPE=image/jpeg:https://harmonycentre.ca/wp-content/uploads/2025/08/image-4.jpeg
END:VEVENT
BEGIN:VEVENT
DTSTART;TZID=America/Toronto:20251221T143000
DTEND;TZID=America/Toronto:20251221T153000
DTSTAMP:20260421T201615
CREATED:20251107T152555Z
LAST-MODIFIED:20251205T174703Z
UID:10007548-1766327400-1766331000@harmonycentre.ca
SUMMARY:Piazzolla and Beyond
DESCRIPTION:Join us for a musical journey through the vibrant world of Piazzolla and Beyond\, where tango meets modern rhythms in a unique fusion. \nPiazzolla and Beyond is a vibrant journey through the rhythmic pulse and emotional depth of tango nuevo. The program highlights how Piazzolla’s voice continues to inspire Canadian composers who blend classical form with the sensual energy of Argentine tango. \nFrom Hatzis’ introspective Old Photographs to Davies’ lyrical Tango and Kutnowski’s dynamic Buenos Aires Y2K\, the concert weaves a narrative of nostalgia\, rhythm\, and reinvention — culminating with Piazzolla’s own Four Seasons of Buenos Aires. \nDesigned for chamber music audiences that appreciate both sophistication and passion\, this program brings together familiar and fresh voices\, bridging cultures and eras through the expressive power of the piano trio. \nVisit here for tickets and more information. \nPROGRAM \n\nHatzis Christos (ON) Old Photographs Piano Trio\nVictor Davies (ON) Tango from Silhouettes Piano Trio\nMartin Kutnowski\, Buenos Aires Y2K\nAstor Piazzolla\, Four Seasons of Buenos Aires\n\nPERFORMERS \nYounggun Kim piano \nLucia Barcari violin \nAmahl Arulanandam cello
URL:https://harmonycentre.ca/event/piazzolla-and-beyond
CATEGORIES:Music,Performances
ATTACH;FMTTYPE=image/png:https://harmonycentre.ca/wp-content/uploads/2025/11/Black-and-Red-Modern-Brutalist-Giveaway-Music-Concert-Ticket-Con-b67fc2ade7259fb1b91889ab22808952.png
END:VEVENT
BEGIN:VEVENT
DTSTART;TZID=America/Toronto:20251221T103000
DTEND;TZID=America/Toronto:20251221T120000
DTSTAMP:20260421T201615
CREATED:20250930T184143Z
LAST-MODIFIED:20250930T184143Z
UID:10007451-1766313000-1766318400@harmonycentre.ca
SUMMARY:Solidarity Sundays
DESCRIPTION:All ages\, community building hang-out with crafts\, games\, music\, tea and coffee. Please bring a snack to share and a small cash donation! Happening Sundays at the Harmony Centre from October 19th 2025 through to April 26th\, 2026!
URL:https://harmonycentre.ca/event/solidarity-sundays-2/2025-12-21
CATEGORIES:Groups,Music,Things to do
ATTACH;FMTTYPE=image/png:https://harmonycentre.ca/wp-content/uploads/2025/09/SolSun-2025-2026-Poster-09a2d255d528a422c17130b90882717f.png
END:VEVENT
BEGIN:VEVENT
DTSTART;TZID=America/Toronto:20251220T193000
DTEND;TZID=America/Toronto:20251220T203000
DTSTAMP:20260421T201615
CREATED:20251031T170909Z
LAST-MODIFIED:20251031T171749Z
UID:10007530-1766259000-1766262600@harmonycentre.ca
SUMMARY:Grey Bruce Performing Arts presents: A Christmas Carol
DESCRIPTION:Grey Bruce Performing Arts presents: \nA Christmas Carol by Charles Dickens\nOur Play Study Class invites you to join us in witnessing this classic tale featuring musical performances in partnership with our choir. \nEbenezer Scrooge is a hard-hearted old miser who hates Christmas\, exploits his clerk Bob Cratchit\, and mocks those who seek to help the poor. On Christmas Eve\, though\, he is visited by the ghost of his former business partner\, Jacob Marley. Marley warns him that his selfishness will lead him to suffer in the afterlife and adds that Scrooge will be further haunted by three other spirits for the good of his soul. \nSaturday\, December 20\, 2025\nPerformances at 2:00pm and 7:30pm \nTickets by donation.\nSuggested ticket donation: $20 \nADVANCE TICKETS AVAILABLE HERE
URL:https://harmonycentre.ca/event/grey-bruce-performing-arts-presents-a-christmas-carol/2025-12-20/2
CATEGORIES:Music,Performances
ATTACH;FMTTYPE=image/png:https://harmonycentre.ca/wp-content/uploads/2025/10/1000006477.png
END:VEVENT
BEGIN:VEVENT
DTSTART;TZID=America/Toronto:20251220T140000
DTEND;TZID=America/Toronto:20251220T160000
DTSTAMP:20260421T201615
CREATED:20251031T170909Z
LAST-MODIFIED:20251031T171749Z
UID:10007529-1766239200-1766246400@harmonycentre.ca
SUMMARY:Grey Bruce Performing Arts presents: A Christmas Carol
DESCRIPTION:Grey Bruce Performing Arts presents: \nA Christmas Carol by Charles Dickens\nOur Play Study Class invites you to join us in witnessing this classic tale featuring musical performances in partnership with our choir. \nEbenezer Scrooge is a hard-hearted old miser who hates Christmas\, exploits his clerk Bob Cratchit\, and mocks those who seek to help the poor. On Christmas Eve\, though\, he is visited by the ghost of his former business partner\, Jacob Marley. Marley warns him that his selfishness will lead him to suffer in the afterlife and adds that Scrooge will be further haunted by three other spirits for the good of his soul. \nSaturday\, December 20\, 2025\nPerformances at 2:00pm and 7:30pm \nTickets by donation.\nSuggested ticket donation: $20 \nADVANCE TICKETS AVAILABLE HERE
URL:https://harmonycentre.ca/event/grey-bruce-performing-arts-presents-a-christmas-carol/2025-12-20/1
CATEGORIES:Music,Performances
ATTACH;FMTTYPE=image/png:https://harmonycentre.ca/wp-content/uploads/2025/10/1000006477.png
END:VEVENT
BEGIN:VEVENT
DTSTART;TZID=America/Toronto:20251216T090000
DTEND;TZID=America/Toronto:20251216T210000
DTSTAMP:20260421T201615
CREATED:20250904T190401Z
LAST-MODIFIED:20250904T194905Z
UID:10007046-1765875600-1765918800@harmonycentre.ca
SUMMARY:Guitar Lessons & Workshops
DESCRIPTION:Call or text Gary for info on lessons and workshops at 365 889 4784 \nGary will arrange classes and workshops with interested students at a mutually available time and date when they call or text him for info. \nTuesdays are currently the preferred day for September startup.
URL:https://harmonycentre.ca/event/lessons-workshops/2025-12-16
CATEGORIES:Classes,Music,Things to do
ATTACH;FMTTYPE=image/jpeg:https://harmonycentre.ca/wp-content/uploads/2025/09/image-1.jpeg
END:VEVENT
BEGIN:VEVENT
DTSTART;TZID=America/Toronto:20251214T183000
DTEND;TZID=America/Toronto:20251214T200000
DTSTAMP:20260421T201615
CREATED:20250827T150016Z
LAST-MODIFIED:20250917T152149Z
UID:10006337-1765737000-1765742400@harmonycentre.ca
SUMMARY:Rock the Sound Choir
DESCRIPTION:Holly Sled’s Rock the Sound Choir is back – sign up for a welcoming singing experience with rock’n’roll repertoire – early bird pricing is up until August 20! \nRegister here.
URL:https://harmonycentre.ca/event/rock-the-sound-choir-2/2025-12-14
CATEGORIES:Music,Sing,Things to do
ATTACH;FMTTYPE=image/jpeg:https://harmonycentre.ca/wp-content/uploads/2025/08/image-4.jpeg
END:VEVENT
BEGIN:VEVENT
DTSTART;TZID=America/Toronto:20251214T103000
DTEND;TZID=America/Toronto:20251214T120000
DTSTAMP:20260421T201615
CREATED:20250930T184143Z
LAST-MODIFIED:20250930T184143Z
UID:10007450-1765708200-1765713600@harmonycentre.ca
SUMMARY:Solidarity Sundays
DESCRIPTION:All ages\, community building hang-out with crafts\, games\, music\, tea and coffee. Please bring a snack to share and a small cash donation! Happening Sundays at the Harmony Centre from October 19th 2025 through to April 26th\, 2026!
URL:https://harmonycentre.ca/event/solidarity-sundays-2/2025-12-14
CATEGORIES:Groups,Music,Things to do
ATTACH;FMTTYPE=image/png:https://harmonycentre.ca/wp-content/uploads/2025/09/SolSun-2025-2026-Poster-09a2d255d528a422c17130b90882717f.png
END:VEVENT
BEGIN:VEVENT
DTSTART;TZID=America/Toronto:20251213T190000
DTEND;TZID=America/Toronto:20251213T210000
DTSTAMP:20260421T201615
CREATED:20251104T163108Z
LAST-MODIFIED:20251117T164854Z
UID:10007531-1765652400-1765659600@harmonycentre.ca
SUMMARY:Classic Country Music Christmas Concert
DESCRIPTION:Classic Country Music Christmas Concert with The MacGregor Two\nThe MacGregor Two\, with Special Guest Roger Williamson\, will be live in concert at the Harmony Centre on Saturday\, December 13. \nMore guests to be announced! \nPerformance at 7pm\, doors open at 6pm. \nTickets are $25 \nAvailable at the door or at:\n• Bayshore Country Feeds in Owen Sound\n• Allan’s in Shallow Lake\n• Call/Text (905)999-4259\n• www.macgregortwo.ca \n  \nThe MacGregor Two is a two-piece Canadian Classic Country duo from Pickering\, Ontario. A refreshing Father/Daughter act\, full of fun\, and sometimes corny country humor. While singing the classic favourites\, Alison plays her acoustic guitar with solid accompaniment from Scott on the upright bass. Come out and find out how Alison and Scott truly demonstrate that the country classics are now the new “new country”.
URL:https://harmonycentre.ca/event/classic-country-music-christmas-concert
CATEGORIES:Music,Performances
ATTACH;FMTTYPE=image/jpeg:https://harmonycentre.ca/wp-content/uploads/2025/11/Unknown.jpeg
END:VEVENT
BEGIN:VEVENT
DTSTART;TZID=America/Toronto:20251209T090000
DTEND;TZID=America/Toronto:20251209T210000
DTSTAMP:20260421T201615
CREATED:20250904T190401Z
LAST-MODIFIED:20250904T194905Z
UID:10007045-1765270800-1765314000@harmonycentre.ca
SUMMARY:Guitar Lessons & Workshops
DESCRIPTION:Call or text Gary for info on lessons and workshops at 365 889 4784 \nGary will arrange classes and workshops with interested students at a mutually available time and date when they call or text him for info. \nTuesdays are currently the preferred day for September startup.
URL:https://harmonycentre.ca/event/lessons-workshops/2025-12-09
CATEGORIES:Classes,Music,Things to do
ATTACH;FMTTYPE=image/jpeg:https://harmonycentre.ca/wp-content/uploads/2025/09/image-1.jpeg
END:VEVENT
BEGIN:VEVENT
DTSTART;TZID=America/Toronto:20251207T183000
DTEND;TZID=America/Toronto:20251207T200000
DTSTAMP:20260421T201615
CREATED:20250827T150016Z
LAST-MODIFIED:20250917T152149Z
UID:10006336-1765132200-1765137600@harmonycentre.ca
SUMMARY:Rock the Sound Choir
DESCRIPTION:Holly Sled’s Rock the Sound Choir is back – sign up for a welcoming singing experience with rock’n’roll repertoire – early bird pricing is up until August 20! \nRegister here.
URL:https://harmonycentre.ca/event/rock-the-sound-choir-2/2025-12-07
CATEGORIES:Music,Sing,Things to do
ATTACH;FMTTYPE=image/jpeg:https://harmonycentre.ca/wp-content/uploads/2025/08/image-4.jpeg
END:VEVENT
BEGIN:VEVENT
DTSTART;TZID=America/Toronto:20251207T130000
DTEND;TZID=America/Toronto:20251207T150000
DTSTAMP:20260421T201615
CREATED:20250930T183108Z
LAST-MODIFIED:20250930T183440Z
UID:10007384-1765112400-1765119600@harmonycentre.ca
SUMMARY:Get Yer CELTIC on!
DESCRIPTION:Do you… Love the sound of Celtic music? \nAre you… Unable to stop your feet moving to the sound of a lively Jig or Reel? \nCan you… Play a scale on a Fiddle? Banjo? Mandolin? Guitar? Pennywhistle? Flute? Harmonica? Accordion? Concertina? Harp? Piano? Your great Aunt Lavinia’s false teeth? \nIf you answered yes… then you have all it takes to Get yer CELTIC on! Come join our informal group of celt(ish) folks who meet to talk and learn and play tunes together on Sunday afternoons. \nTunes are taught the old way\, by ear\, phrase-by-phrase – together in community. You just need a basic playing ability on your instrument – we’ll come alongside you wherever you are on your musical journey and get you up to speed… faster than a Kerry polka. It’s good craie! \nJoin us and check it out – first and third Sundays of the month 1:00 pm to 3:00 pm in the Harmony Centre Boardroom – all you need is your instrument and $3 per person. \nContact: iain@sandon.ca
URL:https://harmonycentre.ca/event/get-yer-celtic-on-3-2-2/2025-12-07
CATEGORIES:Classes,Music,Things to do
ATTACH;FMTTYPE=image/jpeg:https://harmonycentre.ca/wp-content/uploads/2024/05/Get-yer-Celtic-on.jpg
END:VEVENT
BEGIN:VEVENT
DTSTART;TZID=America/Toronto:20251207T103000
DTEND;TZID=America/Toronto:20251207T120000
DTSTAMP:20260421T201615
CREATED:20250930T184143Z
LAST-MODIFIED:20250930T184143Z
UID:10007449-1765103400-1765108800@harmonycentre.ca
SUMMARY:Solidarity Sundays
DESCRIPTION:All ages\, community building hang-out with crafts\, games\, music\, tea and coffee. Please bring a snack to share and a small cash donation! Happening Sundays at the Harmony Centre from October 19th 2025 through to April 26th\, 2026!
URL:https://harmonycentre.ca/event/solidarity-sundays-2/2025-12-07
CATEGORIES:Groups,Music,Things to do
ATTACH;FMTTYPE=image/png:https://harmonycentre.ca/wp-content/uploads/2025/09/SolSun-2025-2026-Poster-09a2d255d528a422c17130b90882717f.png
END:VEVENT
BEGIN:VEVENT
DTSTART;TZID=America/Toronto:20251204T190000
DTEND;TZID=America/Toronto:20251204T203000
DTSTAMP:20260421T201615
CREATED:20251112T215414Z
LAST-MODIFIED:20251203T163715Z
UID:10007550-1764874800-1764880200@harmonycentre.ca
SUMMARY:A Charlie Brown Christmas Ft. The Glenn Paul Trio
DESCRIPTION:The Glenn Paul Trio brings Vince Guaraldi’s holiday magic to Harmony Centre\, Thursday December 4th. \n🎄 A Charlie Brown Christmas – The Music of Vince Guaraldi🎄\nExperience the timeless music that has become the soundtrack to the holidays for generations. \nThe Glenn Paul Trio brings Vince Guaraldi’s iconic A Charlie Brown Christmas album to life with authenticity\, charm\, and a touch of holiday magic. \nMore than just a concert\, this is a nostalgic journey back to cozy living rooms\, crackling vinyl\, and the wide-eyed wonder of childhood. \nWith 10 sold-out shows across Southern Ontario in 2024\, this performance has become a cherished holiday tradition for jazz lovers\, families\, and anyone who holds A Charlie Brown Christmas close to their heart. \nAdvance tickets available HERE.
URL:https://harmonycentre.ca/event/a-charlie-brown-christmas-ft-the-glenn-paul-trio
CATEGORIES:Music,Performances
ATTACH;FMTTYPE=image/jpeg:https://harmonycentre.ca/wp-content/uploads/2025/11/Harmony-center-web-927-x-1200-px-c378a45fff2fd5c4e2a07ad7f7fedadd.jpg
END:VEVENT
BEGIN:VEVENT
DTSTART;TZID=America/Toronto:20251203T190000
DTEND;TZID=America/Toronto:20251203T210000
DTSTAMP:20260421T201615
CREATED:20251117T161235Z
LAST-MODIFIED:20251117T163107Z
UID:10007552-1764788400-1764795600@harmonycentre.ca
SUMMARY:Grey Country Kiwanis Christmas Concert Fundraiser
DESCRIPTION:Excellent music in support of a great cause. \nThe annual Christmas Concert fundraiser for the Grey Country Kiwanis Festival of Music. \nWednesday Dec 3 at 7pm (doors 6:30pm). \nAdmission is by donation.
URL:https://harmonycentre.ca/event/grey-country-kiwanis-christmas-concert-fundraiser
CATEGORIES:Music,Performances
ATTACH;FMTTYPE=image/jpeg:https://harmonycentre.ca/wp-content/uploads/2025/11/582316400_1144387284529309_3351336412721928101_n.jpg
END:VEVENT
BEGIN:VEVENT
DTSTART;TZID=America/Toronto:20251202T090000
DTEND;TZID=America/Toronto:20251202T210000
DTSTAMP:20260421T201615
CREATED:20250904T190401Z
LAST-MODIFIED:20250904T194905Z
UID:10007044-1764666000-1764709200@harmonycentre.ca
SUMMARY:Guitar Lessons & Workshops
DESCRIPTION:Call or text Gary for info on lessons and workshops at 365 889 4784 \nGary will arrange classes and workshops with interested students at a mutually available time and date when they call or text him for info. \nTuesdays are currently the preferred day for September startup.
URL:https://harmonycentre.ca/event/lessons-workshops/2025-12-02
CATEGORIES:Classes,Music,Things to do
ATTACH;FMTTYPE=image/jpeg:https://harmonycentre.ca/wp-content/uploads/2025/09/image-1.jpeg
END:VEVENT
BEGIN:VEVENT
DTSTART;TZID=America/Toronto:20251130T103000
DTEND;TZID=America/Toronto:20251130T120000
DTSTAMP:20260421T201615
CREATED:20250930T184143Z
LAST-MODIFIED:20250930T184143Z
UID:10007448-1764498600-1764504000@harmonycentre.ca
SUMMARY:Solidarity Sundays
DESCRIPTION:All ages\, community building hang-out with crafts\, games\, music\, tea and coffee. Please bring a snack to share and a small cash donation! Happening Sundays at the Harmony Centre from October 19th 2025 through to April 26th\, 2026!
URL:https://harmonycentre.ca/event/solidarity-sundays-2/2025-11-30
CATEGORIES:Groups,Music,Things to do
ATTACH;FMTTYPE=image/png:https://harmonycentre.ca/wp-content/uploads/2025/09/SolSun-2025-2026-Poster-09a2d255d528a422c17130b90882717f.png
END:VEVENT
BEGIN:VEVENT
DTSTART;TZID=America/Toronto:20251126T183000
DTEND;TZID=America/Toronto:20251126T200000
DTSTAMP:20260421T201615
CREATED:20250905T142205Z
LAST-MODIFIED:20250905T142205Z
UID:10007106-1764181800-1764187200@harmonycentre.ca
SUMMARY:DRUM!!
DESCRIPTION:Join our community drum circle Wednesday evenings in the Greaves Auditorium. No experience is necessary. Each week there will be the introduction of an African rhythm\, and a time for open jam.\nAll are welcome – please contact me for further information. Instruments can be available.
URL:https://harmonycentre.ca/event/drum-2/2025-11-26
CATEGORIES:Classes,Music,Things to do
ATTACH;FMTTYPE=image/jpeg:https://harmonycentre.ca/wp-content/uploads/2025/09/IMG_7108-e1f0baa0e299613897a1e5b36aa547e9-scaled.jpeg
END:VEVENT
BEGIN:VEVENT
DTSTART;TZID=America/Toronto:20251125T090000
DTEND;TZID=America/Toronto:20251125T210000
DTSTAMP:20260421T201615
CREATED:20250904T190401Z
LAST-MODIFIED:20250904T194905Z
UID:10007043-1764061200-1764104400@harmonycentre.ca
SUMMARY:Guitar Lessons & Workshops
DESCRIPTION:Call or text Gary for info on lessons and workshops at 365 889 4784 \nGary will arrange classes and workshops with interested students at a mutually available time and date when they call or text him for info. \nTuesdays are currently the preferred day for September startup.
URL:https://harmonycentre.ca/event/lessons-workshops/2025-11-25
CATEGORIES:Classes,Music,Things to do
ATTACH;FMTTYPE=image/jpeg:https://harmonycentre.ca/wp-content/uploads/2025/09/image-1.jpeg
END:VEVENT
BEGIN:VEVENT
DTSTART;TZID=America/Toronto:20251123T183000
DTEND;TZID=America/Toronto:20251123T200000
DTSTAMP:20260421T201615
CREATED:20250827T150016Z
LAST-MODIFIED:20250917T152149Z
UID:10006335-1763922600-1763928000@harmonycentre.ca
SUMMARY:Rock the Sound Choir
DESCRIPTION:Holly Sled’s Rock the Sound Choir is back – sign up for a welcoming singing experience with rock’n’roll repertoire – early bird pricing is up until August 20! \nRegister here.
URL:https://harmonycentre.ca/event/rock-the-sound-choir-2/2025-11-23
CATEGORIES:Music,Sing,Things to do
ATTACH;FMTTYPE=image/jpeg:https://harmonycentre.ca/wp-content/uploads/2025/08/image-4.jpeg
END:VEVENT
BEGIN:VEVENT
DTSTART;TZID=America/Toronto:20251123T103000
DTEND;TZID=America/Toronto:20251123T120000
DTSTAMP:20260421T201615
CREATED:20250930T184143Z
LAST-MODIFIED:20250930T184143Z
UID:10007447-1763893800-1763899200@harmonycentre.ca
SUMMARY:Solidarity Sundays
DESCRIPTION:All ages\, community building hang-out with crafts\, games\, music\, tea and coffee. Please bring a snack to share and a small cash donation! Happening Sundays at the Harmony Centre from October 19th 2025 through to April 26th\, 2026!
URL:https://harmonycentre.ca/event/solidarity-sundays-2/2025-11-23
CATEGORIES:Groups,Music,Things to do
ATTACH;FMTTYPE=image/png:https://harmonycentre.ca/wp-content/uploads/2025/09/SolSun-2025-2026-Poster-09a2d255d528a422c17130b90882717f.png
END:VEVENT
BEGIN:VEVENT
DTSTART;TZID=America/Toronto:20251119T183000
DTEND;TZID=America/Toronto:20251119T200000
DTSTAMP:20260421T201615
CREATED:20250905T142205Z
LAST-MODIFIED:20250905T142205Z
UID:10007105-1763577000-1763582400@harmonycentre.ca
SUMMARY:DRUM!!
DESCRIPTION:Join our community drum circle Wednesday evenings in the Greaves Auditorium. No experience is necessary. Each week there will be the introduction of an African rhythm\, and a time for open jam.\nAll are welcome – please contact me for further information. Instruments can be available.
URL:https://harmonycentre.ca/event/drum-2/2025-11-19
CATEGORIES:Classes,Music,Things to do
ATTACH;FMTTYPE=image/jpeg:https://harmonycentre.ca/wp-content/uploads/2025/09/IMG_7108-e1f0baa0e299613897a1e5b36aa547e9-scaled.jpeg
END:VEVENT
BEGIN:VEVENT
DTSTART;TZID=America/Toronto:20251118T090000
DTEND;TZID=America/Toronto:20251118T210000
DTSTAMP:20260421T201615
CREATED:20250904T190401Z
LAST-MODIFIED:20250904T194905Z
UID:10007042-1763456400-1763499600@harmonycentre.ca
SUMMARY:Guitar Lessons & Workshops
DESCRIPTION:Call or text Gary for info on lessons and workshops at 365 889 4784 \nGary will arrange classes and workshops with interested students at a mutually available time and date when they call or text him for info. \nTuesdays are currently the preferred day for September startup.
URL:https://harmonycentre.ca/event/lessons-workshops/2025-11-18
CATEGORIES:Classes,Music,Things to do
ATTACH;FMTTYPE=image/jpeg:https://harmonycentre.ca/wp-content/uploads/2025/09/image-1.jpeg
END:VEVENT
BEGIN:VEVENT
DTSTART;TZID=America/Toronto:20251116T183000
DTEND;TZID=America/Toronto:20251116T200000
DTSTAMP:20260421T201615
CREATED:20250827T150016Z
LAST-MODIFIED:20250917T152149Z
UID:10006334-1763317800-1763323200@harmonycentre.ca
SUMMARY:Rock the Sound Choir
DESCRIPTION:Holly Sled’s Rock the Sound Choir is back – sign up for a welcoming singing experience with rock’n’roll repertoire – early bird pricing is up until August 20! \nRegister here.
URL:https://harmonycentre.ca/event/rock-the-sound-choir-2/2025-11-16
CATEGORIES:Music,Sing,Things to do
ATTACH;FMTTYPE=image/jpeg:https://harmonycentre.ca/wp-content/uploads/2025/08/image-4.jpeg
END:VEVENT
BEGIN:VEVENT
DTSTART;TZID=America/Toronto:20251116T103000
DTEND;TZID=America/Toronto:20251116T120000
DTSTAMP:20260421T201615
CREATED:20250930T184143Z
LAST-MODIFIED:20250930T184143Z
UID:10007446-1763289000-1763294400@harmonycentre.ca
SUMMARY:Solidarity Sundays
DESCRIPTION:All ages\, community building hang-out with crafts\, games\, music\, tea and coffee. Please bring a snack to share and a small cash donation! Happening Sundays at the Harmony Centre from October 19th 2025 through to April 26th\, 2026!
URL:https://harmonycentre.ca/event/solidarity-sundays-2/2025-11-16
CATEGORIES:Groups,Music,Things to do
ATTACH;FMTTYPE=image/png:https://harmonycentre.ca/wp-content/uploads/2025/09/SolSun-2025-2026-Poster-09a2d255d528a422c17130b90882717f.png
END:VEVENT
BEGIN:VEVENT
DTSTART;TZID=America/Toronto:20251112T183000
DTEND;TZID=America/Toronto:20251112T200000
DTSTAMP:20260421T201615
CREATED:20250905T142205Z
LAST-MODIFIED:20250905T142205Z
UID:10007104-1762972200-1762977600@harmonycentre.ca
SUMMARY:DRUM!!
DESCRIPTION:Join our community drum circle Wednesday evenings in the Greaves Auditorium. No experience is necessary. Each week there will be the introduction of an African rhythm\, and a time for open jam.\nAll are welcome – please contact me for further information. Instruments can be available.
URL:https://harmonycentre.ca/event/drum-2/2025-11-12
CATEGORIES:Classes,Music,Things to do
ATTACH;FMTTYPE=image/jpeg:https://harmonycentre.ca/wp-content/uploads/2025/09/IMG_7108-e1f0baa0e299613897a1e5b36aa547e9-scaled.jpeg
END:VEVENT
BEGIN:VEVENT
DTSTART;TZID=America/Toronto:20251111T090000
DTEND;TZID=America/Toronto:20251111T210000
DTSTAMP:20260421T201615
CREATED:20250904T190401Z
LAST-MODIFIED:20250904T194905Z
UID:10007041-1762851600-1762894800@harmonycentre.ca
SUMMARY:Guitar Lessons & Workshops
DESCRIPTION:Call or text Gary for info on lessons and workshops at 365 889 4784 \nGary will arrange classes and workshops with interested students at a mutually available time and date when they call or text him for info. \nTuesdays are currently the preferred day for September startup.
URL:https://harmonycentre.ca/event/lessons-workshops/2025-11-11
CATEGORIES:Classes,Music,Things to do
ATTACH;FMTTYPE=image/jpeg:https://harmonycentre.ca/wp-content/uploads/2025/09/image-1.jpeg
END:VEVENT
BEGIN:VEVENT
DTSTART;TZID=America/Toronto:20251109T183000
DTEND;TZID=America/Toronto:20251109T200000
DTSTAMP:20260421T201616
CREATED:20250827T150016Z
LAST-MODIFIED:20250917T152149Z
UID:10006333-1762713000-1762718400@harmonycentre.ca
SUMMARY:Rock the Sound Choir
DESCRIPTION:Holly Sled’s Rock the Sound Choir is back – sign up for a welcoming singing experience with rock’n’roll repertoire – early bird pricing is up until August 20! \nRegister here.
URL:https://harmonycentre.ca/event/rock-the-sound-choir-2/2025-11-09
CATEGORIES:Music,Sing,Things to do
ATTACH;FMTTYPE=image/jpeg:https://harmonycentre.ca/wp-content/uploads/2025/08/image-4.jpeg
END:VEVENT
BEGIN:VEVENT
DTSTART;TZID=America/Toronto:20251109T103000
DTEND;TZID=America/Toronto:20251109T120000
DTSTAMP:20260421T201616
CREATED:20250930T184143Z
LAST-MODIFIED:20250930T184143Z
UID:10007445-1762684200-1762689600@harmonycentre.ca
SUMMARY:Solidarity Sundays
DESCRIPTION:All ages\, community building hang-out with crafts\, games\, music\, tea and coffee. Please bring a snack to share and a small cash donation! Happening Sundays at the Harmony Centre from October 19th 2025 through to April 26th\, 2026!
URL:https://harmonycentre.ca/event/solidarity-sundays-2/2025-11-09
CATEGORIES:Groups,Music,Things to do
ATTACH;FMTTYPE=image/png:https://harmonycentre.ca/wp-content/uploads/2025/09/SolSun-2025-2026-Poster-09a2d255d528a422c17130b90882717f.png
END:VEVENT
END:VCALENDAR