BEGIN:VCALENDAR
VERSION:2.0
PRODID:-//Harmony Centre Owen Sound - ECPv6.11.0.1//NONSGML v1.0//EN
CALSCALE:GREGORIAN
METHOD:PUBLISH
X-ORIGINAL-URL:https://harmonycentre.ca
X-WR-CALDESC:Events for Harmony Centre Owen Sound
REFRESH-INTERVAL;VALUE=DURATION:PT1H
X-Robots-Tag:noindex
X-PUBLISHED-TTL:PT1H
BEGIN:VTIMEZONE
TZID:America/Toronto
BEGIN:DAYLIGHT
TZOFFSETFROM:-0500
TZOFFSETTO:-0400
TZNAME:EDT
DTSTART:20250309T070000
END:DAYLIGHT
BEGIN:STANDARD
TZOFFSETFROM:-0400
TZOFFSETTO:-0500
TZNAME:EST
DTSTART:20251102T060000
END:STANDARD
END:VTIMEZONE
BEGIN:VEVENT
DTSTART;TZID=America/Toronto:20251109T183000
DTEND;TZID=America/Toronto:20251109T200000
DTSTAMP:20260424T095539
CREATED:20250827T150016Z
LAST-MODIFIED:20250917T152149Z
UID:10006333-1762713000-1762718400@harmonycentre.ca
SUMMARY:Rock the Sound Choir
DESCRIPTION:Holly Sled’s Rock the Sound Choir is back – sign up for a welcoming singing experience with rock’n’roll repertoire – early bird pricing is up until August 20! \nRegister here.
URL:https://harmonycentre.ca/event/rock-the-sound-choir-2/2025-11-09
CATEGORIES:Music,Sing,Things to do
ATTACH;FMTTYPE=image/jpeg:https://harmonycentre.ca/wp-content/uploads/2025/08/image-4.jpeg
END:VEVENT
BEGIN:VEVENT
DTSTART;TZID=America/Toronto:20251109T103000
DTEND;TZID=America/Toronto:20251109T120000
DTSTAMP:20260424T095539
CREATED:20250930T184143Z
LAST-MODIFIED:20250930T184143Z
UID:10007445-1762684200-1762689600@harmonycentre.ca
SUMMARY:Solidarity Sundays
DESCRIPTION:All ages\, community building hang-out with crafts\, games\, music\, tea and coffee. Please bring a snack to share and a small cash donation! Happening Sundays at the Harmony Centre from October 19th 2025 through to April 26th\, 2026!
URL:https://harmonycentre.ca/event/solidarity-sundays-2/2025-11-09
CATEGORIES:Groups,Music,Things to do
ATTACH;FMTTYPE=image/png:https://harmonycentre.ca/wp-content/uploads/2025/09/SolSun-2025-2026-Poster-09a2d255d528a422c17130b90882717f.png
END:VEVENT
BEGIN:VEVENT
DTSTART;TZID=America/Toronto:20251105T183000
DTEND;TZID=America/Toronto:20251105T200000
DTSTAMP:20260424T095539
CREATED:20250905T142205Z
LAST-MODIFIED:20250905T142205Z
UID:10007103-1762367400-1762372800@harmonycentre.ca
SUMMARY:DRUM!!
DESCRIPTION:Join our community drum circle Wednesday evenings in the Greaves Auditorium. No experience is necessary. Each week there will be the introduction of an African rhythm\, and a time for open jam.\nAll are welcome – please contact me for further information. Instruments can be available.
URL:https://harmonycentre.ca/event/drum-2/2025-11-05
CATEGORIES:Classes,Music,Things to do
ATTACH;FMTTYPE=image/jpeg:https://harmonycentre.ca/wp-content/uploads/2025/09/IMG_7108-e1f0baa0e299613897a1e5b36aa547e9-scaled.jpeg
END:VEVENT
BEGIN:VEVENT
DTSTART;TZID=America/Toronto:20251104T090000
DTEND;TZID=America/Toronto:20251104T210000
DTSTAMP:20260424T095539
CREATED:20250904T190401Z
LAST-MODIFIED:20250904T194905Z
UID:10007040-1762246800-1762290000@harmonycentre.ca
SUMMARY:Guitar Lessons & Workshops
DESCRIPTION:Call or text Gary for info on lessons and workshops at 365 889 4784 \nGary will arrange classes and workshops with interested students at a mutually available time and date when they call or text him for info. \nTuesdays are currently the preferred day for September startup.
URL:https://harmonycentre.ca/event/lessons-workshops/2025-11-04
CATEGORIES:Classes,Music,Things to do
ATTACH;FMTTYPE=image/jpeg:https://harmonycentre.ca/wp-content/uploads/2025/09/image-1.jpeg
END:VEVENT
BEGIN:VEVENT
DTSTART;TZID=America/Toronto:20251102T130000
DTEND;TZID=America/Toronto:20251102T150000
DTSTAMP:20260424T095539
CREATED:20250930T183108Z
LAST-MODIFIED:20250930T183440Z
UID:10007383-1762088400-1762095600@harmonycentre.ca
SUMMARY:Get Yer CELTIC on!
DESCRIPTION:Do you… Love the sound of Celtic music? \nAre you… Unable to stop your feet moving to the sound of a lively Jig or Reel? \nCan you… Play a scale on a Fiddle? Banjo? Mandolin? Guitar? Pennywhistle? Flute? Harmonica? Accordion? Concertina? Harp? Piano? Your great Aunt Lavinia’s false teeth? \nIf you answered yes… then you have all it takes to Get yer CELTIC on! Come join our informal group of celt(ish) folks who meet to talk and learn and play tunes together on Sunday afternoons. \nTunes are taught the old way\, by ear\, phrase-by-phrase – together in community. You just need a basic playing ability on your instrument – we’ll come alongside you wherever you are on your musical journey and get you up to speed… faster than a Kerry polka. It’s good craie! \nJoin us and check it out – first and third Sundays of the month 1:00 pm to 3:00 pm in the Harmony Centre Boardroom – all you need is your instrument and $3 per person. \nContact: iain@sandon.ca
URL:https://harmonycentre.ca/event/get-yer-celtic-on-3-2-2/2025-11-02
CATEGORIES:Classes,Music,Things to do
ATTACH;FMTTYPE=image/jpeg:https://harmonycentre.ca/wp-content/uploads/2024/05/Get-yer-Celtic-on.jpg
END:VEVENT
BEGIN:VEVENT
DTSTART;TZID=America/Toronto:20251102T103000
DTEND;TZID=America/Toronto:20251102T120000
DTSTAMP:20260424T095539
CREATED:20250930T184143Z
LAST-MODIFIED:20250930T184143Z
UID:10007444-1762079400-1762084800@harmonycentre.ca
SUMMARY:Solidarity Sundays
DESCRIPTION:All ages\, community building hang-out with crafts\, games\, music\, tea and coffee. Please bring a snack to share and a small cash donation! Happening Sundays at the Harmony Centre from October 19th 2025 through to April 26th\, 2026!
URL:https://harmonycentre.ca/event/solidarity-sundays-2/2025-11-02
CATEGORIES:Groups,Music,Things to do
ATTACH;FMTTYPE=image/png:https://harmonycentre.ca/wp-content/uploads/2025/09/SolSun-2025-2026-Poster-09a2d255d528a422c17130b90882717f.png
END:VEVENT
BEGIN:VEVENT
DTSTART;TZID=America/Toronto:20251029T183000
DTEND;TZID=America/Toronto:20251029T200000
DTSTAMP:20260424T095539
CREATED:20250905T142205Z
LAST-MODIFIED:20250905T142205Z
UID:10007102-1761762600-1761768000@harmonycentre.ca
SUMMARY:DRUM!!
DESCRIPTION:Join our community drum circle Wednesday evenings in the Greaves Auditorium. No experience is necessary. Each week there will be the introduction of an African rhythm\, and a time for open jam.\nAll are welcome – please contact me for further information. Instruments can be available.
URL:https://harmonycentre.ca/event/drum-2/2025-10-29
CATEGORIES:Classes,Music,Things to do
ATTACH;FMTTYPE=image/jpeg:https://harmonycentre.ca/wp-content/uploads/2025/09/IMG_7108-e1f0baa0e299613897a1e5b36aa547e9-scaled.jpeg
END:VEVENT
BEGIN:VEVENT
DTSTART;TZID=America/Toronto:20251028T090000
DTEND;TZID=America/Toronto:20251028T210000
DTSTAMP:20260424T095539
CREATED:20250904T190401Z
LAST-MODIFIED:20250904T194905Z
UID:10007039-1761642000-1761685200@harmonycentre.ca
SUMMARY:Guitar Lessons & Workshops
DESCRIPTION:Call or text Gary for info on lessons and workshops at 365 889 4784 \nGary will arrange classes and workshops with interested students at a mutually available time and date when they call or text him for info. \nTuesdays are currently the preferred day for September startup.
URL:https://harmonycentre.ca/event/lessons-workshops/2025-10-28
CATEGORIES:Classes,Music,Things to do
ATTACH;FMTTYPE=image/jpeg:https://harmonycentre.ca/wp-content/uploads/2025/09/image-1.jpeg
END:VEVENT
BEGIN:VEVENT
DTSTART;TZID=America/Toronto:20251026T183000
DTEND;TZID=America/Toronto:20251026T200000
DTSTAMP:20260424T095539
CREATED:20250827T150016Z
LAST-MODIFIED:20250917T152149Z
UID:10006332-1761503400-1761508800@harmonycentre.ca
SUMMARY:Rock the Sound Choir
DESCRIPTION:Holly Sled’s Rock the Sound Choir is back – sign up for a welcoming singing experience with rock’n’roll repertoire – early bird pricing is up until August 20! \nRegister here.
URL:https://harmonycentre.ca/event/rock-the-sound-choir-2/2025-10-26
CATEGORIES:Music,Sing,Things to do
ATTACH;FMTTYPE=image/jpeg:https://harmonycentre.ca/wp-content/uploads/2025/08/image-4.jpeg
END:VEVENT
BEGIN:VEVENT
DTSTART;TZID=America/Toronto:20251026T143000
DTEND;TZID=America/Toronto:20251026T161500
DTSTAMP:20260424T095540
CREATED:20251014T131520Z
LAST-MODIFIED:20251021T142659Z
UID:10007526-1761489000-1761495300@harmonycentre.ca
SUMMARY:"Music for the Trees" Norman Liota In Concert
DESCRIPTION:A NeighbourWoods North Fundraiser \nPlease join us for an unforgettable event. We’re planning something you won’t want to miss\, and we hope to see you there. \nDoors Open at 1:45 PM \nAdmission $20 at the Door \nBar – Cash Donation \nRSVP by Phone or Text to Lloyd Lewis at 519-993-5581 OR Email at rhiandlloyd@gmail.com \n\n__\n \n\nNeighbourWoods North is a part of the Owen Sound Field Naturalists (OSFN). OSFN advocate and nurture the appreciation\, understanding\, and conservation of our natural world. Knowing Nature Better \n  \n\n 
URL:https://harmonycentre.ca/event/music-for-the-trees-norman-liota-in-concert
CATEGORIES:Music,Performances
ATTACH;FMTTYPE=image/png:https://harmonycentre.ca/wp-content/uploads/2025/10/image.png
END:VEVENT
BEGIN:VEVENT
DTSTART;TZID=America/Toronto:20251026T103000
DTEND;TZID=America/Toronto:20251026T120000
DTSTAMP:20260424T095540
CREATED:20250930T184143Z
LAST-MODIFIED:20250930T184143Z
UID:10007443-1761474600-1761480000@harmonycentre.ca
SUMMARY:Solidarity Sundays
DESCRIPTION:All ages\, community building hang-out with crafts\, games\, music\, tea and coffee. Please bring a snack to share and a small cash donation! Happening Sundays at the Harmony Centre from October 19th 2025 through to April 26th\, 2026!
URL:https://harmonycentre.ca/event/solidarity-sundays-2/2025-10-26
CATEGORIES:Groups,Music,Things to do
ATTACH;FMTTYPE=image/png:https://harmonycentre.ca/wp-content/uploads/2025/09/SolSun-2025-2026-Poster-09a2d255d528a422c17130b90882717f.png
END:VEVENT
BEGIN:VEVENT
DTSTART;TZID=America/Toronto:20251024T190000
DTEND;TZID=America/Toronto:20251024T220000
DTSTAMP:20260424T095540
CREATED:20251006T150445Z
LAST-MODIFIED:20251007T144221Z
UID:10007521-1761332400-1761343200@harmonycentre.ca
SUMMARY:Changemaker Coffee House
DESCRIPTION:BE INSPIRED! Don’t miss this imaginative mix of live entertainment and brief presentations by local community groups – all set in a coffee house style with coffee and pastries! \nChangemaker Coffee House brings together reps from nine local social change groups to deliver a series of three-minute pitches about the organization they represent\, what they do\, and what they need. These pitches are sprinkled throughout an evening filled with music from Amanda Journey\, The Ruthven Sisters\, and JD Crosstown. \nChangemakers presenting their three-minute pitches are: Food Not Bombs\, Glassworks\, M’wikwedong\, REACH\, Sydenham Bruce Trail Club\, Kiwanis\, OSHaRE… and more to come! \nGet get your tickets in advance or Pay What You Can at the door if there’s room!
URL:https://harmonycentre.ca/event/changemaker-coffee-house
CATEGORIES:Groups,Meetings,Music,Talks,Things to do
ATTACH;FMTTYPE=image/jpeg:https://harmonycentre.ca/wp-content/uploads/2025/10/558075607_1108546654780039_2394135718277712313_n.jpg
END:VEVENT
BEGIN:VEVENT
DTSTART;TZID=America/Toronto:20251022T183000
DTEND;TZID=America/Toronto:20251022T200000
DTSTAMP:20260424T095540
CREATED:20250905T142205Z
LAST-MODIFIED:20250905T142205Z
UID:10007101-1761157800-1761163200@harmonycentre.ca
SUMMARY:DRUM!!
DESCRIPTION:Join our community drum circle Wednesday evenings in the Greaves Auditorium. No experience is necessary. Each week there will be the introduction of an African rhythm\, and a time for open jam.\nAll are welcome – please contact me for further information. Instruments can be available.
URL:https://harmonycentre.ca/event/drum-2/2025-10-22
CATEGORIES:Classes,Music,Things to do
ATTACH;FMTTYPE=image/jpeg:https://harmonycentre.ca/wp-content/uploads/2025/09/IMG_7108-e1f0baa0e299613897a1e5b36aa547e9-scaled.jpeg
END:VEVENT
BEGIN:VEVENT
DTSTART;TZID=America/Toronto:20251021T090000
DTEND;TZID=America/Toronto:20251021T210000
DTSTAMP:20260424T095540
CREATED:20250904T190401Z
LAST-MODIFIED:20250904T194905Z
UID:10007038-1761037200-1761080400@harmonycentre.ca
SUMMARY:Guitar Lessons & Workshops
DESCRIPTION:Call or text Gary for info on lessons and workshops at 365 889 4784 \nGary will arrange classes and workshops with interested students at a mutually available time and date when they call or text him for info. \nTuesdays are currently the preferred day for September startup.
URL:https://harmonycentre.ca/event/lessons-workshops/2025-10-21
CATEGORIES:Classes,Music,Things to do
ATTACH;FMTTYPE=image/jpeg:https://harmonycentre.ca/wp-content/uploads/2025/09/image-1.jpeg
END:VEVENT
BEGIN:VEVENT
DTSTART;TZID=America/Toronto:20251019T183000
DTEND;TZID=America/Toronto:20251019T200000
DTSTAMP:20260424T095540
CREATED:20250827T150016Z
LAST-MODIFIED:20250917T152149Z
UID:10006331-1760898600-1760904000@harmonycentre.ca
SUMMARY:Rock the Sound Choir
DESCRIPTION:Holly Sled’s Rock the Sound Choir is back – sign up for a welcoming singing experience with rock’n’roll repertoire – early bird pricing is up until August 20! \nRegister here.
URL:https://harmonycentre.ca/event/rock-the-sound-choir-2/2025-10-19
CATEGORIES:Music,Sing,Things to do
ATTACH;FMTTYPE=image/jpeg:https://harmonycentre.ca/wp-content/uploads/2025/08/image-4.jpeg
END:VEVENT
BEGIN:VEVENT
DTSTART;TZID=America/Toronto:20251019T103000
DTEND;TZID=America/Toronto:20251019T120000
DTSTAMP:20260424T095540
CREATED:20250930T184143Z
LAST-MODIFIED:20250930T184143Z
UID:10007442-1760869800-1760875200@harmonycentre.ca
SUMMARY:Solidarity Sundays
DESCRIPTION:All ages\, community building hang-out with crafts\, games\, music\, tea and coffee. Please bring a snack to share and a small cash donation! Happening Sundays at the Harmony Centre from October 19th 2025 through to April 26th\, 2026!
URL:https://harmonycentre.ca/event/solidarity-sundays-2/2025-10-19
CATEGORIES:Groups,Music,Things to do
ATTACH;FMTTYPE=image/png:https://harmonycentre.ca/wp-content/uploads/2025/09/SolSun-2025-2026-Poster-09a2d255d528a422c17130b90882717f.png
END:VEVENT
BEGIN:VEVENT
DTSTART;TZID=America/Toronto:20251017T190000
DTEND;TZID=America/Toronto:20251017T210000
DTSTAMP:20260424T095540
CREATED:20250909T145125Z
LAST-MODIFIED:20250909T145125Z
UID:10007108-1760727600-1760734800@harmonycentre.ca
SUMMARY:Rhapsody in Blue
DESCRIPTION:It’s a Friday night\, please come and join us for a wonderful evening of memorable music. Featuring piano soloist Adrian Little.
URL:https://harmonycentre.ca/event/rhapsody-in-blue
CATEGORIES:Music,Performances,Things to do
ATTACH;FMTTYPE=image/jpeg:https://harmonycentre.ca/wp-content/uploads/2025/09/image-2.jpeg
END:VEVENT
BEGIN:VEVENT
DTSTART;TZID=America/Toronto:20251015T183000
DTEND;TZID=America/Toronto:20251015T200000
DTSTAMP:20260424T095540
CREATED:20250905T142205Z
LAST-MODIFIED:20250905T142205Z
UID:10007100-1760553000-1760558400@harmonycentre.ca
SUMMARY:DRUM!!
DESCRIPTION:Join our community drum circle Wednesday evenings in the Greaves Auditorium. No experience is necessary. Each week there will be the introduction of an African rhythm\, and a time for open jam.\nAll are welcome – please contact me for further information. Instruments can be available.
URL:https://harmonycentre.ca/event/drum-2/2025-10-15
CATEGORIES:Classes,Music,Things to do
ATTACH;FMTTYPE=image/jpeg:https://harmonycentre.ca/wp-content/uploads/2025/09/IMG_7108-e1f0baa0e299613897a1e5b36aa547e9-scaled.jpeg
END:VEVENT
BEGIN:VEVENT
DTSTART;TZID=America/Toronto:20251014T090000
DTEND;TZID=America/Toronto:20251014T210000
DTSTAMP:20260424T095540
CREATED:20250904T190401Z
LAST-MODIFIED:20250904T194905Z
UID:10007037-1760432400-1760475600@harmonycentre.ca
SUMMARY:Guitar Lessons & Workshops
DESCRIPTION:Call or text Gary for info on lessons and workshops at 365 889 4784 \nGary will arrange classes and workshops with interested students at a mutually available time and date when they call or text him for info. \nTuesdays are currently the preferred day for September startup.
URL:https://harmonycentre.ca/event/lessons-workshops/2025-10-14
CATEGORIES:Classes,Music,Things to do
ATTACH;FMTTYPE=image/jpeg:https://harmonycentre.ca/wp-content/uploads/2025/09/image-1.jpeg
END:VEVENT
BEGIN:VEVENT
DTSTART;TZID=America/Toronto:20251008T183000
DTEND;TZID=America/Toronto:20251008T200000
DTSTAMP:20260424T095540
CREATED:20250905T142205Z
LAST-MODIFIED:20250905T142205Z
UID:10007099-1759948200-1759953600@harmonycentre.ca
SUMMARY:DRUM!!
DESCRIPTION:Join our community drum circle Wednesday evenings in the Greaves Auditorium. No experience is necessary. Each week there will be the introduction of an African rhythm\, and a time for open jam.\nAll are welcome – please contact me for further information. Instruments can be available.
URL:https://harmonycentre.ca/event/drum-2/2025-10-08
CATEGORIES:Classes,Music,Things to do
ATTACH;FMTTYPE=image/jpeg:https://harmonycentre.ca/wp-content/uploads/2025/09/IMG_7108-e1f0baa0e299613897a1e5b36aa547e9-scaled.jpeg
END:VEVENT
BEGIN:VEVENT
DTSTART;TZID=America/Toronto:20251007T090000
DTEND;TZID=America/Toronto:20251007T210000
DTSTAMP:20260424T095540
CREATED:20250904T190401Z
LAST-MODIFIED:20250904T194905Z
UID:10007036-1759827600-1759870800@harmonycentre.ca
SUMMARY:Guitar Lessons & Workshops
DESCRIPTION:Call or text Gary for info on lessons and workshops at 365 889 4784 \nGary will arrange classes and workshops with interested students at a mutually available time and date when they call or text him for info. \nTuesdays are currently the preferred day for September startup.
URL:https://harmonycentre.ca/event/lessons-workshops/2025-10-07
CATEGORIES:Classes,Music,Things to do
ATTACH;FMTTYPE=image/jpeg:https://harmonycentre.ca/wp-content/uploads/2025/09/image-1.jpeg
END:VEVENT
BEGIN:VEVENT
DTSTART;TZID=America/Toronto:20251005T183000
DTEND;TZID=America/Toronto:20251005T200000
DTSTAMP:20260424T095540
CREATED:20250827T150016Z
LAST-MODIFIED:20250917T152149Z
UID:10006330-1759689000-1759694400@harmonycentre.ca
SUMMARY:Rock the Sound Choir
DESCRIPTION:Holly Sled’s Rock the Sound Choir is back – sign up for a welcoming singing experience with rock’n’roll repertoire – early bird pricing is up until August 20! \nRegister here.
URL:https://harmonycentre.ca/event/rock-the-sound-choir-2/2025-10-05
CATEGORIES:Music,Sing,Things to do
ATTACH;FMTTYPE=image/jpeg:https://harmonycentre.ca/wp-content/uploads/2025/08/image-4.jpeg
END:VEVENT
BEGIN:VEVENT
DTSTART;TZID=America/Toronto:20251005T130000
DTEND;TZID=America/Toronto:20251005T150000
DTSTAMP:20260424T095540
CREATED:20250930T183108Z
LAST-MODIFIED:20250930T183440Z
UID:10006722-1759669200-1759676400@harmonycentre.ca
SUMMARY:Get Yer CELTIC on!
DESCRIPTION:Do you… Love the sound of Celtic music? \nAre you… Unable to stop your feet moving to the sound of a lively Jig or Reel? \nCan you… Play a scale on a Fiddle? Banjo? Mandolin? Guitar? Pennywhistle? Flute? Harmonica? Accordion? Concertina? Harp? Piano? Your great Aunt Lavinia’s false teeth? \nIf you answered yes… then you have all it takes to Get yer CELTIC on! Come join our informal group of celt(ish) folks who meet to talk and learn and play tunes together on Sunday afternoons. \nTunes are taught the old way\, by ear\, phrase-by-phrase – together in community. You just need a basic playing ability on your instrument – we’ll come alongside you wherever you are on your musical journey and get you up to speed… faster than a Kerry polka. It’s good craie! \nJoin us and check it out – first and third Sundays of the month 1:00 pm to 3:00 pm in the Harmony Centre Boardroom – all you need is your instrument and $3 per person. \nContact: iain@sandon.ca
URL:https://harmonycentre.ca/event/get-yer-celtic-on-3-2-2/2025-10-05
CATEGORIES:Classes,Music,Things to do
ATTACH;FMTTYPE=image/jpeg:https://harmonycentre.ca/wp-content/uploads/2024/05/Get-yer-Celtic-on.jpg
END:VEVENT
BEGIN:VEVENT
DTSTART;TZID=America/Toronto:20251001T183000
DTEND;TZID=America/Toronto:20251001T200000
DTSTAMP:20260424T095540
CREATED:20250905T142205Z
LAST-MODIFIED:20250905T142205Z
UID:10007098-1759343400-1759348800@harmonycentre.ca
SUMMARY:DRUM!!
DESCRIPTION:Join our community drum circle Wednesday evenings in the Greaves Auditorium. No experience is necessary. Each week there will be the introduction of an African rhythm\, and a time for open jam.\nAll are welcome – please contact me for further information. Instruments can be available.
URL:https://harmonycentre.ca/event/drum-2/2025-10-01
CATEGORIES:Classes,Music,Things to do
ATTACH;FMTTYPE=image/jpeg:https://harmonycentre.ca/wp-content/uploads/2025/09/IMG_7108-e1f0baa0e299613897a1e5b36aa547e9-scaled.jpeg
END:VEVENT
BEGIN:VEVENT
DTSTART;TZID=America/Toronto:20250930T090000
DTEND;TZID=America/Toronto:20250930T210000
DTSTAMP:20260424T095540
CREATED:20250904T190401Z
LAST-MODIFIED:20250904T194905Z
UID:10007035-1759222800-1759266000@harmonycentre.ca
SUMMARY:Guitar Lessons & Workshops
DESCRIPTION:Call or text Gary for info on lessons and workshops at 365 889 4784 \nGary will arrange classes and workshops with interested students at a mutually available time and date when they call or text him for info. \nTuesdays are currently the preferred day for September startup.
URL:https://harmonycentre.ca/event/lessons-workshops/2025-09-30
CATEGORIES:Classes,Music,Things to do
ATTACH;FMTTYPE=image/jpeg:https://harmonycentre.ca/wp-content/uploads/2025/09/image-1.jpeg
END:VEVENT
BEGIN:VEVENT
DTSTART;TZID=America/Toronto:20250928T183000
DTEND;TZID=America/Toronto:20250928T200000
DTSTAMP:20260424T095540
CREATED:20250827T150016Z
LAST-MODIFIED:20250917T152149Z
UID:10006329-1759084200-1759089600@harmonycentre.ca
SUMMARY:Rock the Sound Choir
DESCRIPTION:Holly Sled’s Rock the Sound Choir is back – sign up for a welcoming singing experience with rock’n’roll repertoire – early bird pricing is up until August 20! \nRegister here.
URL:https://harmonycentre.ca/event/rock-the-sound-choir-2/2025-09-28
CATEGORIES:Music,Sing,Things to do
ATTACH;FMTTYPE=image/jpeg:https://harmonycentre.ca/wp-content/uploads/2025/08/image-4.jpeg
END:VEVENT
BEGIN:VEVENT
DTSTART;TZID=America/Toronto:20250924T183000
DTEND;TZID=America/Toronto:20250924T200000
DTSTAMP:20260424T095540
CREATED:20250905T142205Z
LAST-MODIFIED:20250905T142205Z
UID:10007097-1758738600-1758744000@harmonycentre.ca
SUMMARY:DRUM!!
DESCRIPTION:Join our community drum circle Wednesday evenings in the Greaves Auditorium. No experience is necessary. Each week there will be the introduction of an African rhythm\, and a time for open jam.\nAll are welcome – please contact me for further information. Instruments can be available.
URL:https://harmonycentre.ca/event/drum-2/2025-09-24
CATEGORIES:Classes,Music,Things to do
ATTACH;FMTTYPE=image/jpeg:https://harmonycentre.ca/wp-content/uploads/2025/09/IMG_7108-e1f0baa0e299613897a1e5b36aa547e9-scaled.jpeg
END:VEVENT
BEGIN:VEVENT
DTSTART;TZID=America/Toronto:20250923T090000
DTEND;TZID=America/Toronto:20250923T210000
DTSTAMP:20260424T095540
CREATED:20250904T190401Z
LAST-MODIFIED:20250904T194905Z
UID:10007034-1758618000-1758661200@harmonycentre.ca
SUMMARY:Guitar Lessons & Workshops
DESCRIPTION:Call or text Gary for info on lessons and workshops at 365 889 4784 \nGary will arrange classes and workshops with interested students at a mutually available time and date when they call or text him for info. \nTuesdays are currently the preferred day for September startup.
URL:https://harmonycentre.ca/event/lessons-workshops/2025-09-23
CATEGORIES:Classes,Music,Things to do
ATTACH;FMTTYPE=image/jpeg:https://harmonycentre.ca/wp-content/uploads/2025/09/image-1.jpeg
END:VEVENT
BEGIN:VEVENT
DTSTART;TZID=America/Toronto:20250921T183000
DTEND;TZID=America/Toronto:20250921T200000
DTSTAMP:20260424T095540
CREATED:20250827T150016Z
LAST-MODIFIED:20250917T152149Z
UID:10006328-1758479400-1758484800@harmonycentre.ca
SUMMARY:Rock the Sound Choir
DESCRIPTION:Holly Sled’s Rock the Sound Choir is back – sign up for a welcoming singing experience with rock’n’roll repertoire – early bird pricing is up until August 20! \nRegister here.
URL:https://harmonycentre.ca/event/rock-the-sound-choir-2/2025-09-21
CATEGORIES:Music,Sing,Things to do
ATTACH;FMTTYPE=image/jpeg:https://harmonycentre.ca/wp-content/uploads/2025/08/image-4.jpeg
END:VEVENT
BEGIN:VEVENT
DTSTART;TZID=America/Toronto:20250917T183000
DTEND;TZID=America/Toronto:20250917T200000
DTSTAMP:20260424T095540
CREATED:20250905T142205Z
LAST-MODIFIED:20250905T142205Z
UID:10007096-1758133800-1758139200@harmonycentre.ca
SUMMARY:DRUM!!
DESCRIPTION:Join our community drum circle Wednesday evenings in the Greaves Auditorium. No experience is necessary. Each week there will be the introduction of an African rhythm\, and a time for open jam.\nAll are welcome – please contact me for further information. Instruments can be available.
URL:https://harmonycentre.ca/event/drum-2/2025-09-17
CATEGORIES:Classes,Music,Things to do
ATTACH;FMTTYPE=image/jpeg:https://harmonycentre.ca/wp-content/uploads/2025/09/IMG_7108-e1f0baa0e299613897a1e5b36aa547e9-scaled.jpeg
END:VEVENT
END:VCALENDAR