BEGIN:VCALENDAR
VERSION:2.0
PRODID:-//Harmony Centre Owen Sound - ECPv6.11.0.1//NONSGML v1.0//EN
CALSCALE:GREGORIAN
METHOD:PUBLISH
X-WR-CALNAME:Harmony Centre Owen Sound
X-ORIGINAL-URL:https://harmonycentre.ca
X-WR-CALDESC:Events for Harmony Centre Owen Sound
REFRESH-INTERVAL;VALUE=DURATION:PT1H
X-Robots-Tag:noindex
X-PUBLISHED-TTL:PT1H
BEGIN:VTIMEZONE
TZID:America/Toronto
BEGIN:DAYLIGHT
TZOFFSETFROM:-0500
TZOFFSETTO:-0400
TZNAME:EDT
DTSTART:20260308T070000
END:DAYLIGHT
BEGIN:STANDARD
TZOFFSETFROM:-0400
TZOFFSETTO:-0500
TZNAME:EST
DTSTART:20261101T060000
END:STANDARD
BEGIN:DAYLIGHT
TZOFFSETFROM:-0500
TZOFFSETTO:-0400
TZNAME:EDT
DTSTART:20270314T070000
END:DAYLIGHT
BEGIN:STANDARD
TZOFFSETFROM:-0400
TZOFFSETTO:-0500
TZNAME:EST
DTSTART:20271107T060000
END:STANDARD
END:VTIMEZONE
BEGIN:VEVENT
DTSTART;TZID=America/Toronto:20261122T153000
DTEND;TZID=America/Toronto:20261122T180000
DTSTAMP:20260422T041712
CREATED:20260216T161228Z
LAST-MODIFIED:20260226T142228Z
UID:10007806-1795361400-1795370400@harmonycentre.ca
SUMMARY:Jamming Workshops
DESCRIPTION:A Creative Lab for Musical Experimentation\nWith the Psyche Street JamBand\nJoin our diverse diverse group for a fun jam workshop! \nJamming builds community\, sharpens your ear\, and keeps music exciting. It thrives on listening\, flexibility\, and the freedom to take risks beyond structured rehearsals—unlocking fresh\, unexpected ideas. Exploring multiple genres turns every session into a spontaneous creative conversation. Come play\, experiment\, and have fun! 🎶 \n— \nThe workshops will cover everything from setting up strategies to jamming in various scenarios. \nBring your voice and an instrument\, or two. (Preferably acoustic or lightly amplified ) \nEvery other Sunday in the Studio 1. \n$10 or pay what you can. \nFor more information\, email tonyqbeach@gmail.com.
URL:https://harmonycentre.ca/event/jamming-and-small-gig-workshop-2/2026-11-22
CATEGORIES:Groups,Music
ATTACH;FMTTYPE=image/jpeg:https://harmonycentre.ca/wp-content/uploads/2026/02/image0-1.jpeg
END:VEVENT
BEGIN:VEVENT
DTSTART;TZID=America/Toronto:20261122T183000
DTEND;TZID=America/Toronto:20261122T200000
DTSTAMP:20260422T041712
CREATED:20250827T150016Z
LAST-MODIFIED:20250917T152149Z
UID:10006382-1795372200-1795377600@harmonycentre.ca
SUMMARY:Rock the Sound Choir
DESCRIPTION:Holly Sled’s Rock the Sound Choir is back – sign up for a welcoming singing experience with rock’n’roll repertoire – early bird pricing is up until August 20! \nRegister here.
URL:https://harmonycentre.ca/event/rock-the-sound-choir-2/2026-11-22
CATEGORIES:Music,Sing,Things to do
ATTACH;FMTTYPE=image/jpeg:https://harmonycentre.ca/wp-content/uploads/2025/08/image-4.jpeg
END:VEVENT
BEGIN:VEVENT
DTSTART;TZID=America/Toronto:20261124T090000
DTEND;TZID=America/Toronto:20261124T210000
DTSTAMP:20260422T041712
CREATED:20250904T190401Z
LAST-MODIFIED:20250904T194905Z
UID:10007095-1795510800-1795554000@harmonycentre.ca
SUMMARY:Guitar Lessons & Workshops
DESCRIPTION:Call or text Gary for info on lessons and workshops at 365 889 4784 \nGary will arrange classes and workshops with interested students at a mutually available time and date when they call or text him for info. \nTuesdays are currently the preferred day for September startup.
URL:https://harmonycentre.ca/event/lessons-workshops/2026-11-24
CATEGORIES:Classes,Music,Things to do
ATTACH;FMTTYPE=image/jpeg:https://harmonycentre.ca/wp-content/uploads/2025/09/image-1.jpeg
END:VEVENT
BEGIN:VEVENT
DTSTART;TZID=America/Toronto:20261129T103000
DTEND;TZID=America/Toronto:20261129T120000
DTSTAMP:20260422T041712
CREATED:20250930T184143Z
LAST-MODIFIED:20250930T184143Z
UID:10007500-1795948200-1795953600@harmonycentre.ca
SUMMARY:Solidarity Sundays
DESCRIPTION:All ages\, community building hang-out with crafts\, games\, music\, tea and coffee. Please bring a snack to share and a small cash donation! Happening Sundays at the Harmony Centre from October 19th 2025 through to April 26th\, 2026!
URL:https://harmonycentre.ca/event/solidarity-sundays-2/2026-11-29
CATEGORIES:Groups,Music,Things to do
ATTACH;FMTTYPE=image/png:https://harmonycentre.ca/wp-content/uploads/2025/09/SolSun-2025-2026-Poster-09a2d255d528a422c17130b90882717f.png
END:VEVENT
BEGIN:VEVENT
DTSTART;TZID=America/Toronto:20261129T183000
DTEND;TZID=America/Toronto:20261129T200000
DTSTAMP:20260422T041712
CREATED:20250827T150016Z
LAST-MODIFIED:20250917T152149Z
UID:10006383-1795977000-1795982400@harmonycentre.ca
SUMMARY:Rock the Sound Choir
DESCRIPTION:Holly Sled’s Rock the Sound Choir is back – sign up for a welcoming singing experience with rock’n’roll repertoire – early bird pricing is up until August 20! \nRegister here.
URL:https://harmonycentre.ca/event/rock-the-sound-choir-2/2026-11-29
CATEGORIES:Music,Sing,Things to do
ATTACH;FMTTYPE=image/jpeg:https://harmonycentre.ca/wp-content/uploads/2025/08/image-4.jpeg
END:VEVENT
BEGIN:VEVENT
DTSTART;TZID=America/Toronto:20261206T103000
DTEND;TZID=America/Toronto:20261206T120000
DTSTAMP:20260422T041712
CREATED:20250930T184143Z
LAST-MODIFIED:20250930T184143Z
UID:10007501-1796553000-1796558400@harmonycentre.ca
SUMMARY:Solidarity Sundays
DESCRIPTION:All ages\, community building hang-out with crafts\, games\, music\, tea and coffee. Please bring a snack to share and a small cash donation! Happening Sundays at the Harmony Centre from October 19th 2025 through to April 26th\, 2026!
URL:https://harmonycentre.ca/event/solidarity-sundays-2/2026-12-06
CATEGORIES:Groups,Music,Things to do
ATTACH;FMTTYPE=image/png:https://harmonycentre.ca/wp-content/uploads/2025/09/SolSun-2025-2026-Poster-09a2d255d528a422c17130b90882717f.png
END:VEVENT
BEGIN:VEVENT
DTSTART;TZID=America/Toronto:20261206T130000
DTEND;TZID=America/Toronto:20261206T150000
DTSTAMP:20260422T041712
CREATED:20250930T183108Z
LAST-MODIFIED:20250930T183440Z
UID:10007396-1796562000-1796569200@harmonycentre.ca
SUMMARY:Get Yer CELTIC on!
DESCRIPTION:Do you… Love the sound of Celtic music? \nAre you… Unable to stop your feet moving to the sound of a lively Jig or Reel? \nCan you… Play a scale on a Fiddle? Banjo? Mandolin? Guitar? Pennywhistle? Flute? Harmonica? Accordion? Concertina? Harp? Piano? Your great Aunt Lavinia’s false teeth? \nIf you answered yes… then you have all it takes to Get yer CELTIC on! Come join our informal group of celt(ish) folks who meet to talk and learn and play tunes together on Sunday afternoons. \nTunes are taught the old way\, by ear\, phrase-by-phrase – together in community. You just need a basic playing ability on your instrument – we’ll come alongside you wherever you are on your musical journey and get you up to speed… faster than a Kerry polka. It’s good craie! \nJoin us and check it out – first and third Sundays of the month 1:00 pm to 3:00 pm in the Harmony Centre Boardroom – all you need is your instrument and $3 per person. \nContact: iain@sandon.ca
URL:https://harmonycentre.ca/event/get-yer-celtic-on-3-2-2/2026-12-06
CATEGORIES:Classes,Music,Things to do
ATTACH;FMTTYPE=image/jpeg:https://harmonycentre.ca/wp-content/uploads/2024/05/Get-yer-Celtic-on.jpg
END:VEVENT
BEGIN:VEVENT
DTSTART;TZID=America/Toronto:20261206T153000
DTEND;TZID=America/Toronto:20261206T180000
DTSTAMP:20260422T041712
CREATED:20260216T161228Z
LAST-MODIFIED:20260226T142228Z
UID:10007807-1796571000-1796580000@harmonycentre.ca
SUMMARY:Jamming Workshops
DESCRIPTION:A Creative Lab for Musical Experimentation\nWith the Psyche Street JamBand\nJoin our diverse diverse group for a fun jam workshop! \nJamming builds community\, sharpens your ear\, and keeps music exciting. It thrives on listening\, flexibility\, and the freedom to take risks beyond structured rehearsals—unlocking fresh\, unexpected ideas. Exploring multiple genres turns every session into a spontaneous creative conversation. Come play\, experiment\, and have fun! 🎶 \n— \nThe workshops will cover everything from setting up strategies to jamming in various scenarios. \nBring your voice and an instrument\, or two. (Preferably acoustic or lightly amplified ) \nEvery other Sunday in the Studio 1. \n$10 or pay what you can. \nFor more information\, email tonyqbeach@gmail.com.
URL:https://harmonycentre.ca/event/jamming-and-small-gig-workshop-2/2026-12-06
CATEGORIES:Groups,Music
ATTACH;FMTTYPE=image/jpeg:https://harmonycentre.ca/wp-content/uploads/2026/02/image0-1.jpeg
END:VEVENT
BEGIN:VEVENT
DTSTART;TZID=America/Toronto:20261206T183000
DTEND;TZID=America/Toronto:20261206T200000
DTSTAMP:20260422T041712
CREATED:20250827T150016Z
LAST-MODIFIED:20250917T152149Z
UID:10006384-1796581800-1796587200@harmonycentre.ca
SUMMARY:Rock the Sound Choir
DESCRIPTION:Holly Sled’s Rock the Sound Choir is back – sign up for a welcoming singing experience with rock’n’roll repertoire – early bird pricing is up until August 20! \nRegister here.
URL:https://harmonycentre.ca/event/rock-the-sound-choir-2/2026-12-06
CATEGORIES:Music,Sing,Things to do
ATTACH;FMTTYPE=image/jpeg:https://harmonycentre.ca/wp-content/uploads/2025/08/image-4.jpeg
END:VEVENT
BEGIN:VEVENT
DTSTART;TZID=America/Toronto:20261213T103000
DTEND;TZID=America/Toronto:20261213T120000
DTSTAMP:20260422T041712
CREATED:20250930T184143Z
LAST-MODIFIED:20250930T184143Z
UID:10007502-1797157800-1797163200@harmonycentre.ca
SUMMARY:Solidarity Sundays
DESCRIPTION:All ages\, community building hang-out with crafts\, games\, music\, tea and coffee. Please bring a snack to share and a small cash donation! Happening Sundays at the Harmony Centre from October 19th 2025 through to April 26th\, 2026!
URL:https://harmonycentre.ca/event/solidarity-sundays-2/2026-12-13
CATEGORIES:Groups,Music,Things to do
ATTACH;FMTTYPE=image/png:https://harmonycentre.ca/wp-content/uploads/2025/09/SolSun-2025-2026-Poster-09a2d255d528a422c17130b90882717f.png
END:VEVENT
BEGIN:VEVENT
DTSTART;TZID=America/Toronto:20261213T183000
DTEND;TZID=America/Toronto:20261213T200000
DTSTAMP:20260422T041712
CREATED:20250827T150016Z
LAST-MODIFIED:20250917T152149Z
UID:10006385-1797186600-1797192000@harmonycentre.ca
SUMMARY:Rock the Sound Choir
DESCRIPTION:Holly Sled’s Rock the Sound Choir is back – sign up for a welcoming singing experience with rock’n’roll repertoire – early bird pricing is up until August 20! \nRegister here.
URL:https://harmonycentre.ca/event/rock-the-sound-choir-2/2026-12-13
CATEGORIES:Music,Sing,Things to do
ATTACH;FMTTYPE=image/jpeg:https://harmonycentre.ca/wp-content/uploads/2025/08/image-4.jpeg
END:VEVENT
BEGIN:VEVENT
DTSTART;TZID=America/Toronto:20261220T103000
DTEND;TZID=America/Toronto:20261220T120000
DTSTAMP:20260422T041712
CREATED:20250930T184143Z
LAST-MODIFIED:20250930T184143Z
UID:10007503-1797762600-1797768000@harmonycentre.ca
SUMMARY:Solidarity Sundays
DESCRIPTION:All ages\, community building hang-out with crafts\, games\, music\, tea and coffee. Please bring a snack to share and a small cash donation! Happening Sundays at the Harmony Centre from October 19th 2025 through to April 26th\, 2026!
URL:https://harmonycentre.ca/event/solidarity-sundays-2/2026-12-20
CATEGORIES:Groups,Music,Things to do
ATTACH;FMTTYPE=image/png:https://harmonycentre.ca/wp-content/uploads/2025/09/SolSun-2025-2026-Poster-09a2d255d528a422c17130b90882717f.png
END:VEVENT
BEGIN:VEVENT
DTSTART;TZID=America/Toronto:20261220T153000
DTEND;TZID=America/Toronto:20261220T180000
DTSTAMP:20260422T041712
CREATED:20260216T161228Z
LAST-MODIFIED:20260226T142228Z
UID:10007808-1797780600-1797789600@harmonycentre.ca
SUMMARY:Jamming Workshops
DESCRIPTION:A Creative Lab for Musical Experimentation\nWith the Psyche Street JamBand\nJoin our diverse diverse group for a fun jam workshop! \nJamming builds community\, sharpens your ear\, and keeps music exciting. It thrives on listening\, flexibility\, and the freedom to take risks beyond structured rehearsals—unlocking fresh\, unexpected ideas. Exploring multiple genres turns every session into a spontaneous creative conversation. Come play\, experiment\, and have fun! 🎶 \n— \nThe workshops will cover everything from setting up strategies to jamming in various scenarios. \nBring your voice and an instrument\, or two. (Preferably acoustic or lightly amplified ) \nEvery other Sunday in the Studio 1. \n$10 or pay what you can. \nFor more information\, email tonyqbeach@gmail.com.
URL:https://harmonycentre.ca/event/jamming-and-small-gig-workshop-2/2026-12-20
CATEGORIES:Groups,Music
ATTACH;FMTTYPE=image/jpeg:https://harmonycentre.ca/wp-content/uploads/2026/02/image0-1.jpeg
END:VEVENT
BEGIN:VEVENT
DTSTART;TZID=America/Toronto:20261220T183000
DTEND;TZID=America/Toronto:20261220T200000
DTSTAMP:20260422T041712
CREATED:20250827T150016Z
LAST-MODIFIED:20250917T152149Z
UID:10006386-1797791400-1797796800@harmonycentre.ca
SUMMARY:Rock the Sound Choir
DESCRIPTION:Holly Sled’s Rock the Sound Choir is back – sign up for a welcoming singing experience with rock’n’roll repertoire – early bird pricing is up until August 20! \nRegister here.
URL:https://harmonycentre.ca/event/rock-the-sound-choir-2/2026-12-20
CATEGORIES:Music,Sing,Things to do
ATTACH;FMTTYPE=image/jpeg:https://harmonycentre.ca/wp-content/uploads/2025/08/image-4.jpeg
END:VEVENT
BEGIN:VEVENT
DTSTART;TZID=America/Toronto:20261227T103000
DTEND;TZID=America/Toronto:20261227T120000
DTSTAMP:20260422T041712
CREATED:20250930T184143Z
LAST-MODIFIED:20250930T184143Z
UID:10007504-1798367400-1798372800@harmonycentre.ca
SUMMARY:Solidarity Sundays
DESCRIPTION:All ages\, community building hang-out with crafts\, games\, music\, tea and coffee. Please bring a snack to share and a small cash donation! Happening Sundays at the Harmony Centre from October 19th 2025 through to April 26th\, 2026!
URL:https://harmonycentre.ca/event/solidarity-sundays-2/2026-12-27
CATEGORIES:Groups,Music,Things to do
ATTACH;FMTTYPE=image/png:https://harmonycentre.ca/wp-content/uploads/2025/09/SolSun-2025-2026-Poster-09a2d255d528a422c17130b90882717f.png
END:VEVENT
BEGIN:VEVENT
DTSTART;TZID=America/Toronto:20261227T183000
DTEND;TZID=America/Toronto:20261227T200000
DTSTAMP:20260422T041712
CREATED:20250827T150016Z
LAST-MODIFIED:20250917T152149Z
UID:10006387-1798396200-1798401600@harmonycentre.ca
SUMMARY:Rock the Sound Choir
DESCRIPTION:Holly Sled’s Rock the Sound Choir is back – sign up for a welcoming singing experience with rock’n’roll repertoire – early bird pricing is up until August 20! \nRegister here.
URL:https://harmonycentre.ca/event/rock-the-sound-choir-2/2026-12-27
CATEGORIES:Music,Sing,Things to do
ATTACH;FMTTYPE=image/jpeg:https://harmonycentre.ca/wp-content/uploads/2025/08/image-4.jpeg
END:VEVENT
BEGIN:VEVENT
DTSTART;TZID=America/Toronto:20270103T103000
DTEND;TZID=America/Toronto:20270103T120000
DTSTAMP:20260422T041712
CREATED:20250930T184143Z
LAST-MODIFIED:20250930T184143Z
UID:10007505-1798972200-1798977600@harmonycentre.ca
SUMMARY:Solidarity Sundays
DESCRIPTION:All ages\, community building hang-out with crafts\, games\, music\, tea and coffee. Please bring a snack to share and a small cash donation! Happening Sundays at the Harmony Centre from October 19th 2025 through to April 26th\, 2026!
URL:https://harmonycentre.ca/event/solidarity-sundays-2/2027-01-03
CATEGORIES:Groups,Music,Things to do
ATTACH;FMTTYPE=image/png:https://harmonycentre.ca/wp-content/uploads/2025/09/SolSun-2025-2026-Poster-09a2d255d528a422c17130b90882717f.png
END:VEVENT
BEGIN:VEVENT
DTSTART;TZID=America/Toronto:20270103T130000
DTEND;TZID=America/Toronto:20270103T150000
DTSTAMP:20260422T041712
CREATED:20250930T183108Z
LAST-MODIFIED:20250930T183440Z
UID:10007397-1798981200-1798988400@harmonycentre.ca
SUMMARY:Get Yer CELTIC on!
DESCRIPTION:Do you… Love the sound of Celtic music? \nAre you… Unable to stop your feet moving to the sound of a lively Jig or Reel? \nCan you… Play a scale on a Fiddle? Banjo? Mandolin? Guitar? Pennywhistle? Flute? Harmonica? Accordion? Concertina? Harp? Piano? Your great Aunt Lavinia’s false teeth? \nIf you answered yes… then you have all it takes to Get yer CELTIC on! Come join our informal group of celt(ish) folks who meet to talk and learn and play tunes together on Sunday afternoons. \nTunes are taught the old way\, by ear\, phrase-by-phrase – together in community. You just need a basic playing ability on your instrument – we’ll come alongside you wherever you are on your musical journey and get you up to speed… faster than a Kerry polka. It’s good craie! \nJoin us and check it out – first and third Sundays of the month 1:00 pm to 3:00 pm in the Harmony Centre Boardroom – all you need is your instrument and $3 per person. \nContact: iain@sandon.ca
URL:https://harmonycentre.ca/event/get-yer-celtic-on-3-2-2/2027-01-03
CATEGORIES:Classes,Music,Things to do
ATTACH;FMTTYPE=image/jpeg:https://harmonycentre.ca/wp-content/uploads/2024/05/Get-yer-Celtic-on.jpg
END:VEVENT
BEGIN:VEVENT
DTSTART;TZID=America/Toronto:20270103T153000
DTEND;TZID=America/Toronto:20270103T180000
DTSTAMP:20260422T041712
CREATED:20260216T161228Z
LAST-MODIFIED:20260226T142228Z
UID:10007809-1798990200-1798999200@harmonycentre.ca
SUMMARY:Jamming Workshops
DESCRIPTION:A Creative Lab for Musical Experimentation\nWith the Psyche Street JamBand\nJoin our diverse diverse group for a fun jam workshop! \nJamming builds community\, sharpens your ear\, and keeps music exciting. It thrives on listening\, flexibility\, and the freedom to take risks beyond structured rehearsals—unlocking fresh\, unexpected ideas. Exploring multiple genres turns every session into a spontaneous creative conversation. Come play\, experiment\, and have fun! 🎶 \n— \nThe workshops will cover everything from setting up strategies to jamming in various scenarios. \nBring your voice and an instrument\, or two. (Preferably acoustic or lightly amplified ) \nEvery other Sunday in the Studio 1. \n$10 or pay what you can. \nFor more information\, email tonyqbeach@gmail.com.
URL:https://harmonycentre.ca/event/jamming-and-small-gig-workshop-2/2027-01-03
CATEGORIES:Groups,Music
ATTACH;FMTTYPE=image/jpeg:https://harmonycentre.ca/wp-content/uploads/2026/02/image0-1.jpeg
END:VEVENT
BEGIN:VEVENT
DTSTART;TZID=America/Toronto:20270103T183000
DTEND;TZID=America/Toronto:20270103T200000
DTSTAMP:20260422T041712
CREATED:20250827T150016Z
LAST-MODIFIED:20250917T152149Z
UID:10006388-1799001000-1799006400@harmonycentre.ca
SUMMARY:Rock the Sound Choir
DESCRIPTION:Holly Sled’s Rock the Sound Choir is back – sign up for a welcoming singing experience with rock’n’roll repertoire – early bird pricing is up until August 20! \nRegister here.
URL:https://harmonycentre.ca/event/rock-the-sound-choir-2/2027-01-03
CATEGORIES:Music,Sing,Things to do
ATTACH;FMTTYPE=image/jpeg:https://harmonycentre.ca/wp-content/uploads/2025/08/image-4.jpeg
END:VEVENT
BEGIN:VEVENT
DTSTART;TZID=America/Toronto:20270110T103000
DTEND;TZID=America/Toronto:20270110T120000
DTSTAMP:20260422T041712
CREATED:20250930T184143Z
LAST-MODIFIED:20250930T184143Z
UID:10007506-1799577000-1799582400@harmonycentre.ca
SUMMARY:Solidarity Sundays
DESCRIPTION:All ages\, community building hang-out with crafts\, games\, music\, tea and coffee. Please bring a snack to share and a small cash donation! Happening Sundays at the Harmony Centre from October 19th 2025 through to April 26th\, 2026!
URL:https://harmonycentre.ca/event/solidarity-sundays-2/2027-01-10
CATEGORIES:Groups,Music,Things to do
ATTACH;FMTTYPE=image/png:https://harmonycentre.ca/wp-content/uploads/2025/09/SolSun-2025-2026-Poster-09a2d255d528a422c17130b90882717f.png
END:VEVENT
BEGIN:VEVENT
DTSTART;TZID=America/Toronto:20270110T183000
DTEND;TZID=America/Toronto:20270110T200000
DTSTAMP:20260422T041712
CREATED:20250827T150016Z
LAST-MODIFIED:20250917T152149Z
UID:10006389-1799605800-1799611200@harmonycentre.ca
SUMMARY:Rock the Sound Choir
DESCRIPTION:Holly Sled’s Rock the Sound Choir is back – sign up for a welcoming singing experience with rock’n’roll repertoire – early bird pricing is up until August 20! \nRegister here.
URL:https://harmonycentre.ca/event/rock-the-sound-choir-2/2027-01-10
CATEGORIES:Music,Sing,Things to do
ATTACH;FMTTYPE=image/jpeg:https://harmonycentre.ca/wp-content/uploads/2025/08/image-4.jpeg
END:VEVENT
BEGIN:VEVENT
DTSTART;TZID=America/Toronto:20270117T103000
DTEND;TZID=America/Toronto:20270117T120000
DTSTAMP:20260422T041712
CREATED:20250930T184143Z
LAST-MODIFIED:20250930T184143Z
UID:10007507-1800181800-1800187200@harmonycentre.ca
SUMMARY:Solidarity Sundays
DESCRIPTION:All ages\, community building hang-out with crafts\, games\, music\, tea and coffee. Please bring a snack to share and a small cash donation! Happening Sundays at the Harmony Centre from October 19th 2025 through to April 26th\, 2026!
URL:https://harmonycentre.ca/event/solidarity-sundays-2/2027-01-17
CATEGORIES:Groups,Music,Things to do
ATTACH;FMTTYPE=image/png:https://harmonycentre.ca/wp-content/uploads/2025/09/SolSun-2025-2026-Poster-09a2d255d528a422c17130b90882717f.png
END:VEVENT
BEGIN:VEVENT
DTSTART;TZID=America/Toronto:20270117T183000
DTEND;TZID=America/Toronto:20270117T200000
DTSTAMP:20260422T041712
CREATED:20250827T150016Z
LAST-MODIFIED:20250917T152149Z
UID:10006390-1800210600-1800216000@harmonycentre.ca
SUMMARY:Rock the Sound Choir
DESCRIPTION:Holly Sled’s Rock the Sound Choir is back – sign up for a welcoming singing experience with rock’n’roll repertoire – early bird pricing is up until August 20! \nRegister here.
URL:https://harmonycentre.ca/event/rock-the-sound-choir-2/2027-01-17
CATEGORIES:Music,Sing,Things to do
ATTACH;FMTTYPE=image/jpeg:https://harmonycentre.ca/wp-content/uploads/2025/08/image-4.jpeg
END:VEVENT
BEGIN:VEVENT
DTSTART;TZID=America/Toronto:20270124T103000
DTEND;TZID=America/Toronto:20270124T120000
DTSTAMP:20260422T041712
CREATED:20250930T184143Z
LAST-MODIFIED:20250930T184143Z
UID:10007508-1800786600-1800792000@harmonycentre.ca
SUMMARY:Solidarity Sundays
DESCRIPTION:All ages\, community building hang-out with crafts\, games\, music\, tea and coffee. Please bring a snack to share and a small cash donation! Happening Sundays at the Harmony Centre from October 19th 2025 through to April 26th\, 2026!
URL:https://harmonycentre.ca/event/solidarity-sundays-2/2027-01-24
CATEGORIES:Groups,Music,Things to do
ATTACH;FMTTYPE=image/png:https://harmonycentre.ca/wp-content/uploads/2025/09/SolSun-2025-2026-Poster-09a2d255d528a422c17130b90882717f.png
END:VEVENT
BEGIN:VEVENT
DTSTART;TZID=America/Toronto:20270124T183000
DTEND;TZID=America/Toronto:20270124T200000
DTSTAMP:20260422T041712
CREATED:20250827T150016Z
LAST-MODIFIED:20250917T152149Z
UID:10006391-1800815400-1800820800@harmonycentre.ca
SUMMARY:Rock the Sound Choir
DESCRIPTION:Holly Sled’s Rock the Sound Choir is back – sign up for a welcoming singing experience with rock’n’roll repertoire – early bird pricing is up until August 20! \nRegister here.
URL:https://harmonycentre.ca/event/rock-the-sound-choir-2/2027-01-24
CATEGORIES:Music,Sing,Things to do
ATTACH;FMTTYPE=image/jpeg:https://harmonycentre.ca/wp-content/uploads/2025/08/image-4.jpeg
END:VEVENT
BEGIN:VEVENT
DTSTART;TZID=America/Toronto:20270131T103000
DTEND;TZID=America/Toronto:20270131T120000
DTSTAMP:20260422T041712
CREATED:20250930T184143Z
LAST-MODIFIED:20250930T184143Z
UID:10007509-1801391400-1801396800@harmonycentre.ca
SUMMARY:Solidarity Sundays
DESCRIPTION:All ages\, community building hang-out with crafts\, games\, music\, tea and coffee. Please bring a snack to share and a small cash donation! Happening Sundays at the Harmony Centre from October 19th 2025 through to April 26th\, 2026!
URL:https://harmonycentre.ca/event/solidarity-sundays-2/2027-01-31
CATEGORIES:Groups,Music,Things to do
ATTACH;FMTTYPE=image/png:https://harmonycentre.ca/wp-content/uploads/2025/09/SolSun-2025-2026-Poster-09a2d255d528a422c17130b90882717f.png
END:VEVENT
BEGIN:VEVENT
DTSTART;TZID=America/Toronto:20270131T183000
DTEND;TZID=America/Toronto:20270131T200000
DTSTAMP:20260422T041712
CREATED:20250827T150016Z
LAST-MODIFIED:20250917T152149Z
UID:10006392-1801420200-1801425600@harmonycentre.ca
SUMMARY:Rock the Sound Choir
DESCRIPTION:Holly Sled’s Rock the Sound Choir is back – sign up for a welcoming singing experience with rock’n’roll repertoire – early bird pricing is up until August 20! \nRegister here.
URL:https://harmonycentre.ca/event/rock-the-sound-choir-2/2027-01-31
CATEGORIES:Music,Sing,Things to do
ATTACH;FMTTYPE=image/jpeg:https://harmonycentre.ca/wp-content/uploads/2025/08/image-4.jpeg
END:VEVENT
BEGIN:VEVENT
DTSTART;TZID=America/Toronto:20270207T103000
DTEND;TZID=America/Toronto:20270207T120000
DTSTAMP:20260422T041712
CREATED:20250930T184143Z
LAST-MODIFIED:20250930T184143Z
UID:10007510-1801996200-1802001600@harmonycentre.ca
SUMMARY:Solidarity Sundays
DESCRIPTION:All ages\, community building hang-out with crafts\, games\, music\, tea and coffee. Please bring a snack to share and a small cash donation! Happening Sundays at the Harmony Centre from October 19th 2025 through to April 26th\, 2026!
URL:https://harmonycentre.ca/event/solidarity-sundays-2/2027-02-07
CATEGORIES:Groups,Music,Things to do
ATTACH;FMTTYPE=image/png:https://harmonycentre.ca/wp-content/uploads/2025/09/SolSun-2025-2026-Poster-09a2d255d528a422c17130b90882717f.png
END:VEVENT
BEGIN:VEVENT
DTSTART;TZID=America/Toronto:20270207T130000
DTEND;TZID=America/Toronto:20270207T150000
DTSTAMP:20260422T041712
CREATED:20250930T183108Z
LAST-MODIFIED:20250930T183440Z
UID:10007398-1802005200-1802012400@harmonycentre.ca
SUMMARY:Get Yer CELTIC on!
DESCRIPTION:Do you… Love the sound of Celtic music? \nAre you… Unable to stop your feet moving to the sound of a lively Jig or Reel? \nCan you… Play a scale on a Fiddle? Banjo? Mandolin? Guitar? Pennywhistle? Flute? Harmonica? Accordion? Concertina? Harp? Piano? Your great Aunt Lavinia’s false teeth? \nIf you answered yes… then you have all it takes to Get yer CELTIC on! Come join our informal group of celt(ish) folks who meet to talk and learn and play tunes together on Sunday afternoons. \nTunes are taught the old way\, by ear\, phrase-by-phrase – together in community. You just need a basic playing ability on your instrument – we’ll come alongside you wherever you are on your musical journey and get you up to speed… faster than a Kerry polka. It’s good craie! \nJoin us and check it out – first and third Sundays of the month 1:00 pm to 3:00 pm in the Harmony Centre Boardroom – all you need is your instrument and $3 per person. \nContact: iain@sandon.ca
URL:https://harmonycentre.ca/event/get-yer-celtic-on-3-2-2/2027-02-07
CATEGORIES:Classes,Music,Things to do
ATTACH;FMTTYPE=image/jpeg:https://harmonycentre.ca/wp-content/uploads/2024/05/Get-yer-Celtic-on.jpg
END:VEVENT
END:VCALENDAR