BEGIN:VCALENDAR
VERSION:2.0
PRODID:-//Harmony Centre Owen Sound - ECPv6.11.0.1//NONSGML v1.0//EN
CALSCALE:GREGORIAN
METHOD:PUBLISH
X-ORIGINAL-URL:https://harmonycentre.ca
X-WR-CALDESC:Events for Harmony Centre Owen Sound
REFRESH-INTERVAL;VALUE=DURATION:PT1H
X-Robots-Tag:noindex
X-PUBLISHED-TTL:PT1H
BEGIN:VTIMEZONE
TZID:America/Toronto
BEGIN:DAYLIGHT
TZOFFSETFROM:-0500
TZOFFSETTO:-0400
TZNAME:EDT
DTSTART:20270314T070000
END:DAYLIGHT
BEGIN:STANDARD
TZOFFSETFROM:-0400
TZOFFSETTO:-0500
TZNAME:EST
DTSTART:20271107T060000
END:STANDARD
END:VTIMEZONE
BEGIN:VEVENT
DTSTART;TZID=America/Toronto:20270304T190000
DTEND;TZID=America/Toronto:20270304T210000
DTSTAMP:20260422T102730
CREATED:20250903T215204Z
LAST-MODIFIED:20250903T215204Z
UID:10005154-1804186800-1804194000@harmonycentre.ca
SUMMARY:Queen's Bush Bluegrass
DESCRIPTION:Welcome to our little circle of Bluegrass enthusiasts at the beautiful Harmony Centre\, Owen Sound. Bring your acoustic instrument and your best singing voice. Join us for some fun on Thursday nights. \nThe Queen’s Bush Bluegrass Club welcomes all pickers\, singers and supporters. We meet in the round and rotate the lead so everyone has a good chance to participate. \nBluegrass Jam every Thursday evening at 7:00 pm\, Greaves Auditorium.
URL:https://harmonycentre.ca/event/queens-bush-bluegrass-2-2/2027-03-04
CATEGORIES:Groups,Things to do
ATTACH;FMTTYPE=image/jpeg:https://harmonycentre.ca/wp-content/uploads/2025/01/image-6-scaled.jpeg
END:VEVENT
BEGIN:VEVENT
DTSTART;TZID=America/Toronto:20270311T190000
DTEND;TZID=America/Toronto:20270311T210000
DTSTAMP:20260422T102730
CREATED:20250903T215204Z
LAST-MODIFIED:20250903T215204Z
UID:10005155-1804791600-1804798800@harmonycentre.ca
SUMMARY:Queen's Bush Bluegrass
DESCRIPTION:Welcome to our little circle of Bluegrass enthusiasts at the beautiful Harmony Centre\, Owen Sound. Bring your acoustic instrument and your best singing voice. Join us for some fun on Thursday nights. \nThe Queen’s Bush Bluegrass Club welcomes all pickers\, singers and supporters. We meet in the round and rotate the lead so everyone has a good chance to participate. \nBluegrass Jam every Thursday evening at 7:00 pm\, Greaves Auditorium.
URL:https://harmonycentre.ca/event/queens-bush-bluegrass-2-2/2027-03-11
CATEGORIES:Groups,Things to do
ATTACH;FMTTYPE=image/jpeg:https://harmonycentre.ca/wp-content/uploads/2025/01/image-6-scaled.jpeg
END:VEVENT
BEGIN:VEVENT
DTSTART;TZID=America/Toronto:20270318T190000
DTEND;TZID=America/Toronto:20270318T210000
DTSTAMP:20260422T102730
CREATED:20250903T215204Z
LAST-MODIFIED:20250903T215204Z
UID:10005156-1805396400-1805403600@harmonycentre.ca
SUMMARY:Queen's Bush Bluegrass
DESCRIPTION:Welcome to our little circle of Bluegrass enthusiasts at the beautiful Harmony Centre\, Owen Sound. Bring your acoustic instrument and your best singing voice. Join us for some fun on Thursday nights. \nThe Queen’s Bush Bluegrass Club welcomes all pickers\, singers and supporters. We meet in the round and rotate the lead so everyone has a good chance to participate. \nBluegrass Jam every Thursday evening at 7:00 pm\, Greaves Auditorium.
URL:https://harmonycentre.ca/event/queens-bush-bluegrass-2-2/2027-03-18
CATEGORIES:Groups,Things to do
ATTACH;FMTTYPE=image/jpeg:https://harmonycentre.ca/wp-content/uploads/2025/01/image-6-scaled.jpeg
END:VEVENT
BEGIN:VEVENT
DTSTART;TZID=America/Toronto:20270325T190000
DTEND;TZID=America/Toronto:20270325T210000
DTSTAMP:20260422T102730
CREATED:20250903T215204Z
LAST-MODIFIED:20250903T215204Z
UID:10005157-1806001200-1806008400@harmonycentre.ca
SUMMARY:Queen's Bush Bluegrass
DESCRIPTION:Welcome to our little circle of Bluegrass enthusiasts at the beautiful Harmony Centre\, Owen Sound. Bring your acoustic instrument and your best singing voice. Join us for some fun on Thursday nights. \nThe Queen’s Bush Bluegrass Club welcomes all pickers\, singers and supporters. We meet in the round and rotate the lead so everyone has a good chance to participate. \nBluegrass Jam every Thursday evening at 7:00 pm\, Greaves Auditorium.
URL:https://harmonycentre.ca/event/queens-bush-bluegrass-2-2/2027-03-25
CATEGORIES:Groups,Things to do
ATTACH;FMTTYPE=image/jpeg:https://harmonycentre.ca/wp-content/uploads/2025/01/image-6-scaled.jpeg
END:VEVENT
BEGIN:VEVENT
DTSTART;TZID=America/Toronto:20270401T190000
DTEND;TZID=America/Toronto:20270401T210000
DTSTAMP:20260422T102730
CREATED:20250903T215204Z
LAST-MODIFIED:20250903T215204Z
UID:10005158-1806606000-1806613200@harmonycentre.ca
SUMMARY:Queen's Bush Bluegrass
DESCRIPTION:Welcome to our little circle of Bluegrass enthusiasts at the beautiful Harmony Centre\, Owen Sound. Bring your acoustic instrument and your best singing voice. Join us for some fun on Thursday nights. \nThe Queen’s Bush Bluegrass Club welcomes all pickers\, singers and supporters. We meet in the round and rotate the lead so everyone has a good chance to participate. \nBluegrass Jam every Thursday evening at 7:00 pm\, Greaves Auditorium.
URL:https://harmonycentre.ca/event/queens-bush-bluegrass-2-2/2027-04-01
CATEGORIES:Groups,Things to do
ATTACH;FMTTYPE=image/jpeg:https://harmonycentre.ca/wp-content/uploads/2025/01/image-6-scaled.jpeg
END:VEVENT
BEGIN:VEVENT
DTSTART;TZID=America/Toronto:20270408T190000
DTEND;TZID=America/Toronto:20270408T210000
DTSTAMP:20260422T102730
CREATED:20250903T215204Z
LAST-MODIFIED:20250903T215204Z
UID:10005159-1807210800-1807218000@harmonycentre.ca
SUMMARY:Queen's Bush Bluegrass
DESCRIPTION:Welcome to our little circle of Bluegrass enthusiasts at the beautiful Harmony Centre\, Owen Sound. Bring your acoustic instrument and your best singing voice. Join us for some fun on Thursday nights. \nThe Queen’s Bush Bluegrass Club welcomes all pickers\, singers and supporters. We meet in the round and rotate the lead so everyone has a good chance to participate. \nBluegrass Jam every Thursday evening at 7:00 pm\, Greaves Auditorium.
URL:https://harmonycentre.ca/event/queens-bush-bluegrass-2-2/2027-04-08
CATEGORIES:Groups,Things to do
ATTACH;FMTTYPE=image/jpeg:https://harmonycentre.ca/wp-content/uploads/2025/01/image-6-scaled.jpeg
END:VEVENT
BEGIN:VEVENT
DTSTART;TZID=America/Toronto:20270415T190000
DTEND;TZID=America/Toronto:20270415T210000
DTSTAMP:20260422T102730
CREATED:20250903T215204Z
LAST-MODIFIED:20250903T215204Z
UID:10005160-1807815600-1807822800@harmonycentre.ca
SUMMARY:Queen's Bush Bluegrass
DESCRIPTION:Welcome to our little circle of Bluegrass enthusiasts at the beautiful Harmony Centre\, Owen Sound. Bring your acoustic instrument and your best singing voice. Join us for some fun on Thursday nights. \nThe Queen’s Bush Bluegrass Club welcomes all pickers\, singers and supporters. We meet in the round and rotate the lead so everyone has a good chance to participate. \nBluegrass Jam every Thursday evening at 7:00 pm\, Greaves Auditorium.
URL:https://harmonycentre.ca/event/queens-bush-bluegrass-2-2/2027-04-15
CATEGORIES:Groups,Things to do
ATTACH;FMTTYPE=image/jpeg:https://harmonycentre.ca/wp-content/uploads/2025/01/image-6-scaled.jpeg
END:VEVENT
BEGIN:VEVENT
DTSTART;TZID=America/Toronto:20270422T190000
DTEND;TZID=America/Toronto:20270422T210000
DTSTAMP:20260422T102730
CREATED:20250903T215204Z
LAST-MODIFIED:20250903T215204Z
UID:10005161-1808420400-1808427600@harmonycentre.ca
SUMMARY:Queen's Bush Bluegrass
DESCRIPTION:Welcome to our little circle of Bluegrass enthusiasts at the beautiful Harmony Centre\, Owen Sound. Bring your acoustic instrument and your best singing voice. Join us for some fun on Thursday nights. \nThe Queen’s Bush Bluegrass Club welcomes all pickers\, singers and supporters. We meet in the round and rotate the lead so everyone has a good chance to participate. \nBluegrass Jam every Thursday evening at 7:00 pm\, Greaves Auditorium.
URL:https://harmonycentre.ca/event/queens-bush-bluegrass-2-2/2027-04-22
CATEGORIES:Groups,Things to do
ATTACH;FMTTYPE=image/jpeg:https://harmonycentre.ca/wp-content/uploads/2025/01/image-6-scaled.jpeg
END:VEVENT
BEGIN:VEVENT
DTSTART;TZID=America/Toronto:20270429T190000
DTEND;TZID=America/Toronto:20270429T210000
DTSTAMP:20260422T102730
CREATED:20250903T215204Z
LAST-MODIFIED:20250903T215204Z
UID:10005162-1809025200-1809032400@harmonycentre.ca
SUMMARY:Queen's Bush Bluegrass
DESCRIPTION:Welcome to our little circle of Bluegrass enthusiasts at the beautiful Harmony Centre\, Owen Sound. Bring your acoustic instrument and your best singing voice. Join us for some fun on Thursday nights. \nThe Queen’s Bush Bluegrass Club welcomes all pickers\, singers and supporters. We meet in the round and rotate the lead so everyone has a good chance to participate. \nBluegrass Jam every Thursday evening at 7:00 pm\, Greaves Auditorium.
URL:https://harmonycentre.ca/event/queens-bush-bluegrass-2-2/2027-04-29
CATEGORIES:Groups,Things to do
ATTACH;FMTTYPE=image/jpeg:https://harmonycentre.ca/wp-content/uploads/2025/01/image-6-scaled.jpeg
END:VEVENT
BEGIN:VEVENT
DTSTART;TZID=America/Toronto:20270506T190000
DTEND;TZID=America/Toronto:20270506T210000
DTSTAMP:20260422T102730
CREATED:20250903T215204Z
LAST-MODIFIED:20250903T215204Z
UID:10005163-1809630000-1809637200@harmonycentre.ca
SUMMARY:Queen's Bush Bluegrass
DESCRIPTION:Welcome to our little circle of Bluegrass enthusiasts at the beautiful Harmony Centre\, Owen Sound. Bring your acoustic instrument and your best singing voice. Join us for some fun on Thursday nights. \nThe Queen’s Bush Bluegrass Club welcomes all pickers\, singers and supporters. We meet in the round and rotate the lead so everyone has a good chance to participate. \nBluegrass Jam every Thursday evening at 7:00 pm\, Greaves Auditorium.
URL:https://harmonycentre.ca/event/queens-bush-bluegrass-2-2/2027-05-06
CATEGORIES:Groups,Things to do
ATTACH;FMTTYPE=image/jpeg:https://harmonycentre.ca/wp-content/uploads/2025/01/image-6-scaled.jpeg
END:VEVENT
BEGIN:VEVENT
DTSTART;TZID=America/Toronto:20270513T190000
DTEND;TZID=America/Toronto:20270513T210000
DTSTAMP:20260422T102730
CREATED:20250903T215204Z
LAST-MODIFIED:20250903T215204Z
UID:10005164-1810234800-1810242000@harmonycentre.ca
SUMMARY:Queen's Bush Bluegrass
DESCRIPTION:Welcome to our little circle of Bluegrass enthusiasts at the beautiful Harmony Centre\, Owen Sound. Bring your acoustic instrument and your best singing voice. Join us for some fun on Thursday nights. \nThe Queen’s Bush Bluegrass Club welcomes all pickers\, singers and supporters. We meet in the round and rotate the lead so everyone has a good chance to participate. \nBluegrass Jam every Thursday evening at 7:00 pm\, Greaves Auditorium.
URL:https://harmonycentre.ca/event/queens-bush-bluegrass-2-2/2027-05-13
CATEGORIES:Groups,Things to do
ATTACH;FMTTYPE=image/jpeg:https://harmonycentre.ca/wp-content/uploads/2025/01/image-6-scaled.jpeg
END:VEVENT
BEGIN:VEVENT
DTSTART;TZID=America/Toronto:20270520T190000
DTEND;TZID=America/Toronto:20270520T210000
DTSTAMP:20260422T102730
CREATED:20250903T215204Z
LAST-MODIFIED:20250903T215204Z
UID:10005165-1810839600-1810846800@harmonycentre.ca
SUMMARY:Queen's Bush Bluegrass
DESCRIPTION:Welcome to our little circle of Bluegrass enthusiasts at the beautiful Harmony Centre\, Owen Sound. Bring your acoustic instrument and your best singing voice. Join us for some fun on Thursday nights. \nThe Queen’s Bush Bluegrass Club welcomes all pickers\, singers and supporters. We meet in the round and rotate the lead so everyone has a good chance to participate. \nBluegrass Jam every Thursday evening at 7:00 pm\, Greaves Auditorium.
URL:https://harmonycentre.ca/event/queens-bush-bluegrass-2-2/2027-05-20
CATEGORIES:Groups,Things to do
ATTACH;FMTTYPE=image/jpeg:https://harmonycentre.ca/wp-content/uploads/2025/01/image-6-scaled.jpeg
END:VEVENT
BEGIN:VEVENT
DTSTART;TZID=America/Toronto:20270527T190000
DTEND;TZID=America/Toronto:20270527T210000
DTSTAMP:20260422T102730
CREATED:20250903T215204Z
LAST-MODIFIED:20250903T215204Z
UID:10005166-1811444400-1811451600@harmonycentre.ca
SUMMARY:Queen's Bush Bluegrass
DESCRIPTION:Welcome to our little circle of Bluegrass enthusiasts at the beautiful Harmony Centre\, Owen Sound. Bring your acoustic instrument and your best singing voice. Join us for some fun on Thursday nights. \nThe Queen’s Bush Bluegrass Club welcomes all pickers\, singers and supporters. We meet in the round and rotate the lead so everyone has a good chance to participate. \nBluegrass Jam every Thursday evening at 7:00 pm\, Greaves Auditorium.
URL:https://harmonycentre.ca/event/queens-bush-bluegrass-2-2/2027-05-27
CATEGORIES:Groups,Things to do
ATTACH;FMTTYPE=image/jpeg:https://harmonycentre.ca/wp-content/uploads/2025/01/image-6-scaled.jpeg
END:VEVENT
BEGIN:VEVENT
DTSTART;TZID=America/Toronto:20270603T190000
DTEND;TZID=America/Toronto:20270603T210000
DTSTAMP:20260422T102730
CREATED:20250903T215204Z
LAST-MODIFIED:20250903T215204Z
UID:10005167-1812049200-1812056400@harmonycentre.ca
SUMMARY:Queen's Bush Bluegrass
DESCRIPTION:Welcome to our little circle of Bluegrass enthusiasts at the beautiful Harmony Centre\, Owen Sound. Bring your acoustic instrument and your best singing voice. Join us for some fun on Thursday nights. \nThe Queen’s Bush Bluegrass Club welcomes all pickers\, singers and supporters. We meet in the round and rotate the lead so everyone has a good chance to participate. \nBluegrass Jam every Thursday evening at 7:00 pm\, Greaves Auditorium.
URL:https://harmonycentre.ca/event/queens-bush-bluegrass-2-2/2027-06-03
CATEGORIES:Groups,Things to do
ATTACH;FMTTYPE=image/jpeg:https://harmonycentre.ca/wp-content/uploads/2025/01/image-6-scaled.jpeg
END:VEVENT
BEGIN:VEVENT
DTSTART;TZID=America/Toronto:20270610T190000
DTEND;TZID=America/Toronto:20270610T210000
DTSTAMP:20260422T102730
CREATED:20250903T215204Z
LAST-MODIFIED:20250903T215204Z
UID:10005168-1812654000-1812661200@harmonycentre.ca
SUMMARY:Queen's Bush Bluegrass
DESCRIPTION:Welcome to our little circle of Bluegrass enthusiasts at the beautiful Harmony Centre\, Owen Sound. Bring your acoustic instrument and your best singing voice. Join us for some fun on Thursday nights. \nThe Queen’s Bush Bluegrass Club welcomes all pickers\, singers and supporters. We meet in the round and rotate the lead so everyone has a good chance to participate. \nBluegrass Jam every Thursday evening at 7:00 pm\, Greaves Auditorium.
URL:https://harmonycentre.ca/event/queens-bush-bluegrass-2-2/2027-06-10
CATEGORIES:Groups,Things to do
ATTACH;FMTTYPE=image/jpeg:https://harmonycentre.ca/wp-content/uploads/2025/01/image-6-scaled.jpeg
END:VEVENT
BEGIN:VEVENT
DTSTART;TZID=America/Toronto:20270617T190000
DTEND;TZID=America/Toronto:20270617T210000
DTSTAMP:20260422T102730
CREATED:20250903T215204Z
LAST-MODIFIED:20250903T215204Z
UID:10005169-1813258800-1813266000@harmonycentre.ca
SUMMARY:Queen's Bush Bluegrass
DESCRIPTION:Welcome to our little circle of Bluegrass enthusiasts at the beautiful Harmony Centre\, Owen Sound. Bring your acoustic instrument and your best singing voice. Join us for some fun on Thursday nights. \nThe Queen’s Bush Bluegrass Club welcomes all pickers\, singers and supporters. We meet in the round and rotate the lead so everyone has a good chance to participate. \nBluegrass Jam every Thursday evening at 7:00 pm\, Greaves Auditorium.
URL:https://harmonycentre.ca/event/queens-bush-bluegrass-2-2/2027-06-17
CATEGORIES:Groups,Things to do
ATTACH;FMTTYPE=image/jpeg:https://harmonycentre.ca/wp-content/uploads/2025/01/image-6-scaled.jpeg
END:VEVENT
BEGIN:VEVENT
DTSTART;TZID=America/Toronto:20270624T190000
DTEND;TZID=America/Toronto:20270624T210000
DTSTAMP:20260422T102730
CREATED:20250903T215204Z
LAST-MODIFIED:20250903T215204Z
UID:10005170-1813863600-1813870800@harmonycentre.ca
SUMMARY:Queen's Bush Bluegrass
DESCRIPTION:Welcome to our little circle of Bluegrass enthusiasts at the beautiful Harmony Centre\, Owen Sound. Bring your acoustic instrument and your best singing voice. Join us for some fun on Thursday nights. \nThe Queen’s Bush Bluegrass Club welcomes all pickers\, singers and supporters. We meet in the round and rotate the lead so everyone has a good chance to participate. \nBluegrass Jam every Thursday evening at 7:00 pm\, Greaves Auditorium.
URL:https://harmonycentre.ca/event/queens-bush-bluegrass-2-2/2027-06-24
CATEGORIES:Groups,Things to do
ATTACH;FMTTYPE=image/jpeg:https://harmonycentre.ca/wp-content/uploads/2025/01/image-6-scaled.jpeg
END:VEVENT
BEGIN:VEVENT
DTSTART;TZID=America/Toronto:20270701T190000
DTEND;TZID=America/Toronto:20270701T210000
DTSTAMP:20260422T102730
CREATED:20250903T215204Z
LAST-MODIFIED:20250903T215204Z
UID:10005171-1814468400-1814475600@harmonycentre.ca
SUMMARY:Queen's Bush Bluegrass
DESCRIPTION:Welcome to our little circle of Bluegrass enthusiasts at the beautiful Harmony Centre\, Owen Sound. Bring your acoustic instrument and your best singing voice. Join us for some fun on Thursday nights. \nThe Queen’s Bush Bluegrass Club welcomes all pickers\, singers and supporters. We meet in the round and rotate the lead so everyone has a good chance to participate. \nBluegrass Jam every Thursday evening at 7:00 pm\, Greaves Auditorium.
URL:https://harmonycentre.ca/event/queens-bush-bluegrass-2-2/2027-07-01
CATEGORIES:Groups,Things to do
ATTACH;FMTTYPE=image/jpeg:https://harmonycentre.ca/wp-content/uploads/2025/01/image-6-scaled.jpeg
END:VEVENT
BEGIN:VEVENT
DTSTART;TZID=America/Toronto:20270708T190000
DTEND;TZID=America/Toronto:20270708T210000
DTSTAMP:20260422T102730
CREATED:20250903T215204Z
LAST-MODIFIED:20250903T215204Z
UID:10005172-1815073200-1815080400@harmonycentre.ca
SUMMARY:Queen's Bush Bluegrass
DESCRIPTION:Welcome to our little circle of Bluegrass enthusiasts at the beautiful Harmony Centre\, Owen Sound. Bring your acoustic instrument and your best singing voice. Join us for some fun on Thursday nights. \nThe Queen’s Bush Bluegrass Club welcomes all pickers\, singers and supporters. We meet in the round and rotate the lead so everyone has a good chance to participate. \nBluegrass Jam every Thursday evening at 7:00 pm\, Greaves Auditorium.
URL:https://harmonycentre.ca/event/queens-bush-bluegrass-2-2/2027-07-08
CATEGORIES:Groups,Things to do
ATTACH;FMTTYPE=image/jpeg:https://harmonycentre.ca/wp-content/uploads/2025/01/image-6-scaled.jpeg
END:VEVENT
BEGIN:VEVENT
DTSTART;TZID=America/Toronto:20270715T190000
DTEND;TZID=America/Toronto:20270715T210000
DTSTAMP:20260422T102730
CREATED:20250903T215204Z
LAST-MODIFIED:20250903T215204Z
UID:10005173-1815678000-1815685200@harmonycentre.ca
SUMMARY:Queen's Bush Bluegrass
DESCRIPTION:Welcome to our little circle of Bluegrass enthusiasts at the beautiful Harmony Centre\, Owen Sound. Bring your acoustic instrument and your best singing voice. Join us for some fun on Thursday nights. \nThe Queen’s Bush Bluegrass Club welcomes all pickers\, singers and supporters. We meet in the round and rotate the lead so everyone has a good chance to participate. \nBluegrass Jam every Thursday evening at 7:00 pm\, Greaves Auditorium.
URL:https://harmonycentre.ca/event/queens-bush-bluegrass-2-2/2027-07-15
CATEGORIES:Groups,Things to do
ATTACH;FMTTYPE=image/jpeg:https://harmonycentre.ca/wp-content/uploads/2025/01/image-6-scaled.jpeg
END:VEVENT
BEGIN:VEVENT
DTSTART;TZID=America/Toronto:20270722T190000
DTEND;TZID=America/Toronto:20270722T210000
DTSTAMP:20260422T102730
CREATED:20250903T215204Z
LAST-MODIFIED:20250903T215204Z
UID:10005174-1816282800-1816290000@harmonycentre.ca
SUMMARY:Queen's Bush Bluegrass
DESCRIPTION:Welcome to our little circle of Bluegrass enthusiasts at the beautiful Harmony Centre\, Owen Sound. Bring your acoustic instrument and your best singing voice. Join us for some fun on Thursday nights. \nThe Queen’s Bush Bluegrass Club welcomes all pickers\, singers and supporters. We meet in the round and rotate the lead so everyone has a good chance to participate. \nBluegrass Jam every Thursday evening at 7:00 pm\, Greaves Auditorium.
URL:https://harmonycentre.ca/event/queens-bush-bluegrass-2-2/2027-07-22
CATEGORIES:Groups,Things to do
ATTACH;FMTTYPE=image/jpeg:https://harmonycentre.ca/wp-content/uploads/2025/01/image-6-scaled.jpeg
END:VEVENT
BEGIN:VEVENT
DTSTART;TZID=America/Toronto:20270729T190000
DTEND;TZID=America/Toronto:20270729T210000
DTSTAMP:20260422T102730
CREATED:20250903T215204Z
LAST-MODIFIED:20250903T215204Z
UID:10005175-1816887600-1816894800@harmonycentre.ca
SUMMARY:Queen's Bush Bluegrass
DESCRIPTION:Welcome to our little circle of Bluegrass enthusiasts at the beautiful Harmony Centre\, Owen Sound. Bring your acoustic instrument and your best singing voice. Join us for some fun on Thursday nights. \nThe Queen’s Bush Bluegrass Club welcomes all pickers\, singers and supporters. We meet in the round and rotate the lead so everyone has a good chance to participate. \nBluegrass Jam every Thursday evening at 7:00 pm\, Greaves Auditorium.
URL:https://harmonycentre.ca/event/queens-bush-bluegrass-2-2/2027-07-29
CATEGORIES:Groups,Things to do
ATTACH;FMTTYPE=image/jpeg:https://harmonycentre.ca/wp-content/uploads/2025/01/image-6-scaled.jpeg
END:VEVENT
BEGIN:VEVENT
DTSTART;TZID=America/Toronto:20270805T190000
DTEND;TZID=America/Toronto:20270805T210000
DTSTAMP:20260422T102730
CREATED:20250903T215204Z
LAST-MODIFIED:20250903T215204Z
UID:10005176-1817492400-1817499600@harmonycentre.ca
SUMMARY:Queen's Bush Bluegrass
DESCRIPTION:Welcome to our little circle of Bluegrass enthusiasts at the beautiful Harmony Centre\, Owen Sound. Bring your acoustic instrument and your best singing voice. Join us for some fun on Thursday nights. \nThe Queen’s Bush Bluegrass Club welcomes all pickers\, singers and supporters. We meet in the round and rotate the lead so everyone has a good chance to participate. \nBluegrass Jam every Thursday evening at 7:00 pm\, Greaves Auditorium.
URL:https://harmonycentre.ca/event/queens-bush-bluegrass-2-2/2027-08-05
CATEGORIES:Groups,Things to do
ATTACH;FMTTYPE=image/jpeg:https://harmonycentre.ca/wp-content/uploads/2025/01/image-6-scaled.jpeg
END:VEVENT
BEGIN:VEVENT
DTSTART;TZID=America/Toronto:20270812T190000
DTEND;TZID=America/Toronto:20270812T210000
DTSTAMP:20260422T102730
CREATED:20250903T215204Z
LAST-MODIFIED:20250903T215204Z
UID:10005177-1818097200-1818104400@harmonycentre.ca
SUMMARY:Queen's Bush Bluegrass
DESCRIPTION:Welcome to our little circle of Bluegrass enthusiasts at the beautiful Harmony Centre\, Owen Sound. Bring your acoustic instrument and your best singing voice. Join us for some fun on Thursday nights. \nThe Queen’s Bush Bluegrass Club welcomes all pickers\, singers and supporters. We meet in the round and rotate the lead so everyone has a good chance to participate. \nBluegrass Jam every Thursday evening at 7:00 pm\, Greaves Auditorium.
URL:https://harmonycentre.ca/event/queens-bush-bluegrass-2-2/2027-08-12
CATEGORIES:Groups,Things to do
ATTACH;FMTTYPE=image/jpeg:https://harmonycentre.ca/wp-content/uploads/2025/01/image-6-scaled.jpeg
END:VEVENT
BEGIN:VEVENT
DTSTART;TZID=America/Toronto:20270819T190000
DTEND;TZID=America/Toronto:20270819T210000
DTSTAMP:20260422T102730
CREATED:20250903T215204Z
LAST-MODIFIED:20250903T215204Z
UID:10005178-1818702000-1818709200@harmonycentre.ca
SUMMARY:Queen's Bush Bluegrass
DESCRIPTION:Welcome to our little circle of Bluegrass enthusiasts at the beautiful Harmony Centre\, Owen Sound. Bring your acoustic instrument and your best singing voice. Join us for some fun on Thursday nights. \nThe Queen’s Bush Bluegrass Club welcomes all pickers\, singers and supporters. We meet in the round and rotate the lead so everyone has a good chance to participate. \nBluegrass Jam every Thursday evening at 7:00 pm\, Greaves Auditorium.
URL:https://harmonycentre.ca/event/queens-bush-bluegrass-2-2/2027-08-19
CATEGORIES:Groups,Things to do
ATTACH;FMTTYPE=image/jpeg:https://harmonycentre.ca/wp-content/uploads/2025/01/image-6-scaled.jpeg
END:VEVENT
BEGIN:VEVENT
DTSTART;TZID=America/Toronto:20270826T190000
DTEND;TZID=America/Toronto:20270826T210000
DTSTAMP:20260422T102730
CREATED:20250903T215204Z
LAST-MODIFIED:20250903T215204Z
UID:10005179-1819306800-1819314000@harmonycentre.ca
SUMMARY:Queen's Bush Bluegrass
DESCRIPTION:Welcome to our little circle of Bluegrass enthusiasts at the beautiful Harmony Centre\, Owen Sound. Bring your acoustic instrument and your best singing voice. Join us for some fun on Thursday nights. \nThe Queen’s Bush Bluegrass Club welcomes all pickers\, singers and supporters. We meet in the round and rotate the lead so everyone has a good chance to participate. \nBluegrass Jam every Thursday evening at 7:00 pm\, Greaves Auditorium.
URL:https://harmonycentre.ca/event/queens-bush-bluegrass-2-2/2027-08-26
CATEGORIES:Groups,Things to do
ATTACH;FMTTYPE=image/jpeg:https://harmonycentre.ca/wp-content/uploads/2025/01/image-6-scaled.jpeg
END:VEVENT
BEGIN:VEVENT
DTSTART;TZID=America/Toronto:20270902T190000
DTEND;TZID=America/Toronto:20270902T210000
DTSTAMP:20260422T102730
CREATED:20250903T215204Z
LAST-MODIFIED:20250903T215204Z
UID:10005180-1819911600-1819918800@harmonycentre.ca
SUMMARY:Queen's Bush Bluegrass
DESCRIPTION:Welcome to our little circle of Bluegrass enthusiasts at the beautiful Harmony Centre\, Owen Sound. Bring your acoustic instrument and your best singing voice. Join us for some fun on Thursday nights. \nThe Queen’s Bush Bluegrass Club welcomes all pickers\, singers and supporters. We meet in the round and rotate the lead so everyone has a good chance to participate. \nBluegrass Jam every Thursday evening at 7:00 pm\, Greaves Auditorium.
URL:https://harmonycentre.ca/event/queens-bush-bluegrass-2-2/2027-09-02
CATEGORIES:Groups,Things to do
ATTACH;FMTTYPE=image/jpeg:https://harmonycentre.ca/wp-content/uploads/2025/01/image-6-scaled.jpeg
END:VEVENT
BEGIN:VEVENT
DTSTART;TZID=America/Toronto:20270909T190000
DTEND;TZID=America/Toronto:20270909T210000
DTSTAMP:20260422T102730
CREATED:20250903T215204Z
LAST-MODIFIED:20250903T215204Z
UID:10005181-1820516400-1820523600@harmonycentre.ca
SUMMARY:Queen's Bush Bluegrass
DESCRIPTION:Welcome to our little circle of Bluegrass enthusiasts at the beautiful Harmony Centre\, Owen Sound. Bring your acoustic instrument and your best singing voice. Join us for some fun on Thursday nights. \nThe Queen’s Bush Bluegrass Club welcomes all pickers\, singers and supporters. We meet in the round and rotate the lead so everyone has a good chance to participate. \nBluegrass Jam every Thursday evening at 7:00 pm\, Greaves Auditorium.
URL:https://harmonycentre.ca/event/queens-bush-bluegrass-2-2/2027-09-09
CATEGORIES:Groups,Things to do
ATTACH;FMTTYPE=image/jpeg:https://harmonycentre.ca/wp-content/uploads/2025/01/image-6-scaled.jpeg
END:VEVENT
BEGIN:VEVENT
DTSTART;TZID=America/Toronto:20270916T190000
DTEND;TZID=America/Toronto:20270916T210000
DTSTAMP:20260422T102730
CREATED:20250903T215204Z
LAST-MODIFIED:20250903T215204Z
UID:10005182-1821121200-1821128400@harmonycentre.ca
SUMMARY:Queen's Bush Bluegrass
DESCRIPTION:Welcome to our little circle of Bluegrass enthusiasts at the beautiful Harmony Centre\, Owen Sound. Bring your acoustic instrument and your best singing voice. Join us for some fun on Thursday nights. \nThe Queen’s Bush Bluegrass Club welcomes all pickers\, singers and supporters. We meet in the round and rotate the lead so everyone has a good chance to participate. \nBluegrass Jam every Thursday evening at 7:00 pm\, Greaves Auditorium.
URL:https://harmonycentre.ca/event/queens-bush-bluegrass-2-2/2027-09-16
CATEGORIES:Groups,Things to do
ATTACH;FMTTYPE=image/jpeg:https://harmonycentre.ca/wp-content/uploads/2025/01/image-6-scaled.jpeg
END:VEVENT
BEGIN:VEVENT
DTSTART;TZID=America/Toronto:20270923T190000
DTEND;TZID=America/Toronto:20270923T210000
DTSTAMP:20260422T102730
CREATED:20250903T215204Z
LAST-MODIFIED:20250903T215204Z
UID:10005183-1821726000-1821733200@harmonycentre.ca
SUMMARY:Queen's Bush Bluegrass
DESCRIPTION:Welcome to our little circle of Bluegrass enthusiasts at the beautiful Harmony Centre\, Owen Sound. Bring your acoustic instrument and your best singing voice. Join us for some fun on Thursday nights. \nThe Queen’s Bush Bluegrass Club welcomes all pickers\, singers and supporters. We meet in the round and rotate the lead so everyone has a good chance to participate. \nBluegrass Jam every Thursday evening at 7:00 pm\, Greaves Auditorium.
URL:https://harmonycentre.ca/event/queens-bush-bluegrass-2-2/2027-09-23
CATEGORIES:Groups,Things to do
ATTACH;FMTTYPE=image/jpeg:https://harmonycentre.ca/wp-content/uploads/2025/01/image-6-scaled.jpeg
END:VEVENT
END:VCALENDAR