BEGIN:VCALENDAR
VERSION:2.0
PRODID:-//Harmony Centre Owen Sound - ECPv6.11.0.1//NONSGML v1.0//EN
CALSCALE:GREGORIAN
METHOD:PUBLISH
X-WR-CALNAME:Harmony Centre Owen Sound
X-ORIGINAL-URL:https://harmonycentre.ca
X-WR-CALDESC:Events for Harmony Centre Owen Sound
REFRESH-INTERVAL;VALUE=DURATION:PT1H
X-Robots-Tag:noindex
X-PUBLISHED-TTL:PT1H
BEGIN:VTIMEZONE
TZID:America/Toronto
BEGIN:DAYLIGHT
TZOFFSETFROM:-0500
TZOFFSETTO:-0400
TZNAME:EDT
DTSTART:20240310T070000
END:DAYLIGHT
BEGIN:STANDARD
TZOFFSETFROM:-0400
TZOFFSETTO:-0500
TZNAME:EST
DTSTART:20241103T060000
END:STANDARD
END:VTIMEZONE
BEGIN:VEVENT
DTSTART;TZID=America/Toronto:20241113T183000
DTEND;TZID=America/Toronto:20241113T203000
DTSTAMP:20260424T095415
CREATED:20240926T150246Z
LAST-MODIFIED:20240926T150247Z
UID:10002754-1731522600-1731529800@harmonycentre.ca
SUMMARY:Tai Chi Lessons
DESCRIPTION:Learn health-improving Tai Chi\, Lok hup Tai Chi Sword and Sabre as taught by Mr. Moy. Beginner classes in the Lower Hall from 6:30 to 7:30 pm and continuing classes from 7:30 until 8:30 pm. People of every age in any health condition are welcome. \nSuggested monthly dues of $35 to join the Canadian Tai Chi Academy (classes are twice a week\, Wednesday at 6:30pm and Sundays at 1pm)
URL:https://harmonycentre.ca/event/tai-chi-lessons-2/2024-11-13
CATEGORIES:Classes,Things to do
ATTACH;FMTTYPE=image/jpeg:https://harmonycentre.ca/wp-content/uploads/2024/05/Tai-Chi.jpg
ORGANIZER;CN="Tai Chi Lessons":MAILTO:ctcasaugeen@gmail.com
END:VEVENT
BEGIN:VEVENT
DTSTART;TZID=America/Toronto:20241110T130000
DTEND;TZID=America/Toronto:20241110T150000
DTSTAMP:20260424T095415
CREATED:20240926T161426Z
LAST-MODIFIED:20250903T215536Z
UID:10003563-1731243600-1731250800@harmonycentre.ca
SUMMARY:Tai Chi Lessons
DESCRIPTION:Learn health-improving Tai Chi\, Lok hup Tai Chi Sword and Sabre as taught by Mr. Moy. Beginner classes in the Lower Hall from 1pm to 2 pm and continuing classes from 2 until 3 pm. People of every age in any health condition are welcome. Enter from the green doors on 9th St E. \nSuggested monthly dues of $35 to join the Canadian Tai Chi Academy (classes are twice a week\, Wednesday at 6:30pm and Sundays at 1pm)
URL:https://harmonycentre.ca/event/tai-chi-lessons-4/2024-11-10
CATEGORIES:Classes,Things to do
ATTACH;FMTTYPE=image/jpeg:https://harmonycentre.ca/wp-content/uploads/2024/05/Tai-Chi.jpg
ORGANIZER;CN="Tai Chi Lessons":MAILTO:ctcasaugeen@gmail.com
END:VEVENT
BEGIN:VEVENT
DTSTART;TZID=America/Toronto:20241106T183000
DTEND;TZID=America/Toronto:20241106T203000
DTSTAMP:20260424T095415
CREATED:20240926T150246Z
LAST-MODIFIED:20240926T150247Z
UID:10002753-1730917800-1730925000@harmonycentre.ca
SUMMARY:Tai Chi Lessons
DESCRIPTION:Learn health-improving Tai Chi\, Lok hup Tai Chi Sword and Sabre as taught by Mr. Moy. Beginner classes in the Lower Hall from 6:30 to 7:30 pm and continuing classes from 7:30 until 8:30 pm. People of every age in any health condition are welcome. \nSuggested monthly dues of $35 to join the Canadian Tai Chi Academy (classes are twice a week\, Wednesday at 6:30pm and Sundays at 1pm)
URL:https://harmonycentre.ca/event/tai-chi-lessons-2/2024-11-06
CATEGORIES:Classes,Things to do
ATTACH;FMTTYPE=image/jpeg:https://harmonycentre.ca/wp-content/uploads/2024/05/Tai-Chi.jpg
ORGANIZER;CN="Tai Chi Lessons":MAILTO:ctcasaugeen@gmail.com
END:VEVENT
BEGIN:VEVENT
DTSTART;TZID=America/Toronto:20241103T130000
DTEND;TZID=America/Toronto:20241103T150000
DTSTAMP:20260424T095415
CREATED:20240926T161426Z
LAST-MODIFIED:20250903T215536Z
UID:10003562-1730638800-1730646000@harmonycentre.ca
SUMMARY:Tai Chi Lessons
DESCRIPTION:Learn health-improving Tai Chi\, Lok hup Tai Chi Sword and Sabre as taught by Mr. Moy. Beginner classes in the Lower Hall from 1pm to 2 pm and continuing classes from 2 until 3 pm. People of every age in any health condition are welcome. Enter from the green doors on 9th St E. \nSuggested monthly dues of $35 to join the Canadian Tai Chi Academy (classes are twice a week\, Wednesday at 6:30pm and Sundays at 1pm)
URL:https://harmonycentre.ca/event/tai-chi-lessons-4/2024-11-03
CATEGORIES:Classes,Things to do
ATTACH;FMTTYPE=image/jpeg:https://harmonycentre.ca/wp-content/uploads/2024/05/Tai-Chi.jpg
ORGANIZER;CN="Tai Chi Lessons":MAILTO:ctcasaugeen@gmail.com
END:VEVENT
BEGIN:VEVENT
DTSTART;TZID=America/Toronto:20241030T183000
DTEND;TZID=America/Toronto:20241030T203000
DTSTAMP:20260424T095415
CREATED:20240926T150246Z
LAST-MODIFIED:20240926T150247Z
UID:10002752-1730313000-1730320200@harmonycentre.ca
SUMMARY:Tai Chi Lessons
DESCRIPTION:Learn health-improving Tai Chi\, Lok hup Tai Chi Sword and Sabre as taught by Mr. Moy. Beginner classes in the Lower Hall from 6:30 to 7:30 pm and continuing classes from 7:30 until 8:30 pm. People of every age in any health condition are welcome. \nSuggested monthly dues of $35 to join the Canadian Tai Chi Academy (classes are twice a week\, Wednesday at 6:30pm and Sundays at 1pm)
URL:https://harmonycentre.ca/event/tai-chi-lessons-2/2024-10-30
CATEGORIES:Classes,Things to do
ATTACH;FMTTYPE=image/jpeg:https://harmonycentre.ca/wp-content/uploads/2024/05/Tai-Chi.jpg
ORGANIZER;CN="Tai Chi Lessons":MAILTO:ctcasaugeen@gmail.com
END:VEVENT
BEGIN:VEVENT
DTSTART;TZID=America/Toronto:20241027T130000
DTEND;TZID=America/Toronto:20241027T150000
DTSTAMP:20260424T095415
CREATED:20240926T161426Z
LAST-MODIFIED:20250903T215536Z
UID:10003561-1730034000-1730041200@harmonycentre.ca
SUMMARY:Tai Chi Lessons
DESCRIPTION:Learn health-improving Tai Chi\, Lok hup Tai Chi Sword and Sabre as taught by Mr. Moy. Beginner classes in the Lower Hall from 1pm to 2 pm and continuing classes from 2 until 3 pm. People of every age in any health condition are welcome. Enter from the green doors on 9th St E. \nSuggested monthly dues of $35 to join the Canadian Tai Chi Academy (classes are twice a week\, Wednesday at 6:30pm and Sundays at 1pm)
URL:https://harmonycentre.ca/event/tai-chi-lessons-4/2024-10-27
CATEGORIES:Classes,Things to do
ATTACH;FMTTYPE=image/jpeg:https://harmonycentre.ca/wp-content/uploads/2024/05/Tai-Chi.jpg
ORGANIZER;CN="Tai Chi Lessons":MAILTO:ctcasaugeen@gmail.com
END:VEVENT
BEGIN:VEVENT
DTSTART;TZID=America/Toronto:20241023T183000
DTEND;TZID=America/Toronto:20241023T203000
DTSTAMP:20260424T095415
CREATED:20240926T150246Z
LAST-MODIFIED:20240926T150247Z
UID:10002751-1729708200-1729715400@harmonycentre.ca
SUMMARY:Tai Chi Lessons
DESCRIPTION:Learn health-improving Tai Chi\, Lok hup Tai Chi Sword and Sabre as taught by Mr. Moy. Beginner classes in the Lower Hall from 6:30 to 7:30 pm and continuing classes from 7:30 until 8:30 pm. People of every age in any health condition are welcome. \nSuggested monthly dues of $35 to join the Canadian Tai Chi Academy (classes are twice a week\, Wednesday at 6:30pm and Sundays at 1pm)
URL:https://harmonycentre.ca/event/tai-chi-lessons-2/2024-10-23
CATEGORIES:Classes,Things to do
ATTACH;FMTTYPE=image/jpeg:https://harmonycentre.ca/wp-content/uploads/2024/05/Tai-Chi.jpg
ORGANIZER;CN="Tai Chi Lessons":MAILTO:ctcasaugeen@gmail.com
END:VEVENT
BEGIN:VEVENT
DTSTART;TZID=America/Toronto:20241020T130000
DTEND;TZID=America/Toronto:20241020T150000
DTSTAMP:20260424T095415
CREATED:20240926T161426Z
LAST-MODIFIED:20250903T215536Z
UID:10003822-1729429200-1729436400@harmonycentre.ca
SUMMARY:Tai Chi Lessons
DESCRIPTION:Learn health-improving Tai Chi\, Lok hup Tai Chi Sword and Sabre as taught by Mr. Moy. Beginner classes in the Lower Hall from 1pm to 2 pm and continuing classes from 2 until 3 pm. People of every age in any health condition are welcome. Enter from the green doors on 9th St E. \nSuggested monthly dues of $35 to join the Canadian Tai Chi Academy (classes are twice a week\, Wednesday at 6:30pm and Sundays at 1pm)
URL:https://harmonycentre.ca/event/tai-chi-lessons-4/2024-10-20
CATEGORIES:Classes,Things to do
ATTACH;FMTTYPE=image/jpeg:https://harmonycentre.ca/wp-content/uploads/2024/05/Tai-Chi.jpg
ORGANIZER;CN="Tai Chi Lessons":MAILTO:ctcasaugeen@gmail.com
END:VEVENT
BEGIN:VEVENT
DTSTART;TZID=America/Toronto:20241016T183000
DTEND;TZID=America/Toronto:20241016T203000
DTSTAMP:20260424T095416
CREATED:20240926T150246Z
LAST-MODIFIED:20240926T150247Z
UID:10002750-1729103400-1729110600@harmonycentre.ca
SUMMARY:Tai Chi Lessons
DESCRIPTION:Learn health-improving Tai Chi\, Lok hup Tai Chi Sword and Sabre as taught by Mr. Moy. Beginner classes in the Lower Hall from 6:30 to 7:30 pm and continuing classes from 7:30 until 8:30 pm. People of every age in any health condition are welcome. \nSuggested monthly dues of $35 to join the Canadian Tai Chi Academy (classes are twice a week\, Wednesday at 6:30pm and Sundays at 1pm)
URL:https://harmonycentre.ca/event/tai-chi-lessons-2/2024-10-16
CATEGORIES:Classes,Things to do
ATTACH;FMTTYPE=image/jpeg:https://harmonycentre.ca/wp-content/uploads/2024/05/Tai-Chi.jpg
ORGANIZER;CN="Tai Chi Lessons":MAILTO:ctcasaugeen@gmail.com
END:VEVENT
BEGIN:VEVENT
DTSTART;TZID=America/Toronto:20241013T130000
DTEND;TZID=America/Toronto:20241013T150000
DTSTAMP:20260424T095416
CREATED:20240926T161426Z
LAST-MODIFIED:20250903T215536Z
UID:10003821-1728824400-1728831600@harmonycentre.ca
SUMMARY:Tai Chi Lessons
DESCRIPTION:Learn health-improving Tai Chi\, Lok hup Tai Chi Sword and Sabre as taught by Mr. Moy. Beginner classes in the Lower Hall from 1pm to 2 pm and continuing classes from 2 until 3 pm. People of every age in any health condition are welcome. Enter from the green doors on 9th St E. \nSuggested monthly dues of $35 to join the Canadian Tai Chi Academy (classes are twice a week\, Wednesday at 6:30pm and Sundays at 1pm)
URL:https://harmonycentre.ca/event/tai-chi-lessons-4/2024-10-13
CATEGORIES:Classes,Things to do
ATTACH;FMTTYPE=image/jpeg:https://harmonycentre.ca/wp-content/uploads/2024/05/Tai-Chi.jpg
ORGANIZER;CN="Tai Chi Lessons":MAILTO:ctcasaugeen@gmail.com
END:VEVENT
BEGIN:VEVENT
DTSTART;TZID=America/Toronto:20241009T183000
DTEND;TZID=America/Toronto:20241009T203000
DTSTAMP:20260424T095416
CREATED:20240926T150246Z
LAST-MODIFIED:20240926T150247Z
UID:10002749-1728498600-1728505800@harmonycentre.ca
SUMMARY:Tai Chi Lessons
DESCRIPTION:Learn health-improving Tai Chi\, Lok hup Tai Chi Sword and Sabre as taught by Mr. Moy. Beginner classes in the Lower Hall from 6:30 to 7:30 pm and continuing classes from 7:30 until 8:30 pm. People of every age in any health condition are welcome. \nSuggested monthly dues of $35 to join the Canadian Tai Chi Academy (classes are twice a week\, Wednesday at 6:30pm and Sundays at 1pm)
URL:https://harmonycentre.ca/event/tai-chi-lessons-2/2024-10-09
CATEGORIES:Classes,Things to do
ATTACH;FMTTYPE=image/jpeg:https://harmonycentre.ca/wp-content/uploads/2024/05/Tai-Chi.jpg
ORGANIZER;CN="Tai Chi Lessons":MAILTO:ctcasaugeen@gmail.com
END:VEVENT
BEGIN:VEVENT
DTSTART;TZID=America/Toronto:20241006T130000
DTEND;TZID=America/Toronto:20241006T150000
DTSTAMP:20260424T095416
CREATED:20240926T161426Z
LAST-MODIFIED:20250903T215536Z
UID:10003820-1728219600-1728226800@harmonycentre.ca
SUMMARY:Tai Chi Lessons
DESCRIPTION:Learn health-improving Tai Chi\, Lok hup Tai Chi Sword and Sabre as taught by Mr. Moy. Beginner classes in the Lower Hall from 1pm to 2 pm and continuing classes from 2 until 3 pm. People of every age in any health condition are welcome. Enter from the green doors on 9th St E. \nSuggested monthly dues of $35 to join the Canadian Tai Chi Academy (classes are twice a week\, Wednesday at 6:30pm and Sundays at 1pm)
URL:https://harmonycentre.ca/event/tai-chi-lessons-4/2024-10-06
CATEGORIES:Classes,Things to do
ATTACH;FMTTYPE=image/jpeg:https://harmonycentre.ca/wp-content/uploads/2024/05/Tai-Chi.jpg
ORGANIZER;CN="Tai Chi Lessons":MAILTO:ctcasaugeen@gmail.com
END:VEVENT
BEGIN:VEVENT
DTSTART;TZID=America/Toronto:20241002T183000
DTEND;TZID=America/Toronto:20241002T203000
DTSTAMP:20260424T095416
CREATED:20240926T150246Z
LAST-MODIFIED:20240926T150247Z
UID:10002748-1727893800-1727901000@harmonycentre.ca
SUMMARY:Tai Chi Lessons
DESCRIPTION:Learn health-improving Tai Chi\, Lok hup Tai Chi Sword and Sabre as taught by Mr. Moy. Beginner classes in the Lower Hall from 6:30 to 7:30 pm and continuing classes from 7:30 until 8:30 pm. People of every age in any health condition are welcome. \nSuggested monthly dues of $35 to join the Canadian Tai Chi Academy (classes are twice a week\, Wednesday at 6:30pm and Sundays at 1pm)
URL:https://harmonycentre.ca/event/tai-chi-lessons-2/2024-10-02
CATEGORIES:Classes,Things to do
ATTACH;FMTTYPE=image/jpeg:https://harmonycentre.ca/wp-content/uploads/2024/05/Tai-Chi.jpg
ORGANIZER;CN="Tai Chi Lessons":MAILTO:ctcasaugeen@gmail.com
END:VEVENT
BEGIN:VEVENT
DTSTART;TZID=America/Toronto:20240929T130000
DTEND;TZID=America/Toronto:20240929T150000
DTSTAMP:20260424T095416
CREATED:20240926T161426Z
LAST-MODIFIED:20250903T215536Z
UID:10003819-1727614800-1727622000@harmonycentre.ca
SUMMARY:Tai Chi Lessons
DESCRIPTION:Learn health-improving Tai Chi\, Lok hup Tai Chi Sword and Sabre as taught by Mr. Moy. Beginner classes in the Lower Hall from 1pm to 2 pm and continuing classes from 2 until 3 pm. People of every age in any health condition are welcome. Enter from the green doors on 9th St E. \nSuggested monthly dues of $35 to join the Canadian Tai Chi Academy (classes are twice a week\, Wednesday at 6:30pm and Sundays at 1pm)
URL:https://harmonycentre.ca/event/tai-chi-lessons-4/2024-09-29
CATEGORIES:Classes,Things to do
ATTACH;FMTTYPE=image/jpeg:https://harmonycentre.ca/wp-content/uploads/2024/05/Tai-Chi.jpg
ORGANIZER;CN="Tai Chi Lessons":MAILTO:ctcasaugeen@gmail.com
END:VEVENT
BEGIN:VEVENT
DTSTART;TZID=America/Toronto:20240925T183000
DTEND;TZID=America/Toronto:20240925T203000
DTSTAMP:20260424T095416
CREATED:20240926T152125Z
LAST-MODIFIED:20240926T152126Z
UID:10002747-1727289000-1727296200@harmonycentre.ca
SUMMARY:Tai Chi Lessons
DESCRIPTION:Learn health-improving Tai Chi\, Lok hup Tai Chi Sword and Sabre as taught by Mr. Moy. Beginner classes in the Lower Hall from 6:30 to 7:30 pm and continuing classes from 7:30 until 8:30 pm. People of every age in any health condition are welcome. \nSuggested monthly dues of $35 to join the Canadian Tai Chi Academy (classes are twice a week\, Wednesday at 6:30pm and Sundays at 1pm).
URL:https://harmonycentre.ca/event/tai-chi-lessons-3
CATEGORIES:Classes,Things to do
ATTACH;FMTTYPE=image/jpeg:https://harmonycentre.ca/wp-content/uploads/2024/05/Tai-Chi.jpg
ORGANIZER;CN="Tai Chi Lessons":MAILTO:ctcasaugeen@gmail.com
END:VEVENT
BEGIN:VEVENT
DTSTART;TZID=America/Toronto:20240922T130000
DTEND;TZID=America/Toronto:20240922T150000
DTSTAMP:20260424T095416
CREATED:20240926T161426Z
LAST-MODIFIED:20250903T215536Z
UID:10003818-1727010000-1727017200@harmonycentre.ca
SUMMARY:Tai Chi Lessons
DESCRIPTION:Learn health-improving Tai Chi\, Lok hup Tai Chi Sword and Sabre as taught by Mr. Moy. Beginner classes in the Lower Hall from 1pm to 2 pm and continuing classes from 2 until 3 pm. People of every age in any health condition are welcome. Enter from the green doors on 9th St E. \nSuggested monthly dues of $35 to join the Canadian Tai Chi Academy (classes are twice a week\, Wednesday at 6:30pm and Sundays at 1pm)
URL:https://harmonycentre.ca/event/tai-chi-lessons-4/2024-09-22
CATEGORIES:Classes,Things to do
ATTACH;FMTTYPE=image/jpeg:https://harmonycentre.ca/wp-content/uploads/2024/05/Tai-Chi.jpg
ORGANIZER;CN="Tai Chi Lessons":MAILTO:ctcasaugeen@gmail.com
END:VEVENT
BEGIN:VEVENT
DTSTART;TZID=America/Toronto:20240918T183000
DTEND;TZID=America/Toronto:20240918T203000
DTSTAMP:20260424T095416
CREATED:20240507T154347Z
LAST-MODIFIED:20240508T125032Z
UID:10002746-1726684200-1726691400@harmonycentre.ca
SUMMARY:Tai Chi Lessons
DESCRIPTION:Learn health-improving Tai Chi\, Lok hup Tai Chi Sword and Sabre as taught by Mr. Moy. Beginner classes in the Lower Hall from 6:30 to 7:30 pm and continuing classes from 7:30 until 8:30 pm. People of every age in any health condition are welcome.
URL:https://harmonycentre.ca/event/tai-chi-lessons/2024-09-18
CATEGORIES:Classes,Things to do
ATTACH;FMTTYPE=image/jpeg:https://harmonycentre.ca/wp-content/uploads/2024/05/Tai-Chi.jpg
ORGANIZER;CN="Tai Chi Lessons":MAILTO:ctcasaugeen@gmail.com
END:VEVENT
BEGIN:VEVENT
DTSTART;TZID=America/Toronto:20240911T183000
DTEND;TZID=America/Toronto:20240911T203000
DTSTAMP:20260424T095416
CREATED:20240507T154347Z
LAST-MODIFIED:20240508T125032Z
UID:10002745-1726079400-1726086600@harmonycentre.ca
SUMMARY:Tai Chi Lessons
DESCRIPTION:Learn health-improving Tai Chi\, Lok hup Tai Chi Sword and Sabre as taught by Mr. Moy. Beginner classes in the Lower Hall from 6:30 to 7:30 pm and continuing classes from 7:30 until 8:30 pm. People of every age in any health condition are welcome.
URL:https://harmonycentre.ca/event/tai-chi-lessons/2024-09-11
CATEGORIES:Classes,Things to do
ATTACH;FMTTYPE=image/jpeg:https://harmonycentre.ca/wp-content/uploads/2024/05/Tai-Chi.jpg
ORGANIZER;CN="Tai Chi Lessons":MAILTO:ctcasaugeen@gmail.com
END:VEVENT
BEGIN:VEVENT
DTSTART;TZID=America/Toronto:20240904T183000
DTEND;TZID=America/Toronto:20240904T203000
DTSTAMP:20260424T095416
CREATED:20240507T154347Z
LAST-MODIFIED:20240508T125032Z
UID:10002744-1725474600-1725481800@harmonycentre.ca
SUMMARY:Tai Chi Lessons
DESCRIPTION:Learn health-improving Tai Chi\, Lok hup Tai Chi Sword and Sabre as taught by Mr. Moy. Beginner classes in the Lower Hall from 6:30 to 7:30 pm and continuing classes from 7:30 until 8:30 pm. People of every age in any health condition are welcome.
URL:https://harmonycentre.ca/event/tai-chi-lessons/2024-09-04
CATEGORIES:Classes,Things to do
ATTACH;FMTTYPE=image/jpeg:https://harmonycentre.ca/wp-content/uploads/2024/05/Tai-Chi.jpg
ORGANIZER;CN="Tai Chi Lessons":MAILTO:ctcasaugeen@gmail.com
END:VEVENT
BEGIN:VEVENT
DTSTART;TZID=America/Toronto:20240828T183000
DTEND;TZID=America/Toronto:20240828T203000
DTSTAMP:20260424T095416
CREATED:20240507T154347Z
LAST-MODIFIED:20240508T125032Z
UID:10002743-1724869800-1724877000@harmonycentre.ca
SUMMARY:Tai Chi Lessons
DESCRIPTION:Learn health-improving Tai Chi\, Lok hup Tai Chi Sword and Sabre as taught by Mr. Moy. Beginner classes in the Lower Hall from 6:30 to 7:30 pm and continuing classes from 7:30 until 8:30 pm. People of every age in any health condition are welcome.
URL:https://harmonycentre.ca/event/tai-chi-lessons/2024-08-28
CATEGORIES:Classes,Things to do
ATTACH;FMTTYPE=image/jpeg:https://harmonycentre.ca/wp-content/uploads/2024/05/Tai-Chi.jpg
ORGANIZER;CN="Tai Chi Lessons":MAILTO:ctcasaugeen@gmail.com
END:VEVENT
BEGIN:VEVENT
DTSTART;TZID=America/Toronto:20240821T183000
DTEND;TZID=America/Toronto:20240821T203000
DTSTAMP:20260424T095416
CREATED:20240507T154347Z
LAST-MODIFIED:20240508T125032Z
UID:10002742-1724265000-1724272200@harmonycentre.ca
SUMMARY:Tai Chi Lessons
DESCRIPTION:Learn health-improving Tai Chi\, Lok hup Tai Chi Sword and Sabre as taught by Mr. Moy. Beginner classes in the Lower Hall from 6:30 to 7:30 pm and continuing classes from 7:30 until 8:30 pm. People of every age in any health condition are welcome.
URL:https://harmonycentre.ca/event/tai-chi-lessons/2024-08-21
CATEGORIES:Classes,Things to do
ATTACH;FMTTYPE=image/jpeg:https://harmonycentre.ca/wp-content/uploads/2024/05/Tai-Chi.jpg
ORGANIZER;CN="Tai Chi Lessons":MAILTO:ctcasaugeen@gmail.com
END:VEVENT
BEGIN:VEVENT
DTSTART;TZID=America/Toronto:20240814T183000
DTEND;TZID=America/Toronto:20240814T203000
DTSTAMP:20260424T095416
CREATED:20240507T154347Z
LAST-MODIFIED:20240508T125032Z
UID:10002741-1723660200-1723667400@harmonycentre.ca
SUMMARY:Tai Chi Lessons
DESCRIPTION:Learn health-improving Tai Chi\, Lok hup Tai Chi Sword and Sabre as taught by Mr. Moy. Beginner classes in the Lower Hall from 6:30 to 7:30 pm and continuing classes from 7:30 until 8:30 pm. People of every age in any health condition are welcome.
URL:https://harmonycentre.ca/event/tai-chi-lessons/2024-08-14
CATEGORIES:Classes,Things to do
ATTACH;FMTTYPE=image/jpeg:https://harmonycentre.ca/wp-content/uploads/2024/05/Tai-Chi.jpg
ORGANIZER;CN="Tai Chi Lessons":MAILTO:ctcasaugeen@gmail.com
END:VEVENT
BEGIN:VEVENT
DTSTART;TZID=America/Toronto:20240807T183000
DTEND;TZID=America/Toronto:20240807T203000
DTSTAMP:20260424T095416
CREATED:20240507T154347Z
LAST-MODIFIED:20240508T125032Z
UID:10002740-1723055400-1723062600@harmonycentre.ca
SUMMARY:Tai Chi Lessons
DESCRIPTION:Learn health-improving Tai Chi\, Lok hup Tai Chi Sword and Sabre as taught by Mr. Moy. Beginner classes in the Lower Hall from 6:30 to 7:30 pm and continuing classes from 7:30 until 8:30 pm. People of every age in any health condition are welcome.
URL:https://harmonycentre.ca/event/tai-chi-lessons/2024-08-07
CATEGORIES:Classes,Things to do
ATTACH;FMTTYPE=image/jpeg:https://harmonycentre.ca/wp-content/uploads/2024/05/Tai-Chi.jpg
ORGANIZER;CN="Tai Chi Lessons":MAILTO:ctcasaugeen@gmail.com
END:VEVENT
BEGIN:VEVENT
DTSTART;TZID=America/Toronto:20240731T183000
DTEND;TZID=America/Toronto:20240731T203000
DTSTAMP:20260424T095416
CREATED:20240507T154347Z
LAST-MODIFIED:20240508T125032Z
UID:10002739-1722450600-1722457800@harmonycentre.ca
SUMMARY:Tai Chi Lessons
DESCRIPTION:Learn health-improving Tai Chi\, Lok hup Tai Chi Sword and Sabre as taught by Mr. Moy. Beginner classes in the Lower Hall from 6:30 to 7:30 pm and continuing classes from 7:30 until 8:30 pm. People of every age in any health condition are welcome.
URL:https://harmonycentre.ca/event/tai-chi-lessons/2024-07-31
CATEGORIES:Classes,Things to do
ATTACH;FMTTYPE=image/jpeg:https://harmonycentre.ca/wp-content/uploads/2024/05/Tai-Chi.jpg
ORGANIZER;CN="Tai Chi Lessons":MAILTO:ctcasaugeen@gmail.com
END:VEVENT
BEGIN:VEVENT
DTSTART;TZID=America/Toronto:20240724T183000
DTEND;TZID=America/Toronto:20240724T203000
DTSTAMP:20260424T095416
CREATED:20240507T154347Z
LAST-MODIFIED:20240508T125032Z
UID:10002738-1721845800-1721853000@harmonycentre.ca
SUMMARY:Tai Chi Lessons
DESCRIPTION:Learn health-improving Tai Chi\, Lok hup Tai Chi Sword and Sabre as taught by Mr. Moy. Beginner classes in the Lower Hall from 6:30 to 7:30 pm and continuing classes from 7:30 until 8:30 pm. People of every age in any health condition are welcome.
URL:https://harmonycentre.ca/event/tai-chi-lessons/2024-07-24
CATEGORIES:Classes,Things to do
ATTACH;FMTTYPE=image/jpeg:https://harmonycentre.ca/wp-content/uploads/2024/05/Tai-Chi.jpg
ORGANIZER;CN="Tai Chi Lessons":MAILTO:ctcasaugeen@gmail.com
END:VEVENT
BEGIN:VEVENT
DTSTART;TZID=America/Toronto:20240717T183000
DTEND;TZID=America/Toronto:20240717T203000
DTSTAMP:20260424T095416
CREATED:20240507T154347Z
LAST-MODIFIED:20240508T125032Z
UID:10002737-1721241000-1721248200@harmonycentre.ca
SUMMARY:Tai Chi Lessons
DESCRIPTION:Learn health-improving Tai Chi\, Lok hup Tai Chi Sword and Sabre as taught by Mr. Moy. Beginner classes in the Lower Hall from 6:30 to 7:30 pm and continuing classes from 7:30 until 8:30 pm. People of every age in any health condition are welcome.
URL:https://harmonycentre.ca/event/tai-chi-lessons/2024-07-17
CATEGORIES:Classes,Things to do
ATTACH;FMTTYPE=image/jpeg:https://harmonycentre.ca/wp-content/uploads/2024/05/Tai-Chi.jpg
ORGANIZER;CN="Tai Chi Lessons":MAILTO:ctcasaugeen@gmail.com
END:VEVENT
BEGIN:VEVENT
DTSTART;TZID=America/Toronto:20240710T183000
DTEND;TZID=America/Toronto:20240710T203000
DTSTAMP:20260424T095416
CREATED:20240507T154347Z
LAST-MODIFIED:20240508T125032Z
UID:10002736-1720636200-1720643400@harmonycentre.ca
SUMMARY:Tai Chi Lessons
DESCRIPTION:Learn health-improving Tai Chi\, Lok hup Tai Chi Sword and Sabre as taught by Mr. Moy. Beginner classes in the Lower Hall from 6:30 to 7:30 pm and continuing classes from 7:30 until 8:30 pm. People of every age in any health condition are welcome.
URL:https://harmonycentre.ca/event/tai-chi-lessons/2024-07-10
CATEGORIES:Classes,Things to do
ATTACH;FMTTYPE=image/jpeg:https://harmonycentre.ca/wp-content/uploads/2024/05/Tai-Chi.jpg
ORGANIZER;CN="Tai Chi Lessons":MAILTO:ctcasaugeen@gmail.com
END:VEVENT
BEGIN:VEVENT
DTSTART;TZID=America/Toronto:20240703T183000
DTEND;TZID=America/Toronto:20240703T203000
DTSTAMP:20260424T095416
CREATED:20240507T154347Z
LAST-MODIFIED:20240508T125032Z
UID:10002735-1720031400-1720038600@harmonycentre.ca
SUMMARY:Tai Chi Lessons
DESCRIPTION:Learn health-improving Tai Chi\, Lok hup Tai Chi Sword and Sabre as taught by Mr. Moy. Beginner classes in the Lower Hall from 6:30 to 7:30 pm and continuing classes from 7:30 until 8:30 pm. People of every age in any health condition are welcome.
URL:https://harmonycentre.ca/event/tai-chi-lessons/2024-07-03
CATEGORIES:Classes,Things to do
ATTACH;FMTTYPE=image/jpeg:https://harmonycentre.ca/wp-content/uploads/2024/05/Tai-Chi.jpg
ORGANIZER;CN="Tai Chi Lessons":MAILTO:ctcasaugeen@gmail.com
END:VEVENT
BEGIN:VEVENT
DTSTART;TZID=America/Toronto:20240626T183000
DTEND;TZID=America/Toronto:20240626T203000
DTSTAMP:20260424T095416
CREATED:20240507T154347Z
LAST-MODIFIED:20240508T125032Z
UID:10002734-1719426600-1719433800@harmonycentre.ca
SUMMARY:Tai Chi Lessons
DESCRIPTION:Learn health-improving Tai Chi\, Lok hup Tai Chi Sword and Sabre as taught by Mr. Moy. Beginner classes in the Lower Hall from 6:30 to 7:30 pm and continuing classes from 7:30 until 8:30 pm. People of every age in any health condition are welcome.
URL:https://harmonycentre.ca/event/tai-chi-lessons/2024-06-26
CATEGORIES:Classes,Things to do
ATTACH;FMTTYPE=image/jpeg:https://harmonycentre.ca/wp-content/uploads/2024/05/Tai-Chi.jpg
ORGANIZER;CN="Tai Chi Lessons":MAILTO:ctcasaugeen@gmail.com
END:VEVENT
BEGIN:VEVENT
DTSTART;TZID=America/Toronto:20240619T183000
DTEND;TZID=America/Toronto:20240619T203000
DTSTAMP:20260424T095416
CREATED:20240507T154347Z
LAST-MODIFIED:20240508T125032Z
UID:10002733-1718821800-1718829000@harmonycentre.ca
SUMMARY:Tai Chi Lessons
DESCRIPTION:Learn health-improving Tai Chi\, Lok hup Tai Chi Sword and Sabre as taught by Mr. Moy. Beginner classes in the Lower Hall from 6:30 to 7:30 pm and continuing classes from 7:30 until 8:30 pm. People of every age in any health condition are welcome.
URL:https://harmonycentre.ca/event/tai-chi-lessons/2024-06-19
CATEGORIES:Classes,Things to do
ATTACH;FMTTYPE=image/jpeg:https://harmonycentre.ca/wp-content/uploads/2024/05/Tai-Chi.jpg
ORGANIZER;CN="Tai Chi Lessons":MAILTO:ctcasaugeen@gmail.com
END:VEVENT
END:VCALENDAR