BEGIN:VCALENDAR
VERSION:2.0
PRODID:-//Harmony Centre Owen Sound - ECPv6.11.0.1//NONSGML v1.0//EN
CALSCALE:GREGORIAN
METHOD:PUBLISH
X-WR-CALNAME:Harmony Centre Owen Sound
X-ORIGINAL-URL:https://harmonycentre.ca
X-WR-CALDESC:Events for Harmony Centre Owen Sound
REFRESH-INTERVAL;VALUE=DURATION:PT1H
X-Robots-Tag:noindex
X-PUBLISHED-TTL:PT1H
BEGIN:VTIMEZONE
TZID:America/Toronto
BEGIN:DAYLIGHT
TZOFFSETFROM:-0500
TZOFFSETTO:-0400
TZNAME:EDT
DTSTART:20250309T070000
END:DAYLIGHT
BEGIN:STANDARD
TZOFFSETFROM:-0400
TZOFFSETTO:-0500
TZNAME:EST
DTSTART:20251102T060000
END:STANDARD
END:VTIMEZONE
BEGIN:VEVENT
DTSTART;TZID=America/Toronto:20251112T183000
DTEND;TZID=America/Toronto:20251112T203000
DTSTAMP:20260422T102159
CREATED:20250903T215749Z
LAST-MODIFIED:20250903T215749Z
UID:10002806-1762972200-1762979400@harmonycentre.ca
SUMMARY:Tai Chi Lessons
DESCRIPTION:Learn health-improving Tai Chi\, Lok hup Tai Chi Sword and Sabre as taught by Mr. Moy. Beginner classes in the Lower Hall on Wednesdays from 6:30 to 7:30 pm and continuing classes from 7:30 until 8:30 pm. People of every age in any health condition are welcome. \nSuggested monthly dues of $35 to join the Canadian Tai Chi Academy (classes are twice a week\, Wednesday at 6:30pm and Sundays at 1pm)
URL:https://harmonycentre.ca/event/tai-chi-lessons-2-2/2025-11-12
CATEGORIES:Classes,Things to do
ATTACH;FMTTYPE=image/jpeg:https://harmonycentre.ca/wp-content/uploads/2024/05/Tai-Chi.jpg
ORGANIZER;CN="Tai Chi Lessons":MAILTO:ctcasaugeen@gmail.com
END:VEVENT
BEGIN:VEVENT
DTSTART;TZID=America/Toronto:20251109T130000
DTEND;TZID=America/Toronto:20251109T150000
DTSTAMP:20260422T102159
CREATED:20240926T161426Z
LAST-MODIFIED:20250903T215536Z
UID:10003615-1762693200-1762700400@harmonycentre.ca
SUMMARY:Tai Chi Lessons
DESCRIPTION:Learn health-improving Tai Chi\, Lok hup Tai Chi Sword and Sabre as taught by Mr. Moy. Beginner classes in the Lower Hall from 1pm to 2 pm and continuing classes from 2 until 3 pm. People of every age in any health condition are welcome. Enter from the green doors on 9th St E. \nSuggested monthly dues of $35 to join the Canadian Tai Chi Academy (classes are twice a week\, Wednesday at 6:30pm and Sundays at 1pm)
URL:https://harmonycentre.ca/event/tai-chi-lessons-4/2025-11-09
CATEGORIES:Classes,Things to do
ATTACH;FMTTYPE=image/jpeg:https://harmonycentre.ca/wp-content/uploads/2024/05/Tai-Chi.jpg
ORGANIZER;CN="Tai Chi Lessons":MAILTO:ctcasaugeen@gmail.com
END:VEVENT
BEGIN:VEVENT
DTSTART;TZID=America/Toronto:20251105T183000
DTEND;TZID=America/Toronto:20251105T203000
DTSTAMP:20260422T102159
CREATED:20250903T215749Z
LAST-MODIFIED:20250903T215749Z
UID:10002805-1762367400-1762374600@harmonycentre.ca
SUMMARY:Tai Chi Lessons
DESCRIPTION:Learn health-improving Tai Chi\, Lok hup Tai Chi Sword and Sabre as taught by Mr. Moy. Beginner classes in the Lower Hall on Wednesdays from 6:30 to 7:30 pm and continuing classes from 7:30 until 8:30 pm. People of every age in any health condition are welcome. \nSuggested monthly dues of $35 to join the Canadian Tai Chi Academy (classes are twice a week\, Wednesday at 6:30pm and Sundays at 1pm)
URL:https://harmonycentre.ca/event/tai-chi-lessons-2-2/2025-11-05
CATEGORIES:Classes,Things to do
ATTACH;FMTTYPE=image/jpeg:https://harmonycentre.ca/wp-content/uploads/2024/05/Tai-Chi.jpg
ORGANIZER;CN="Tai Chi Lessons":MAILTO:ctcasaugeen@gmail.com
END:VEVENT
BEGIN:VEVENT
DTSTART;TZID=America/Toronto:20251102T130000
DTEND;TZID=America/Toronto:20251102T150000
DTSTAMP:20260422T102200
CREATED:20240926T161426Z
LAST-MODIFIED:20250903T215536Z
UID:10003614-1762088400-1762095600@harmonycentre.ca
SUMMARY:Tai Chi Lessons
DESCRIPTION:Learn health-improving Tai Chi\, Lok hup Tai Chi Sword and Sabre as taught by Mr. Moy. Beginner classes in the Lower Hall from 1pm to 2 pm and continuing classes from 2 until 3 pm. People of every age in any health condition are welcome. Enter from the green doors on 9th St E. \nSuggested monthly dues of $35 to join the Canadian Tai Chi Academy (classes are twice a week\, Wednesday at 6:30pm and Sundays at 1pm)
URL:https://harmonycentre.ca/event/tai-chi-lessons-4/2025-11-02
CATEGORIES:Classes,Things to do
ATTACH;FMTTYPE=image/jpeg:https://harmonycentre.ca/wp-content/uploads/2024/05/Tai-Chi.jpg
ORGANIZER;CN="Tai Chi Lessons":MAILTO:ctcasaugeen@gmail.com
END:VEVENT
BEGIN:VEVENT
DTSTART;TZID=America/Toronto:20251029T183000
DTEND;TZID=America/Toronto:20251029T203000
DTSTAMP:20260422T102200
CREATED:20250903T215749Z
LAST-MODIFIED:20250903T215749Z
UID:10002804-1761762600-1761769800@harmonycentre.ca
SUMMARY:Tai Chi Lessons
DESCRIPTION:Learn health-improving Tai Chi\, Lok hup Tai Chi Sword and Sabre as taught by Mr. Moy. Beginner classes in the Lower Hall on Wednesdays from 6:30 to 7:30 pm and continuing classes from 7:30 until 8:30 pm. People of every age in any health condition are welcome. \nSuggested monthly dues of $35 to join the Canadian Tai Chi Academy (classes are twice a week\, Wednesday at 6:30pm and Sundays at 1pm)
URL:https://harmonycentre.ca/event/tai-chi-lessons-2-2/2025-10-29
CATEGORIES:Classes,Things to do
ATTACH;FMTTYPE=image/jpeg:https://harmonycentre.ca/wp-content/uploads/2024/05/Tai-Chi.jpg
ORGANIZER;CN="Tai Chi Lessons":MAILTO:ctcasaugeen@gmail.com
END:VEVENT
BEGIN:VEVENT
DTSTART;TZID=America/Toronto:20251026T130000
DTEND;TZID=America/Toronto:20251026T150000
DTSTAMP:20260422T102200
CREATED:20240926T161426Z
LAST-MODIFIED:20250903T215536Z
UID:10003613-1761483600-1761490800@harmonycentre.ca
SUMMARY:Tai Chi Lessons
DESCRIPTION:Learn health-improving Tai Chi\, Lok hup Tai Chi Sword and Sabre as taught by Mr. Moy. Beginner classes in the Lower Hall from 1pm to 2 pm and continuing classes from 2 until 3 pm. People of every age in any health condition are welcome. Enter from the green doors on 9th St E. \nSuggested monthly dues of $35 to join the Canadian Tai Chi Academy (classes are twice a week\, Wednesday at 6:30pm and Sundays at 1pm)
URL:https://harmonycentre.ca/event/tai-chi-lessons-4/2025-10-26
CATEGORIES:Classes,Things to do
ATTACH;FMTTYPE=image/jpeg:https://harmonycentre.ca/wp-content/uploads/2024/05/Tai-Chi.jpg
ORGANIZER;CN="Tai Chi Lessons":MAILTO:ctcasaugeen@gmail.com
END:VEVENT
BEGIN:VEVENT
DTSTART;TZID=America/Toronto:20251022T183000
DTEND;TZID=America/Toronto:20251022T203000
DTSTAMP:20260422T102200
CREATED:20250903T215749Z
LAST-MODIFIED:20250903T215749Z
UID:10002803-1761157800-1761165000@harmonycentre.ca
SUMMARY:Tai Chi Lessons
DESCRIPTION:Learn health-improving Tai Chi\, Lok hup Tai Chi Sword and Sabre as taught by Mr. Moy. Beginner classes in the Lower Hall on Wednesdays from 6:30 to 7:30 pm and continuing classes from 7:30 until 8:30 pm. People of every age in any health condition are welcome. \nSuggested monthly dues of $35 to join the Canadian Tai Chi Academy (classes are twice a week\, Wednesday at 6:30pm and Sundays at 1pm)
URL:https://harmonycentre.ca/event/tai-chi-lessons-2-2/2025-10-22
CATEGORIES:Classes,Things to do
ATTACH;FMTTYPE=image/jpeg:https://harmonycentre.ca/wp-content/uploads/2024/05/Tai-Chi.jpg
ORGANIZER;CN="Tai Chi Lessons":MAILTO:ctcasaugeen@gmail.com
END:VEVENT
BEGIN:VEVENT
DTSTART;TZID=America/Toronto:20251019T130000
DTEND;TZID=America/Toronto:20251019T150000
DTSTAMP:20260422T102200
CREATED:20240926T161426Z
LAST-MODIFIED:20250903T215536Z
UID:10003612-1760878800-1760886000@harmonycentre.ca
SUMMARY:Tai Chi Lessons
DESCRIPTION:Learn health-improving Tai Chi\, Lok hup Tai Chi Sword and Sabre as taught by Mr. Moy. Beginner classes in the Lower Hall from 1pm to 2 pm and continuing classes from 2 until 3 pm. People of every age in any health condition are welcome. Enter from the green doors on 9th St E. \nSuggested monthly dues of $35 to join the Canadian Tai Chi Academy (classes are twice a week\, Wednesday at 6:30pm and Sundays at 1pm)
URL:https://harmonycentre.ca/event/tai-chi-lessons-4/2025-10-19
CATEGORIES:Classes,Things to do
ATTACH;FMTTYPE=image/jpeg:https://harmonycentre.ca/wp-content/uploads/2024/05/Tai-Chi.jpg
ORGANIZER;CN="Tai Chi Lessons":MAILTO:ctcasaugeen@gmail.com
END:VEVENT
BEGIN:VEVENT
DTSTART;TZID=America/Toronto:20251015T183000
DTEND;TZID=America/Toronto:20251015T203000
DTSTAMP:20260422T102200
CREATED:20250903T215749Z
LAST-MODIFIED:20250903T215749Z
UID:10002802-1760553000-1760560200@harmonycentre.ca
SUMMARY:Tai Chi Lessons
DESCRIPTION:Learn health-improving Tai Chi\, Lok hup Tai Chi Sword and Sabre as taught by Mr. Moy. Beginner classes in the Lower Hall on Wednesdays from 6:30 to 7:30 pm and continuing classes from 7:30 until 8:30 pm. People of every age in any health condition are welcome. \nSuggested monthly dues of $35 to join the Canadian Tai Chi Academy (classes are twice a week\, Wednesday at 6:30pm and Sundays at 1pm)
URL:https://harmonycentre.ca/event/tai-chi-lessons-2-2/2025-10-15
CATEGORIES:Classes,Things to do
ATTACH;FMTTYPE=image/jpeg:https://harmonycentre.ca/wp-content/uploads/2024/05/Tai-Chi.jpg
ORGANIZER;CN="Tai Chi Lessons":MAILTO:ctcasaugeen@gmail.com
END:VEVENT
BEGIN:VEVENT
DTSTART;TZID=America/Toronto:20251012T130000
DTEND;TZID=America/Toronto:20251012T150000
DTSTAMP:20260422T102200
CREATED:20240926T161426Z
LAST-MODIFIED:20250903T215536Z
UID:10003611-1760274000-1760281200@harmonycentre.ca
SUMMARY:Tai Chi Lessons
DESCRIPTION:Learn health-improving Tai Chi\, Lok hup Tai Chi Sword and Sabre as taught by Mr. Moy. Beginner classes in the Lower Hall from 1pm to 2 pm and continuing classes from 2 until 3 pm. People of every age in any health condition are welcome. Enter from the green doors on 9th St E. \nSuggested monthly dues of $35 to join the Canadian Tai Chi Academy (classes are twice a week\, Wednesday at 6:30pm and Sundays at 1pm)
URL:https://harmonycentre.ca/event/tai-chi-lessons-4/2025-10-12
CATEGORIES:Classes,Things to do
ATTACH;FMTTYPE=image/jpeg:https://harmonycentre.ca/wp-content/uploads/2024/05/Tai-Chi.jpg
ORGANIZER;CN="Tai Chi Lessons":MAILTO:ctcasaugeen@gmail.com
END:VEVENT
BEGIN:VEVENT
DTSTART;TZID=America/Toronto:20251008T183000
DTEND;TZID=America/Toronto:20251008T203000
DTSTAMP:20260422T102200
CREATED:20250903T215749Z
LAST-MODIFIED:20250903T215749Z
UID:10002801-1759948200-1759955400@harmonycentre.ca
SUMMARY:Tai Chi Lessons
DESCRIPTION:Learn health-improving Tai Chi\, Lok hup Tai Chi Sword and Sabre as taught by Mr. Moy. Beginner classes in the Lower Hall on Wednesdays from 6:30 to 7:30 pm and continuing classes from 7:30 until 8:30 pm. People of every age in any health condition are welcome. \nSuggested monthly dues of $35 to join the Canadian Tai Chi Academy (classes are twice a week\, Wednesday at 6:30pm and Sundays at 1pm)
URL:https://harmonycentre.ca/event/tai-chi-lessons-2-2/2025-10-08
CATEGORIES:Classes,Things to do
ATTACH;FMTTYPE=image/jpeg:https://harmonycentre.ca/wp-content/uploads/2024/05/Tai-Chi.jpg
ORGANIZER;CN="Tai Chi Lessons":MAILTO:ctcasaugeen@gmail.com
END:VEVENT
BEGIN:VEVENT
DTSTART;TZID=America/Toronto:20251005T130000
DTEND;TZID=America/Toronto:20251005T150000
DTSTAMP:20260422T102200
CREATED:20240926T161426Z
LAST-MODIFIED:20250903T215536Z
UID:10003610-1759669200-1759676400@harmonycentre.ca
SUMMARY:Tai Chi Lessons
DESCRIPTION:Learn health-improving Tai Chi\, Lok hup Tai Chi Sword and Sabre as taught by Mr. Moy. Beginner classes in the Lower Hall from 1pm to 2 pm and continuing classes from 2 until 3 pm. People of every age in any health condition are welcome. Enter from the green doors on 9th St E. \nSuggested monthly dues of $35 to join the Canadian Tai Chi Academy (classes are twice a week\, Wednesday at 6:30pm and Sundays at 1pm)
URL:https://harmonycentre.ca/event/tai-chi-lessons-4/2025-10-05
CATEGORIES:Classes,Things to do
ATTACH;FMTTYPE=image/jpeg:https://harmonycentre.ca/wp-content/uploads/2024/05/Tai-Chi.jpg
ORGANIZER;CN="Tai Chi Lessons":MAILTO:ctcasaugeen@gmail.com
END:VEVENT
BEGIN:VEVENT
DTSTART;TZID=America/Toronto:20251001T183000
DTEND;TZID=America/Toronto:20251001T203000
DTSTAMP:20260422T102200
CREATED:20250903T215749Z
LAST-MODIFIED:20250903T215749Z
UID:10002800-1759343400-1759350600@harmonycentre.ca
SUMMARY:Tai Chi Lessons
DESCRIPTION:Learn health-improving Tai Chi\, Lok hup Tai Chi Sword and Sabre as taught by Mr. Moy. Beginner classes in the Lower Hall on Wednesdays from 6:30 to 7:30 pm and continuing classes from 7:30 until 8:30 pm. People of every age in any health condition are welcome. \nSuggested monthly dues of $35 to join the Canadian Tai Chi Academy (classes are twice a week\, Wednesday at 6:30pm and Sundays at 1pm)
URL:https://harmonycentre.ca/event/tai-chi-lessons-2-2/2025-10-01
CATEGORIES:Classes,Things to do
ATTACH;FMTTYPE=image/jpeg:https://harmonycentre.ca/wp-content/uploads/2024/05/Tai-Chi.jpg
ORGANIZER;CN="Tai Chi Lessons":MAILTO:ctcasaugeen@gmail.com
END:VEVENT
BEGIN:VEVENT
DTSTART;TZID=America/Toronto:20250928T130000
DTEND;TZID=America/Toronto:20250928T150000
DTSTAMP:20260422T102200
CREATED:20240926T161426Z
LAST-MODIFIED:20250903T215536Z
UID:10003609-1759064400-1759071600@harmonycentre.ca
SUMMARY:Tai Chi Lessons
DESCRIPTION:Learn health-improving Tai Chi\, Lok hup Tai Chi Sword and Sabre as taught by Mr. Moy. Beginner classes in the Lower Hall from 1pm to 2 pm and continuing classes from 2 until 3 pm. People of every age in any health condition are welcome. Enter from the green doors on 9th St E. \nSuggested monthly dues of $35 to join the Canadian Tai Chi Academy (classes are twice a week\, Wednesday at 6:30pm and Sundays at 1pm)
URL:https://harmonycentre.ca/event/tai-chi-lessons-4/2025-09-28
CATEGORIES:Classes,Things to do
ATTACH;FMTTYPE=image/jpeg:https://harmonycentre.ca/wp-content/uploads/2024/05/Tai-Chi.jpg
ORGANIZER;CN="Tai Chi Lessons":MAILTO:ctcasaugeen@gmail.com
END:VEVENT
BEGIN:VEVENT
DTSTART;TZID=America/Toronto:20250924T183000
DTEND;TZID=America/Toronto:20250924T203000
DTSTAMP:20260422T102200
CREATED:20250903T215749Z
LAST-MODIFIED:20250903T215749Z
UID:10002799-1758738600-1758745800@harmonycentre.ca
SUMMARY:Tai Chi Lessons
DESCRIPTION:Learn health-improving Tai Chi\, Lok hup Tai Chi Sword and Sabre as taught by Mr. Moy. Beginner classes in the Lower Hall on Wednesdays from 6:30 to 7:30 pm and continuing classes from 7:30 until 8:30 pm. People of every age in any health condition are welcome. \nSuggested monthly dues of $35 to join the Canadian Tai Chi Academy (classes are twice a week\, Wednesday at 6:30pm and Sundays at 1pm)
URL:https://harmonycentre.ca/event/tai-chi-lessons-2-2/2025-09-24
CATEGORIES:Classes,Things to do
ATTACH;FMTTYPE=image/jpeg:https://harmonycentre.ca/wp-content/uploads/2024/05/Tai-Chi.jpg
ORGANIZER;CN="Tai Chi Lessons":MAILTO:ctcasaugeen@gmail.com
END:VEVENT
BEGIN:VEVENT
DTSTART;TZID=America/Toronto:20250921T130000
DTEND;TZID=America/Toronto:20250921T150000
DTSTAMP:20260422T102200
CREATED:20240926T161426Z
LAST-MODIFIED:20250903T215536Z
UID:10003608-1758459600-1758466800@harmonycentre.ca
SUMMARY:Tai Chi Lessons
DESCRIPTION:Learn health-improving Tai Chi\, Lok hup Tai Chi Sword and Sabre as taught by Mr. Moy. Beginner classes in the Lower Hall from 1pm to 2 pm and continuing classes from 2 until 3 pm. People of every age in any health condition are welcome. Enter from the green doors on 9th St E. \nSuggested monthly dues of $35 to join the Canadian Tai Chi Academy (classes are twice a week\, Wednesday at 6:30pm and Sundays at 1pm)
URL:https://harmonycentre.ca/event/tai-chi-lessons-4/2025-09-21
CATEGORIES:Classes,Things to do
ATTACH;FMTTYPE=image/jpeg:https://harmonycentre.ca/wp-content/uploads/2024/05/Tai-Chi.jpg
ORGANIZER;CN="Tai Chi Lessons":MAILTO:ctcasaugeen@gmail.com
END:VEVENT
BEGIN:VEVENT
DTSTART;TZID=America/Toronto:20250917T183000
DTEND;TZID=America/Toronto:20250917T203000
DTSTAMP:20260422T102200
CREATED:20250903T215749Z
LAST-MODIFIED:20250903T215749Z
UID:10002798-1758133800-1758141000@harmonycentre.ca
SUMMARY:Tai Chi Lessons
DESCRIPTION:Learn health-improving Tai Chi\, Lok hup Tai Chi Sword and Sabre as taught by Mr. Moy. Beginner classes in the Lower Hall on Wednesdays from 6:30 to 7:30 pm and continuing classes from 7:30 until 8:30 pm. People of every age in any health condition are welcome. \nSuggested monthly dues of $35 to join the Canadian Tai Chi Academy (classes are twice a week\, Wednesday at 6:30pm and Sundays at 1pm)
URL:https://harmonycentre.ca/event/tai-chi-lessons-2-2/2025-09-17
CATEGORIES:Classes,Things to do
ATTACH;FMTTYPE=image/jpeg:https://harmonycentre.ca/wp-content/uploads/2024/05/Tai-Chi.jpg
ORGANIZER;CN="Tai Chi Lessons":MAILTO:ctcasaugeen@gmail.com
END:VEVENT
BEGIN:VEVENT
DTSTART;TZID=America/Toronto:20250914T130000
DTEND;TZID=America/Toronto:20250914T150000
DTSTAMP:20260422T102200
CREATED:20240926T161426Z
LAST-MODIFIED:20250903T215536Z
UID:10003607-1757854800-1757862000@harmonycentre.ca
SUMMARY:Tai Chi Lessons
DESCRIPTION:Learn health-improving Tai Chi\, Lok hup Tai Chi Sword and Sabre as taught by Mr. Moy. Beginner classes in the Lower Hall from 1pm to 2 pm and continuing classes from 2 until 3 pm. People of every age in any health condition are welcome. Enter from the green doors on 9th St E. \nSuggested monthly dues of $35 to join the Canadian Tai Chi Academy (classes are twice a week\, Wednesday at 6:30pm and Sundays at 1pm)
URL:https://harmonycentre.ca/event/tai-chi-lessons-4/2025-09-14
CATEGORIES:Classes,Things to do
ATTACH;FMTTYPE=image/jpeg:https://harmonycentre.ca/wp-content/uploads/2024/05/Tai-Chi.jpg
ORGANIZER;CN="Tai Chi Lessons":MAILTO:ctcasaugeen@gmail.com
END:VEVENT
BEGIN:VEVENT
DTSTART;TZID=America/Toronto:20250910T183000
DTEND;TZID=America/Toronto:20250910T203000
DTSTAMP:20260422T102200
CREATED:20250903T215749Z
LAST-MODIFIED:20250903T215749Z
UID:10002797-1757529000-1757536200@harmonycentre.ca
SUMMARY:Tai Chi Lessons
DESCRIPTION:Learn health-improving Tai Chi\, Lok hup Tai Chi Sword and Sabre as taught by Mr. Moy. Beginner classes in the Lower Hall on Wednesdays from 6:30 to 7:30 pm and continuing classes from 7:30 until 8:30 pm. People of every age in any health condition are welcome. \nSuggested monthly dues of $35 to join the Canadian Tai Chi Academy (classes are twice a week\, Wednesday at 6:30pm and Sundays at 1pm)
URL:https://harmonycentre.ca/event/tai-chi-lessons-2-2/2025-09-10
CATEGORIES:Classes,Things to do
ATTACH;FMTTYPE=image/jpeg:https://harmonycentre.ca/wp-content/uploads/2024/05/Tai-Chi.jpg
ORGANIZER;CN="Tai Chi Lessons":MAILTO:ctcasaugeen@gmail.com
END:VEVENT
BEGIN:VEVENT
DTSTART;TZID=America/Toronto:20250907T130000
DTEND;TZID=America/Toronto:20250907T150000
DTSTAMP:20260422T102200
CREATED:20240926T161426Z
LAST-MODIFIED:20250903T215536Z
UID:10003606-1757250000-1757257200@harmonycentre.ca
SUMMARY:Tai Chi Lessons
DESCRIPTION:Learn health-improving Tai Chi\, Lok hup Tai Chi Sword and Sabre as taught by Mr. Moy. Beginner classes in the Lower Hall from 1pm to 2 pm and continuing classes from 2 until 3 pm. People of every age in any health condition are welcome. Enter from the green doors on 9th St E. \nSuggested monthly dues of $35 to join the Canadian Tai Chi Academy (classes are twice a week\, Wednesday at 6:30pm and Sundays at 1pm)
URL:https://harmonycentre.ca/event/tai-chi-lessons-4/2025-09-07
CATEGORIES:Classes,Things to do
ATTACH;FMTTYPE=image/jpeg:https://harmonycentre.ca/wp-content/uploads/2024/05/Tai-Chi.jpg
ORGANIZER;CN="Tai Chi Lessons":MAILTO:ctcasaugeen@gmail.com
END:VEVENT
BEGIN:VEVENT
DTSTART;TZID=America/Toronto:20250903T183000
DTEND;TZID=America/Toronto:20250903T203000
DTSTAMP:20260422T102200
CREATED:20250903T215749Z
LAST-MODIFIED:20250903T215749Z
UID:10002796-1756924200-1756931400@harmonycentre.ca
SUMMARY:Tai Chi Lessons
DESCRIPTION:Learn health-improving Tai Chi\, Lok hup Tai Chi Sword and Sabre as taught by Mr. Moy. Beginner classes in the Lower Hall on Wednesdays from 6:30 to 7:30 pm and continuing classes from 7:30 until 8:30 pm. People of every age in any health condition are welcome. \nSuggested monthly dues of $35 to join the Canadian Tai Chi Academy (classes are twice a week\, Wednesday at 6:30pm and Sundays at 1pm)
URL:https://harmonycentre.ca/event/tai-chi-lessons-2-2/2025-09-03
CATEGORIES:Classes,Things to do
ATTACH;FMTTYPE=image/jpeg:https://harmonycentre.ca/wp-content/uploads/2024/05/Tai-Chi.jpg
ORGANIZER;CN="Tai Chi Lessons":MAILTO:ctcasaugeen@gmail.com
END:VEVENT
BEGIN:VEVENT
DTSTART;TZID=America/Toronto:20250831T130000
DTEND;TZID=America/Toronto:20250831T150000
DTSTAMP:20260422T102200
CREATED:20240926T161426Z
LAST-MODIFIED:20250903T215536Z
UID:10003605-1756645200-1756652400@harmonycentre.ca
SUMMARY:Tai Chi Lessons
DESCRIPTION:Learn health-improving Tai Chi\, Lok hup Tai Chi Sword and Sabre as taught by Mr. Moy. Beginner classes in the Lower Hall from 1pm to 2 pm and continuing classes from 2 until 3 pm. People of every age in any health condition are welcome. Enter from the green doors on 9th St E. \nSuggested monthly dues of $35 to join the Canadian Tai Chi Academy (classes are twice a week\, Wednesday at 6:30pm and Sundays at 1pm)
URL:https://harmonycentre.ca/event/tai-chi-lessons-4/2025-08-31
CATEGORIES:Classes,Things to do
ATTACH;FMTTYPE=image/jpeg:https://harmonycentre.ca/wp-content/uploads/2024/05/Tai-Chi.jpg
ORGANIZER;CN="Tai Chi Lessons":MAILTO:ctcasaugeen@gmail.com
END:VEVENT
BEGIN:VEVENT
DTSTART;TZID=America/Toronto:20250827T183000
DTEND;TZID=America/Toronto:20250827T203000
DTSTAMP:20260422T102200
CREATED:20240926T150246Z
LAST-MODIFIED:20240926T150247Z
UID:10002795-1756319400-1756326600@harmonycentre.ca
SUMMARY:Tai Chi Lessons
DESCRIPTION:Learn health-improving Tai Chi\, Lok hup Tai Chi Sword and Sabre as taught by Mr. Moy. Beginner classes in the Lower Hall from 6:30 to 7:30 pm and continuing classes from 7:30 until 8:30 pm. People of every age in any health condition are welcome. \nSuggested monthly dues of $35 to join the Canadian Tai Chi Academy (classes are twice a week\, Wednesday at 6:30pm and Sundays at 1pm)
URL:https://harmonycentre.ca/event/tai-chi-lessons-2/2025-08-27
CATEGORIES:Classes,Things to do
ATTACH;FMTTYPE=image/jpeg:https://harmonycentre.ca/wp-content/uploads/2024/05/Tai-Chi.jpg
ORGANIZER;CN="Tai Chi Lessons":MAILTO:ctcasaugeen@gmail.com
END:VEVENT
BEGIN:VEVENT
DTSTART;TZID=America/Toronto:20250824T130000
DTEND;TZID=America/Toronto:20250824T150000
DTSTAMP:20260422T102200
CREATED:20240926T161426Z
LAST-MODIFIED:20250903T215536Z
UID:10003604-1756040400-1756047600@harmonycentre.ca
SUMMARY:Tai Chi Lessons
DESCRIPTION:Learn health-improving Tai Chi\, Lok hup Tai Chi Sword and Sabre as taught by Mr. Moy. Beginner classes in the Lower Hall from 1pm to 2 pm and continuing classes from 2 until 3 pm. People of every age in any health condition are welcome. Enter from the green doors on 9th St E. \nSuggested monthly dues of $35 to join the Canadian Tai Chi Academy (classes are twice a week\, Wednesday at 6:30pm and Sundays at 1pm)
URL:https://harmonycentre.ca/event/tai-chi-lessons-4/2025-08-24
CATEGORIES:Classes,Things to do
ATTACH;FMTTYPE=image/jpeg:https://harmonycentre.ca/wp-content/uploads/2024/05/Tai-Chi.jpg
ORGANIZER;CN="Tai Chi Lessons":MAILTO:ctcasaugeen@gmail.com
END:VEVENT
BEGIN:VEVENT
DTSTART;TZID=America/Toronto:20250820T183000
DTEND;TZID=America/Toronto:20250820T203000
DTSTAMP:20260422T102200
CREATED:20240926T150246Z
LAST-MODIFIED:20240926T150247Z
UID:10002794-1755714600-1755721800@harmonycentre.ca
SUMMARY:Tai Chi Lessons
DESCRIPTION:Learn health-improving Tai Chi\, Lok hup Tai Chi Sword and Sabre as taught by Mr. Moy. Beginner classes in the Lower Hall from 6:30 to 7:30 pm and continuing classes from 7:30 until 8:30 pm. People of every age in any health condition are welcome. \nSuggested monthly dues of $35 to join the Canadian Tai Chi Academy (classes are twice a week\, Wednesday at 6:30pm and Sundays at 1pm)
URL:https://harmonycentre.ca/event/tai-chi-lessons-2/2025-08-20
CATEGORIES:Classes,Things to do
ATTACH;FMTTYPE=image/jpeg:https://harmonycentre.ca/wp-content/uploads/2024/05/Tai-Chi.jpg
ORGANIZER;CN="Tai Chi Lessons":MAILTO:ctcasaugeen@gmail.com
END:VEVENT
BEGIN:VEVENT
DTSTART;TZID=America/Toronto:20250817T130000
DTEND;TZID=America/Toronto:20250817T150000
DTSTAMP:20260422T102200
CREATED:20240926T161426Z
LAST-MODIFIED:20250903T215536Z
UID:10003603-1755435600-1755442800@harmonycentre.ca
SUMMARY:Tai Chi Lessons
DESCRIPTION:Learn health-improving Tai Chi\, Lok hup Tai Chi Sword and Sabre as taught by Mr. Moy. Beginner classes in the Lower Hall from 1pm to 2 pm and continuing classes from 2 until 3 pm. People of every age in any health condition are welcome. Enter from the green doors on 9th St E. \nSuggested monthly dues of $35 to join the Canadian Tai Chi Academy (classes are twice a week\, Wednesday at 6:30pm and Sundays at 1pm)
URL:https://harmonycentre.ca/event/tai-chi-lessons-4/2025-08-17
CATEGORIES:Classes,Things to do
ATTACH;FMTTYPE=image/jpeg:https://harmonycentre.ca/wp-content/uploads/2024/05/Tai-Chi.jpg
ORGANIZER;CN="Tai Chi Lessons":MAILTO:ctcasaugeen@gmail.com
END:VEVENT
BEGIN:VEVENT
DTSTART;TZID=America/Toronto:20250813T183000
DTEND;TZID=America/Toronto:20250813T203000
DTSTAMP:20260422T102200
CREATED:20240926T150246Z
LAST-MODIFIED:20240926T150247Z
UID:10002793-1755109800-1755117000@harmonycentre.ca
SUMMARY:Tai Chi Lessons
DESCRIPTION:Learn health-improving Tai Chi\, Lok hup Tai Chi Sword and Sabre as taught by Mr. Moy. Beginner classes in the Lower Hall from 6:30 to 7:30 pm and continuing classes from 7:30 until 8:30 pm. People of every age in any health condition are welcome. \nSuggested monthly dues of $35 to join the Canadian Tai Chi Academy (classes are twice a week\, Wednesday at 6:30pm and Sundays at 1pm)
URL:https://harmonycentre.ca/event/tai-chi-lessons-2/2025-08-13
CATEGORIES:Classes,Things to do
ATTACH;FMTTYPE=image/jpeg:https://harmonycentre.ca/wp-content/uploads/2024/05/Tai-Chi.jpg
ORGANIZER;CN="Tai Chi Lessons":MAILTO:ctcasaugeen@gmail.com
END:VEVENT
BEGIN:VEVENT
DTSTART;TZID=America/Toronto:20250810T130000
DTEND;TZID=America/Toronto:20250810T150000
DTSTAMP:20260422T102200
CREATED:20240926T161426Z
LAST-MODIFIED:20250903T215536Z
UID:10003602-1754830800-1754838000@harmonycentre.ca
SUMMARY:Tai Chi Lessons
DESCRIPTION:Learn health-improving Tai Chi\, Lok hup Tai Chi Sword and Sabre as taught by Mr. Moy. Beginner classes in the Lower Hall from 1pm to 2 pm and continuing classes from 2 until 3 pm. People of every age in any health condition are welcome. Enter from the green doors on 9th St E. \nSuggested monthly dues of $35 to join the Canadian Tai Chi Academy (classes are twice a week\, Wednesday at 6:30pm and Sundays at 1pm)
URL:https://harmonycentre.ca/event/tai-chi-lessons-4/2025-08-10
CATEGORIES:Classes,Things to do
ATTACH;FMTTYPE=image/jpeg:https://harmonycentre.ca/wp-content/uploads/2024/05/Tai-Chi.jpg
ORGANIZER;CN="Tai Chi Lessons":MAILTO:ctcasaugeen@gmail.com
END:VEVENT
BEGIN:VEVENT
DTSTART;TZID=America/Toronto:20250806T183000
DTEND;TZID=America/Toronto:20250806T203000
DTSTAMP:20260422T102200
CREATED:20240926T150246Z
LAST-MODIFIED:20240926T150247Z
UID:10002792-1754505000-1754512200@harmonycentre.ca
SUMMARY:Tai Chi Lessons
DESCRIPTION:Learn health-improving Tai Chi\, Lok hup Tai Chi Sword and Sabre as taught by Mr. Moy. Beginner classes in the Lower Hall from 6:30 to 7:30 pm and continuing classes from 7:30 until 8:30 pm. People of every age in any health condition are welcome. \nSuggested monthly dues of $35 to join the Canadian Tai Chi Academy (classes are twice a week\, Wednesday at 6:30pm and Sundays at 1pm)
URL:https://harmonycentre.ca/event/tai-chi-lessons-2/2025-08-06
CATEGORIES:Classes,Things to do
ATTACH;FMTTYPE=image/jpeg:https://harmonycentre.ca/wp-content/uploads/2024/05/Tai-Chi.jpg
ORGANIZER;CN="Tai Chi Lessons":MAILTO:ctcasaugeen@gmail.com
END:VEVENT
BEGIN:VEVENT
DTSTART;TZID=America/Toronto:20250803T130000
DTEND;TZID=America/Toronto:20250803T150000
DTSTAMP:20260422T102200
CREATED:20240926T161426Z
LAST-MODIFIED:20250903T215536Z
UID:10003601-1754226000-1754233200@harmonycentre.ca
SUMMARY:Tai Chi Lessons
DESCRIPTION:Learn health-improving Tai Chi\, Lok hup Tai Chi Sword and Sabre as taught by Mr. Moy. Beginner classes in the Lower Hall from 1pm to 2 pm and continuing classes from 2 until 3 pm. People of every age in any health condition are welcome. Enter from the green doors on 9th St E. \nSuggested monthly dues of $35 to join the Canadian Tai Chi Academy (classes are twice a week\, Wednesday at 6:30pm and Sundays at 1pm)
URL:https://harmonycentre.ca/event/tai-chi-lessons-4/2025-08-03
CATEGORIES:Classes,Things to do
ATTACH;FMTTYPE=image/jpeg:https://harmonycentre.ca/wp-content/uploads/2024/05/Tai-Chi.jpg
ORGANIZER;CN="Tai Chi Lessons":MAILTO:ctcasaugeen@gmail.com
END:VEVENT
END:VCALENDAR