BEGIN:VCALENDAR
VERSION:2.0
PRODID:-//Harmony Centre Owen Sound - ECPv6.11.0.1//NONSGML v1.0//EN
CALSCALE:GREGORIAN
METHOD:PUBLISH
X-ORIGINAL-URL:https://harmonycentre.ca
X-WR-CALDESC:Events for Harmony Centre Owen Sound
REFRESH-INTERVAL;VALUE=DURATION:PT1H
X-Robots-Tag:noindex
X-PUBLISHED-TTL:PT1H
BEGIN:VTIMEZONE
TZID:America/Toronto
BEGIN:DAYLIGHT
TZOFFSETFROM:-0500
TZOFFSETTO:-0400
TZNAME:EDT
DTSTART:20250309T070000
END:DAYLIGHT
BEGIN:STANDARD
TZOFFSETFROM:-0400
TZOFFSETTO:-0500
TZNAME:EST
DTSTART:20251102T060000
END:STANDARD
END:VTIMEZONE
BEGIN:VEVENT
DTSTART;TZID=America/Toronto:20250730T183000
DTEND;TZID=America/Toronto:20250730T203000
DTSTAMP:20260422T134806
CREATED:20240926T150246Z
LAST-MODIFIED:20240926T150247Z
UID:10002791-1753900200-1753907400@harmonycentre.ca
SUMMARY:Tai Chi Lessons
DESCRIPTION:Learn health-improving Tai Chi\, Lok hup Tai Chi Sword and Sabre as taught by Mr. Moy. Beginner classes in the Lower Hall from 6:30 to 7:30 pm and continuing classes from 7:30 until 8:30 pm. People of every age in any health condition are welcome. \nSuggested monthly dues of $35 to join the Canadian Tai Chi Academy (classes are twice a week\, Wednesday at 6:30pm and Sundays at 1pm)
URL:https://harmonycentre.ca/event/tai-chi-lessons-2/2025-07-30
CATEGORIES:Classes,Things to do
ATTACH;FMTTYPE=image/jpeg:https://harmonycentre.ca/wp-content/uploads/2024/05/Tai-Chi.jpg
ORGANIZER;CN="Tai Chi Lessons":MAILTO:ctcasaugeen@gmail.com
END:VEVENT
BEGIN:VEVENT
DTSTART;TZID=America/Toronto:20250727T130000
DTEND;TZID=America/Toronto:20250727T150000
DTSTAMP:20260422T134806
CREATED:20240926T161426Z
LAST-MODIFIED:20250903T215536Z
UID:10003600-1753621200-1753628400@harmonycentre.ca
SUMMARY:Tai Chi Lessons
DESCRIPTION:Learn health-improving Tai Chi\, Lok hup Tai Chi Sword and Sabre as taught by Mr. Moy. Beginner classes in the Lower Hall from 1pm to 2 pm and continuing classes from 2 until 3 pm. People of every age in any health condition are welcome. Enter from the green doors on 9th St E. \nSuggested monthly dues of $35 to join the Canadian Tai Chi Academy (classes are twice a week\, Wednesday at 6:30pm and Sundays at 1pm)
URL:https://harmonycentre.ca/event/tai-chi-lessons-4/2025-07-27
CATEGORIES:Classes,Things to do
ATTACH;FMTTYPE=image/jpeg:https://harmonycentre.ca/wp-content/uploads/2024/05/Tai-Chi.jpg
ORGANIZER;CN="Tai Chi Lessons":MAILTO:ctcasaugeen@gmail.com
END:VEVENT
BEGIN:VEVENT
DTSTART;TZID=America/Toronto:20250723T183000
DTEND;TZID=America/Toronto:20250723T203000
DTSTAMP:20260422T134806
CREATED:20240926T150246Z
LAST-MODIFIED:20240926T150247Z
UID:10002790-1753295400-1753302600@harmonycentre.ca
SUMMARY:Tai Chi Lessons
DESCRIPTION:Learn health-improving Tai Chi\, Lok hup Tai Chi Sword and Sabre as taught by Mr. Moy. Beginner classes in the Lower Hall from 6:30 to 7:30 pm and continuing classes from 7:30 until 8:30 pm. People of every age in any health condition are welcome. \nSuggested monthly dues of $35 to join the Canadian Tai Chi Academy (classes are twice a week\, Wednesday at 6:30pm and Sundays at 1pm)
URL:https://harmonycentre.ca/event/tai-chi-lessons-2/2025-07-23
CATEGORIES:Classes,Things to do
ATTACH;FMTTYPE=image/jpeg:https://harmonycentre.ca/wp-content/uploads/2024/05/Tai-Chi.jpg
ORGANIZER;CN="Tai Chi Lessons":MAILTO:ctcasaugeen@gmail.com
END:VEVENT
BEGIN:VEVENT
DTSTART;TZID=America/Toronto:20250720T130000
DTEND;TZID=America/Toronto:20250720T150000
DTSTAMP:20260422T134806
CREATED:20240926T161426Z
LAST-MODIFIED:20250903T215536Z
UID:10003599-1753016400-1753023600@harmonycentre.ca
SUMMARY:Tai Chi Lessons
DESCRIPTION:Learn health-improving Tai Chi\, Lok hup Tai Chi Sword and Sabre as taught by Mr. Moy. Beginner classes in the Lower Hall from 1pm to 2 pm and continuing classes from 2 until 3 pm. People of every age in any health condition are welcome. Enter from the green doors on 9th St E. \nSuggested monthly dues of $35 to join the Canadian Tai Chi Academy (classes are twice a week\, Wednesday at 6:30pm and Sundays at 1pm)
URL:https://harmonycentre.ca/event/tai-chi-lessons-4/2025-07-20
CATEGORIES:Classes,Things to do
ATTACH;FMTTYPE=image/jpeg:https://harmonycentre.ca/wp-content/uploads/2024/05/Tai-Chi.jpg
ORGANIZER;CN="Tai Chi Lessons":MAILTO:ctcasaugeen@gmail.com
END:VEVENT
BEGIN:VEVENT
DTSTART;TZID=America/Toronto:20250716T183000
DTEND;TZID=America/Toronto:20250716T203000
DTSTAMP:20260422T134806
CREATED:20240926T150246Z
LAST-MODIFIED:20240926T150247Z
UID:10002789-1752690600-1752697800@harmonycentre.ca
SUMMARY:Tai Chi Lessons
DESCRIPTION:Learn health-improving Tai Chi\, Lok hup Tai Chi Sword and Sabre as taught by Mr. Moy. Beginner classes in the Lower Hall from 6:30 to 7:30 pm and continuing classes from 7:30 until 8:30 pm. People of every age in any health condition are welcome. \nSuggested monthly dues of $35 to join the Canadian Tai Chi Academy (classes are twice a week\, Wednesday at 6:30pm and Sundays at 1pm)
URL:https://harmonycentre.ca/event/tai-chi-lessons-2/2025-07-16
CATEGORIES:Classes,Things to do
ATTACH;FMTTYPE=image/jpeg:https://harmonycentre.ca/wp-content/uploads/2024/05/Tai-Chi.jpg
ORGANIZER;CN="Tai Chi Lessons":MAILTO:ctcasaugeen@gmail.com
END:VEVENT
BEGIN:VEVENT
DTSTART;TZID=America/Toronto:20250713T130000
DTEND;TZID=America/Toronto:20250713T150000
DTSTAMP:20260422T134806
CREATED:20240926T161426Z
LAST-MODIFIED:20250903T215536Z
UID:10003598-1752411600-1752418800@harmonycentre.ca
SUMMARY:Tai Chi Lessons
DESCRIPTION:Learn health-improving Tai Chi\, Lok hup Tai Chi Sword and Sabre as taught by Mr. Moy. Beginner classes in the Lower Hall from 1pm to 2 pm and continuing classes from 2 until 3 pm. People of every age in any health condition are welcome. Enter from the green doors on 9th St E. \nSuggested monthly dues of $35 to join the Canadian Tai Chi Academy (classes are twice a week\, Wednesday at 6:30pm and Sundays at 1pm)
URL:https://harmonycentre.ca/event/tai-chi-lessons-4/2025-07-13
CATEGORIES:Classes,Things to do
ATTACH;FMTTYPE=image/jpeg:https://harmonycentre.ca/wp-content/uploads/2024/05/Tai-Chi.jpg
ORGANIZER;CN="Tai Chi Lessons":MAILTO:ctcasaugeen@gmail.com
END:VEVENT
BEGIN:VEVENT
DTSTART;TZID=America/Toronto:20250709T183000
DTEND;TZID=America/Toronto:20250709T203000
DTSTAMP:20260422T134806
CREATED:20240926T150246Z
LAST-MODIFIED:20240926T150247Z
UID:10002788-1752085800-1752093000@harmonycentre.ca
SUMMARY:Tai Chi Lessons
DESCRIPTION:Learn health-improving Tai Chi\, Lok hup Tai Chi Sword and Sabre as taught by Mr. Moy. Beginner classes in the Lower Hall from 6:30 to 7:30 pm and continuing classes from 7:30 until 8:30 pm. People of every age in any health condition are welcome. \nSuggested monthly dues of $35 to join the Canadian Tai Chi Academy (classes are twice a week\, Wednesday at 6:30pm and Sundays at 1pm)
URL:https://harmonycentre.ca/event/tai-chi-lessons-2/2025-07-09
CATEGORIES:Classes,Things to do
ATTACH;FMTTYPE=image/jpeg:https://harmonycentre.ca/wp-content/uploads/2024/05/Tai-Chi.jpg
ORGANIZER;CN="Tai Chi Lessons":MAILTO:ctcasaugeen@gmail.com
END:VEVENT
BEGIN:VEVENT
DTSTART;TZID=America/Toronto:20250706T130000
DTEND;TZID=America/Toronto:20250706T150000
DTSTAMP:20260422T134806
CREATED:20240926T161426Z
LAST-MODIFIED:20250903T215536Z
UID:10003597-1751806800-1751814000@harmonycentre.ca
SUMMARY:Tai Chi Lessons
DESCRIPTION:Learn health-improving Tai Chi\, Lok hup Tai Chi Sword and Sabre as taught by Mr. Moy. Beginner classes in the Lower Hall from 1pm to 2 pm and continuing classes from 2 until 3 pm. People of every age in any health condition are welcome. Enter from the green doors on 9th St E. \nSuggested monthly dues of $35 to join the Canadian Tai Chi Academy (classes are twice a week\, Wednesday at 6:30pm and Sundays at 1pm)
URL:https://harmonycentre.ca/event/tai-chi-lessons-4/2025-07-06
CATEGORIES:Classes,Things to do
ATTACH;FMTTYPE=image/jpeg:https://harmonycentre.ca/wp-content/uploads/2024/05/Tai-Chi.jpg
ORGANIZER;CN="Tai Chi Lessons":MAILTO:ctcasaugeen@gmail.com
END:VEVENT
BEGIN:VEVENT
DTSTART;TZID=America/Toronto:20250702T183000
DTEND;TZID=America/Toronto:20250702T203000
DTSTAMP:20260422T134806
CREATED:20240926T150246Z
LAST-MODIFIED:20240926T150247Z
UID:10002787-1751481000-1751488200@harmonycentre.ca
SUMMARY:Tai Chi Lessons
DESCRIPTION:Learn health-improving Tai Chi\, Lok hup Tai Chi Sword and Sabre as taught by Mr. Moy. Beginner classes in the Lower Hall from 6:30 to 7:30 pm and continuing classes from 7:30 until 8:30 pm. People of every age in any health condition are welcome. \nSuggested monthly dues of $35 to join the Canadian Tai Chi Academy (classes are twice a week\, Wednesday at 6:30pm and Sundays at 1pm)
URL:https://harmonycentre.ca/event/tai-chi-lessons-2/2025-07-02
CATEGORIES:Classes,Things to do
ATTACH;FMTTYPE=image/jpeg:https://harmonycentre.ca/wp-content/uploads/2024/05/Tai-Chi.jpg
ORGANIZER;CN="Tai Chi Lessons":MAILTO:ctcasaugeen@gmail.com
END:VEVENT
BEGIN:VEVENT
DTSTART;TZID=America/Toronto:20250629T130000
DTEND;TZID=America/Toronto:20250629T150000
DTSTAMP:20260422T134807
CREATED:20240926T161426Z
LAST-MODIFIED:20250903T215536Z
UID:10003596-1751202000-1751209200@harmonycentre.ca
SUMMARY:Tai Chi Lessons
DESCRIPTION:Learn health-improving Tai Chi\, Lok hup Tai Chi Sword and Sabre as taught by Mr. Moy. Beginner classes in the Lower Hall from 1pm to 2 pm and continuing classes from 2 until 3 pm. People of every age in any health condition are welcome. Enter from the green doors on 9th St E. \nSuggested monthly dues of $35 to join the Canadian Tai Chi Academy (classes are twice a week\, Wednesday at 6:30pm and Sundays at 1pm)
URL:https://harmonycentre.ca/event/tai-chi-lessons-4/2025-06-29
CATEGORIES:Classes,Things to do
ATTACH;FMTTYPE=image/jpeg:https://harmonycentre.ca/wp-content/uploads/2024/05/Tai-Chi.jpg
ORGANIZER;CN="Tai Chi Lessons":MAILTO:ctcasaugeen@gmail.com
END:VEVENT
BEGIN:VEVENT
DTSTART;TZID=America/Toronto:20250625T183000
DTEND;TZID=America/Toronto:20250625T203000
DTSTAMP:20260422T134807
CREATED:20240926T150246Z
LAST-MODIFIED:20240926T150247Z
UID:10002786-1750876200-1750883400@harmonycentre.ca
SUMMARY:Tai Chi Lessons
DESCRIPTION:Learn health-improving Tai Chi\, Lok hup Tai Chi Sword and Sabre as taught by Mr. Moy. Beginner classes in the Lower Hall from 6:30 to 7:30 pm and continuing classes from 7:30 until 8:30 pm. People of every age in any health condition are welcome. \nSuggested monthly dues of $35 to join the Canadian Tai Chi Academy (classes are twice a week\, Wednesday at 6:30pm and Sundays at 1pm)
URL:https://harmonycentre.ca/event/tai-chi-lessons-2/2025-06-25
CATEGORIES:Classes,Things to do
ATTACH;FMTTYPE=image/jpeg:https://harmonycentre.ca/wp-content/uploads/2024/05/Tai-Chi.jpg
ORGANIZER;CN="Tai Chi Lessons":MAILTO:ctcasaugeen@gmail.com
END:VEVENT
BEGIN:VEVENT
DTSTART;TZID=America/Toronto:20250622T130000
DTEND;TZID=America/Toronto:20250622T150000
DTSTAMP:20260422T134807
CREATED:20240926T161426Z
LAST-MODIFIED:20250903T215536Z
UID:10003595-1750597200-1750604400@harmonycentre.ca
SUMMARY:Tai Chi Lessons
DESCRIPTION:Learn health-improving Tai Chi\, Lok hup Tai Chi Sword and Sabre as taught by Mr. Moy. Beginner classes in the Lower Hall from 1pm to 2 pm and continuing classes from 2 until 3 pm. People of every age in any health condition are welcome. Enter from the green doors on 9th St E. \nSuggested monthly dues of $35 to join the Canadian Tai Chi Academy (classes are twice a week\, Wednesday at 6:30pm and Sundays at 1pm)
URL:https://harmonycentre.ca/event/tai-chi-lessons-4/2025-06-22
CATEGORIES:Classes,Things to do
ATTACH;FMTTYPE=image/jpeg:https://harmonycentre.ca/wp-content/uploads/2024/05/Tai-Chi.jpg
ORGANIZER;CN="Tai Chi Lessons":MAILTO:ctcasaugeen@gmail.com
END:VEVENT
BEGIN:VEVENT
DTSTART;TZID=America/Toronto:20250618T183000
DTEND;TZID=America/Toronto:20250618T203000
DTSTAMP:20260422T134807
CREATED:20240926T150246Z
LAST-MODIFIED:20240926T150247Z
UID:10002785-1750271400-1750278600@harmonycentre.ca
SUMMARY:Tai Chi Lessons
DESCRIPTION:Learn health-improving Tai Chi\, Lok hup Tai Chi Sword and Sabre as taught by Mr. Moy. Beginner classes in the Lower Hall from 6:30 to 7:30 pm and continuing classes from 7:30 until 8:30 pm. People of every age in any health condition are welcome. \nSuggested monthly dues of $35 to join the Canadian Tai Chi Academy (classes are twice a week\, Wednesday at 6:30pm and Sundays at 1pm)
URL:https://harmonycentre.ca/event/tai-chi-lessons-2/2025-06-18
CATEGORIES:Classes,Things to do
ATTACH;FMTTYPE=image/jpeg:https://harmonycentre.ca/wp-content/uploads/2024/05/Tai-Chi.jpg
ORGANIZER;CN="Tai Chi Lessons":MAILTO:ctcasaugeen@gmail.com
END:VEVENT
BEGIN:VEVENT
DTSTART;TZID=America/Toronto:20250615T130000
DTEND;TZID=America/Toronto:20250615T150000
DTSTAMP:20260422T134807
CREATED:20240926T161426Z
LAST-MODIFIED:20250903T215536Z
UID:10003594-1749992400-1749999600@harmonycentre.ca
SUMMARY:Tai Chi Lessons
DESCRIPTION:Learn health-improving Tai Chi\, Lok hup Tai Chi Sword and Sabre as taught by Mr. Moy. Beginner classes in the Lower Hall from 1pm to 2 pm and continuing classes from 2 until 3 pm. People of every age in any health condition are welcome. Enter from the green doors on 9th St E. \nSuggested monthly dues of $35 to join the Canadian Tai Chi Academy (classes are twice a week\, Wednesday at 6:30pm and Sundays at 1pm)
URL:https://harmonycentre.ca/event/tai-chi-lessons-4/2025-06-15
CATEGORIES:Classes,Things to do
ATTACH;FMTTYPE=image/jpeg:https://harmonycentre.ca/wp-content/uploads/2024/05/Tai-Chi.jpg
ORGANIZER;CN="Tai Chi Lessons":MAILTO:ctcasaugeen@gmail.com
END:VEVENT
BEGIN:VEVENT
DTSTART;TZID=America/Toronto:20250611T183000
DTEND;TZID=America/Toronto:20250611T203000
DTSTAMP:20260422T134807
CREATED:20240926T150246Z
LAST-MODIFIED:20240926T150247Z
UID:10002784-1749666600-1749673800@harmonycentre.ca
SUMMARY:Tai Chi Lessons
DESCRIPTION:Learn health-improving Tai Chi\, Lok hup Tai Chi Sword and Sabre as taught by Mr. Moy. Beginner classes in the Lower Hall from 6:30 to 7:30 pm and continuing classes from 7:30 until 8:30 pm. People of every age in any health condition are welcome. \nSuggested monthly dues of $35 to join the Canadian Tai Chi Academy (classes are twice a week\, Wednesday at 6:30pm and Sundays at 1pm)
URL:https://harmonycentre.ca/event/tai-chi-lessons-2/2025-06-11
CATEGORIES:Classes,Things to do
ATTACH;FMTTYPE=image/jpeg:https://harmonycentre.ca/wp-content/uploads/2024/05/Tai-Chi.jpg
ORGANIZER;CN="Tai Chi Lessons":MAILTO:ctcasaugeen@gmail.com
END:VEVENT
BEGIN:VEVENT
DTSTART;TZID=America/Toronto:20250608T130000
DTEND;TZID=America/Toronto:20250608T150000
DTSTAMP:20260422T134807
CREATED:20240926T161426Z
LAST-MODIFIED:20250903T215536Z
UID:10003593-1749387600-1749394800@harmonycentre.ca
SUMMARY:Tai Chi Lessons
DESCRIPTION:Learn health-improving Tai Chi\, Lok hup Tai Chi Sword and Sabre as taught by Mr. Moy. Beginner classes in the Lower Hall from 1pm to 2 pm and continuing classes from 2 until 3 pm. People of every age in any health condition are welcome. Enter from the green doors on 9th St E. \nSuggested monthly dues of $35 to join the Canadian Tai Chi Academy (classes are twice a week\, Wednesday at 6:30pm and Sundays at 1pm)
URL:https://harmonycentre.ca/event/tai-chi-lessons-4/2025-06-08
CATEGORIES:Classes,Things to do
ATTACH;FMTTYPE=image/jpeg:https://harmonycentre.ca/wp-content/uploads/2024/05/Tai-Chi.jpg
ORGANIZER;CN="Tai Chi Lessons":MAILTO:ctcasaugeen@gmail.com
END:VEVENT
BEGIN:VEVENT
DTSTART;TZID=America/Toronto:20250604T183000
DTEND;TZID=America/Toronto:20250604T203000
DTSTAMP:20260422T134807
CREATED:20240926T150246Z
LAST-MODIFIED:20240926T150247Z
UID:10002783-1749061800-1749069000@harmonycentre.ca
SUMMARY:Tai Chi Lessons
DESCRIPTION:Learn health-improving Tai Chi\, Lok hup Tai Chi Sword and Sabre as taught by Mr. Moy. Beginner classes in the Lower Hall from 6:30 to 7:30 pm and continuing classes from 7:30 until 8:30 pm. People of every age in any health condition are welcome. \nSuggested monthly dues of $35 to join the Canadian Tai Chi Academy (classes are twice a week\, Wednesday at 6:30pm and Sundays at 1pm)
URL:https://harmonycentre.ca/event/tai-chi-lessons-2/2025-06-04
CATEGORIES:Classes,Things to do
ATTACH;FMTTYPE=image/jpeg:https://harmonycentre.ca/wp-content/uploads/2024/05/Tai-Chi.jpg
ORGANIZER;CN="Tai Chi Lessons":MAILTO:ctcasaugeen@gmail.com
END:VEVENT
BEGIN:VEVENT
DTSTART;TZID=America/Toronto:20250601T130000
DTEND;TZID=America/Toronto:20250601T150000
DTSTAMP:20260422T134807
CREATED:20240926T161426Z
LAST-MODIFIED:20250903T215536Z
UID:10003592-1748782800-1748790000@harmonycentre.ca
SUMMARY:Tai Chi Lessons
DESCRIPTION:Learn health-improving Tai Chi\, Lok hup Tai Chi Sword and Sabre as taught by Mr. Moy. Beginner classes in the Lower Hall from 1pm to 2 pm and continuing classes from 2 until 3 pm. People of every age in any health condition are welcome. Enter from the green doors on 9th St E. \nSuggested monthly dues of $35 to join the Canadian Tai Chi Academy (classes are twice a week\, Wednesday at 6:30pm and Sundays at 1pm)
URL:https://harmonycentre.ca/event/tai-chi-lessons-4/2025-06-01
CATEGORIES:Classes,Things to do
ATTACH;FMTTYPE=image/jpeg:https://harmonycentre.ca/wp-content/uploads/2024/05/Tai-Chi.jpg
ORGANIZER;CN="Tai Chi Lessons":MAILTO:ctcasaugeen@gmail.com
END:VEVENT
BEGIN:VEVENT
DTSTART;TZID=America/Toronto:20250528T183000
DTEND;TZID=America/Toronto:20250528T203000
DTSTAMP:20260422T134807
CREATED:20240926T150246Z
LAST-MODIFIED:20240926T150247Z
UID:10002782-1748457000-1748464200@harmonycentre.ca
SUMMARY:Tai Chi Lessons
DESCRIPTION:Learn health-improving Tai Chi\, Lok hup Tai Chi Sword and Sabre as taught by Mr. Moy. Beginner classes in the Lower Hall from 6:30 to 7:30 pm and continuing classes from 7:30 until 8:30 pm. People of every age in any health condition are welcome. \nSuggested monthly dues of $35 to join the Canadian Tai Chi Academy (classes are twice a week\, Wednesday at 6:30pm and Sundays at 1pm)
URL:https://harmonycentre.ca/event/tai-chi-lessons-2/2025-05-28
CATEGORIES:Classes,Things to do
ATTACH;FMTTYPE=image/jpeg:https://harmonycentre.ca/wp-content/uploads/2024/05/Tai-Chi.jpg
ORGANIZER;CN="Tai Chi Lessons":MAILTO:ctcasaugeen@gmail.com
END:VEVENT
BEGIN:VEVENT
DTSTART;TZID=America/Toronto:20250525T130000
DTEND;TZID=America/Toronto:20250525T150000
DTSTAMP:20260422T134807
CREATED:20240926T161426Z
LAST-MODIFIED:20250903T215536Z
UID:10003591-1748178000-1748185200@harmonycentre.ca
SUMMARY:Tai Chi Lessons
DESCRIPTION:Learn health-improving Tai Chi\, Lok hup Tai Chi Sword and Sabre as taught by Mr. Moy. Beginner classes in the Lower Hall from 1pm to 2 pm and continuing classes from 2 until 3 pm. People of every age in any health condition are welcome. Enter from the green doors on 9th St E. \nSuggested monthly dues of $35 to join the Canadian Tai Chi Academy (classes are twice a week\, Wednesday at 6:30pm and Sundays at 1pm)
URL:https://harmonycentre.ca/event/tai-chi-lessons-4/2025-05-25
CATEGORIES:Classes,Things to do
ATTACH;FMTTYPE=image/jpeg:https://harmonycentre.ca/wp-content/uploads/2024/05/Tai-Chi.jpg
ORGANIZER;CN="Tai Chi Lessons":MAILTO:ctcasaugeen@gmail.com
END:VEVENT
BEGIN:VEVENT
DTSTART;TZID=America/Toronto:20250521T183000
DTEND;TZID=America/Toronto:20250521T203000
DTSTAMP:20260422T134807
CREATED:20240926T150246Z
LAST-MODIFIED:20240926T150247Z
UID:10002781-1747852200-1747859400@harmonycentre.ca
SUMMARY:Tai Chi Lessons
DESCRIPTION:Learn health-improving Tai Chi\, Lok hup Tai Chi Sword and Sabre as taught by Mr. Moy. Beginner classes in the Lower Hall from 6:30 to 7:30 pm and continuing classes from 7:30 until 8:30 pm. People of every age in any health condition are welcome. \nSuggested monthly dues of $35 to join the Canadian Tai Chi Academy (classes are twice a week\, Wednesday at 6:30pm and Sundays at 1pm)
URL:https://harmonycentre.ca/event/tai-chi-lessons-2/2025-05-21
CATEGORIES:Classes,Things to do
ATTACH;FMTTYPE=image/jpeg:https://harmonycentre.ca/wp-content/uploads/2024/05/Tai-Chi.jpg
ORGANIZER;CN="Tai Chi Lessons":MAILTO:ctcasaugeen@gmail.com
END:VEVENT
BEGIN:VEVENT
DTSTART;TZID=America/Toronto:20250518T130000
DTEND;TZID=America/Toronto:20250518T150000
DTSTAMP:20260422T134807
CREATED:20240926T161426Z
LAST-MODIFIED:20250903T215536Z
UID:10003590-1747573200-1747580400@harmonycentre.ca
SUMMARY:Tai Chi Lessons
DESCRIPTION:Learn health-improving Tai Chi\, Lok hup Tai Chi Sword and Sabre as taught by Mr. Moy. Beginner classes in the Lower Hall from 1pm to 2 pm and continuing classes from 2 until 3 pm. People of every age in any health condition are welcome. Enter from the green doors on 9th St E. \nSuggested monthly dues of $35 to join the Canadian Tai Chi Academy (classes are twice a week\, Wednesday at 6:30pm and Sundays at 1pm)
URL:https://harmonycentre.ca/event/tai-chi-lessons-4/2025-05-18
CATEGORIES:Classes,Things to do
ATTACH;FMTTYPE=image/jpeg:https://harmonycentre.ca/wp-content/uploads/2024/05/Tai-Chi.jpg
ORGANIZER;CN="Tai Chi Lessons":MAILTO:ctcasaugeen@gmail.com
END:VEVENT
BEGIN:VEVENT
DTSTART;TZID=America/Toronto:20250514T183000
DTEND;TZID=America/Toronto:20250514T203000
DTSTAMP:20260422T134807
CREATED:20240926T150246Z
LAST-MODIFIED:20240926T150247Z
UID:10002780-1747247400-1747254600@harmonycentre.ca
SUMMARY:Tai Chi Lessons
DESCRIPTION:Learn health-improving Tai Chi\, Lok hup Tai Chi Sword and Sabre as taught by Mr. Moy. Beginner classes in the Lower Hall from 6:30 to 7:30 pm and continuing classes from 7:30 until 8:30 pm. People of every age in any health condition are welcome. \nSuggested monthly dues of $35 to join the Canadian Tai Chi Academy (classes are twice a week\, Wednesday at 6:30pm and Sundays at 1pm)
URL:https://harmonycentre.ca/event/tai-chi-lessons-2/2025-05-14
CATEGORIES:Classes,Things to do
ATTACH;FMTTYPE=image/jpeg:https://harmonycentre.ca/wp-content/uploads/2024/05/Tai-Chi.jpg
ORGANIZER;CN="Tai Chi Lessons":MAILTO:ctcasaugeen@gmail.com
END:VEVENT
BEGIN:VEVENT
DTSTART;TZID=America/Toronto:20250511T130000
DTEND;TZID=America/Toronto:20250511T150000
DTSTAMP:20260422T134807
CREATED:20240926T161426Z
LAST-MODIFIED:20250903T215536Z
UID:10003589-1746968400-1746975600@harmonycentre.ca
SUMMARY:Tai Chi Lessons
DESCRIPTION:Learn health-improving Tai Chi\, Lok hup Tai Chi Sword and Sabre as taught by Mr. Moy. Beginner classes in the Lower Hall from 1pm to 2 pm and continuing classes from 2 until 3 pm. People of every age in any health condition are welcome. Enter from the green doors on 9th St E. \nSuggested monthly dues of $35 to join the Canadian Tai Chi Academy (classes are twice a week\, Wednesday at 6:30pm and Sundays at 1pm)
URL:https://harmonycentre.ca/event/tai-chi-lessons-4/2025-05-11
CATEGORIES:Classes,Things to do
ATTACH;FMTTYPE=image/jpeg:https://harmonycentre.ca/wp-content/uploads/2024/05/Tai-Chi.jpg
ORGANIZER;CN="Tai Chi Lessons":MAILTO:ctcasaugeen@gmail.com
END:VEVENT
BEGIN:VEVENT
DTSTART;TZID=America/Toronto:20250507T183000
DTEND;TZID=America/Toronto:20250507T203000
DTSTAMP:20260422T134807
CREATED:20240926T150246Z
LAST-MODIFIED:20240926T150247Z
UID:10002779-1746642600-1746649800@harmonycentre.ca
SUMMARY:Tai Chi Lessons
DESCRIPTION:Learn health-improving Tai Chi\, Lok hup Tai Chi Sword and Sabre as taught by Mr. Moy. Beginner classes in the Lower Hall from 6:30 to 7:30 pm and continuing classes from 7:30 until 8:30 pm. People of every age in any health condition are welcome. \nSuggested monthly dues of $35 to join the Canadian Tai Chi Academy (classes are twice a week\, Wednesday at 6:30pm and Sundays at 1pm)
URL:https://harmonycentre.ca/event/tai-chi-lessons-2/2025-05-07
CATEGORIES:Classes,Things to do
ATTACH;FMTTYPE=image/jpeg:https://harmonycentre.ca/wp-content/uploads/2024/05/Tai-Chi.jpg
ORGANIZER;CN="Tai Chi Lessons":MAILTO:ctcasaugeen@gmail.com
END:VEVENT
BEGIN:VEVENT
DTSTART;TZID=America/Toronto:20250504T130000
DTEND;TZID=America/Toronto:20250504T150000
DTSTAMP:20260422T134807
CREATED:20240926T161426Z
LAST-MODIFIED:20250903T215536Z
UID:10003588-1746363600-1746370800@harmonycentre.ca
SUMMARY:Tai Chi Lessons
DESCRIPTION:Learn health-improving Tai Chi\, Lok hup Tai Chi Sword and Sabre as taught by Mr. Moy. Beginner classes in the Lower Hall from 1pm to 2 pm and continuing classes from 2 until 3 pm. People of every age in any health condition are welcome. Enter from the green doors on 9th St E. \nSuggested monthly dues of $35 to join the Canadian Tai Chi Academy (classes are twice a week\, Wednesday at 6:30pm and Sundays at 1pm)
URL:https://harmonycentre.ca/event/tai-chi-lessons-4/2025-05-04
CATEGORIES:Classes,Things to do
ATTACH;FMTTYPE=image/jpeg:https://harmonycentre.ca/wp-content/uploads/2024/05/Tai-Chi.jpg
ORGANIZER;CN="Tai Chi Lessons":MAILTO:ctcasaugeen@gmail.com
END:VEVENT
BEGIN:VEVENT
DTSTART;TZID=America/Toronto:20250430T183000
DTEND;TZID=America/Toronto:20250430T203000
DTSTAMP:20260422T134807
CREATED:20240926T150246Z
LAST-MODIFIED:20240926T150247Z
UID:10002778-1746037800-1746045000@harmonycentre.ca
SUMMARY:Tai Chi Lessons
DESCRIPTION:Learn health-improving Tai Chi\, Lok hup Tai Chi Sword and Sabre as taught by Mr. Moy. Beginner classes in the Lower Hall from 6:30 to 7:30 pm and continuing classes from 7:30 until 8:30 pm. People of every age in any health condition are welcome. \nSuggested monthly dues of $35 to join the Canadian Tai Chi Academy (classes are twice a week\, Wednesday at 6:30pm and Sundays at 1pm)
URL:https://harmonycentre.ca/event/tai-chi-lessons-2/2025-04-30
CATEGORIES:Classes,Things to do
ATTACH;FMTTYPE=image/jpeg:https://harmonycentre.ca/wp-content/uploads/2024/05/Tai-Chi.jpg
ORGANIZER;CN="Tai Chi Lessons":MAILTO:ctcasaugeen@gmail.com
END:VEVENT
BEGIN:VEVENT
DTSTART;TZID=America/Toronto:20250427T130000
DTEND;TZID=America/Toronto:20250427T150000
DTSTAMP:20260422T134807
CREATED:20240926T161426Z
LAST-MODIFIED:20250903T215536Z
UID:10003587-1745758800-1745766000@harmonycentre.ca
SUMMARY:Tai Chi Lessons
DESCRIPTION:Learn health-improving Tai Chi\, Lok hup Tai Chi Sword and Sabre as taught by Mr. Moy. Beginner classes in the Lower Hall from 1pm to 2 pm and continuing classes from 2 until 3 pm. People of every age in any health condition are welcome. Enter from the green doors on 9th St E. \nSuggested monthly dues of $35 to join the Canadian Tai Chi Academy (classes are twice a week\, Wednesday at 6:30pm and Sundays at 1pm)
URL:https://harmonycentre.ca/event/tai-chi-lessons-4/2025-04-27
CATEGORIES:Classes,Things to do
ATTACH;FMTTYPE=image/jpeg:https://harmonycentre.ca/wp-content/uploads/2024/05/Tai-Chi.jpg
ORGANIZER;CN="Tai Chi Lessons":MAILTO:ctcasaugeen@gmail.com
END:VEVENT
BEGIN:VEVENT
DTSTART;TZID=America/Toronto:20250423T183000
DTEND;TZID=America/Toronto:20250423T203000
DTSTAMP:20260422T134807
CREATED:20240926T150246Z
LAST-MODIFIED:20240926T150247Z
UID:10002777-1745433000-1745440200@harmonycentre.ca
SUMMARY:Tai Chi Lessons
DESCRIPTION:Learn health-improving Tai Chi\, Lok hup Tai Chi Sword and Sabre as taught by Mr. Moy. Beginner classes in the Lower Hall from 6:30 to 7:30 pm and continuing classes from 7:30 until 8:30 pm. People of every age in any health condition are welcome. \nSuggested monthly dues of $35 to join the Canadian Tai Chi Academy (classes are twice a week\, Wednesday at 6:30pm and Sundays at 1pm)
URL:https://harmonycentre.ca/event/tai-chi-lessons-2/2025-04-23
CATEGORIES:Classes,Things to do
ATTACH;FMTTYPE=image/jpeg:https://harmonycentre.ca/wp-content/uploads/2024/05/Tai-Chi.jpg
ORGANIZER;CN="Tai Chi Lessons":MAILTO:ctcasaugeen@gmail.com
END:VEVENT
BEGIN:VEVENT
DTSTART;TZID=America/Toronto:20250420T130000
DTEND;TZID=America/Toronto:20250420T150000
DTSTAMP:20260422T134807
CREATED:20240926T161426Z
LAST-MODIFIED:20250903T215536Z
UID:10003586-1745154000-1745161200@harmonycentre.ca
SUMMARY:Tai Chi Lessons
DESCRIPTION:Learn health-improving Tai Chi\, Lok hup Tai Chi Sword and Sabre as taught by Mr. Moy. Beginner classes in the Lower Hall from 1pm to 2 pm and continuing classes from 2 until 3 pm. People of every age in any health condition are welcome. Enter from the green doors on 9th St E. \nSuggested monthly dues of $35 to join the Canadian Tai Chi Academy (classes are twice a week\, Wednesday at 6:30pm and Sundays at 1pm)
URL:https://harmonycentre.ca/event/tai-chi-lessons-4/2025-04-20
CATEGORIES:Classes,Things to do
ATTACH;FMTTYPE=image/jpeg:https://harmonycentre.ca/wp-content/uploads/2024/05/Tai-Chi.jpg
ORGANIZER;CN="Tai Chi Lessons":MAILTO:ctcasaugeen@gmail.com
END:VEVENT
END:VCALENDAR